BEGIN:VCALENDAR
VERSION:2.0
PRODID:-//Craiova Live - ECPv6.15.18//NONSGML v1.0//EN
CALSCALE:GREGORIAN
METHOD:PUBLISH
X-ORIGINAL-URL:https://craiovalive.ro
X-WR-CALDESC:Evenimente pentru Craiova Live
REFRESH-INTERVAL;VALUE=DURATION:PT1H
X-Robots-Tag:noindex
X-PUBLISHED-TTL:PT1H
BEGIN:VTIMEZONE
TZID:Europe/Bucharest
BEGIN:DAYLIGHT
TZOFFSETFROM:+0200
TZOFFSETTO:+0300
TZNAME:EEST
DTSTART:20240331T010000
END:DAYLIGHT
BEGIN:STANDARD
TZOFFSETFROM:+0300
TZOFFSETTO:+0200
TZNAME:EET
DTSTART:20241027T010000
END:STANDARD
BEGIN:DAYLIGHT
TZOFFSETFROM:+0200
TZOFFSETTO:+0300
TZNAME:EEST
DTSTART:20250330T010000
END:DAYLIGHT
BEGIN:STANDARD
TZOFFSETFROM:+0300
TZOFFSETTO:+0200
TZNAME:EET
DTSTART:20251026T010000
END:STANDARD
BEGIN:DAYLIGHT
TZOFFSETFROM:+0200
TZOFFSETTO:+0300
TZNAME:EEST
DTSTART:20260329T010000
END:DAYLIGHT
BEGIN:STANDARD
TZOFFSETFROM:+0300
TZOFFSETTO:+0200
TZNAME:EET
DTSTART:20261025T010000
END:STANDARD
BEGIN:DAYLIGHT
TZOFFSETFROM:+0200
TZOFFSETTO:+0300
TZNAME:EEST
DTSTART:20270328T010000
END:DAYLIGHT
BEGIN:STANDARD
TZOFFSETFROM:+0300
TZOFFSETTO:+0200
TZNAME:EET
DTSTART:20271031T010000
END:STANDARD
END:VTIMEZONE
BEGIN:VEVENT
DTSTART;TZID=Europe/Bucharest:20260419T190000
DTEND;TZID=Europe/Bucharest:20260419T203000
DTSTAMP:20260423T225725
CREATED:20251023T180602Z
LAST-MODIFIED:20260413T132500Z
UID:10012173-1776625200-1776630600@craiovalive.ro
SUMMARY:O scrisoare pierdută
DESCRIPTION: PREMIERĂ “O SCRISOARE PIERDUTĂ” – după I.L. Caragiale\n Sala Atelier – Teatrul Național „Marin Sorescu” Craiova Bilete: https://ebilet.tncms.ro/ebilet sau la agenția teatrală\, Str. A.I.Cuza\, nr.11.Regie și concept: Catalin VieruDistribuția: Cosmin Dolea\, Petrișor Diamantu\, Darko Huruială\, Valentin Stefan Motroc\nCaragiale Evergreen / 2025 version\nIstoria nu se repetă\, ci mai degrabă nimic nu se schimbă\, căci omul își perpetuează metehnele.În montarea Tipografia Hub\, „O scrisoare pierdută” devine o radiografie lucidă și incomod de actuală a puterii și a complicităților masculine\, o reflecție despre mecanismele prin care societatea românească – mereu „în reconstrucție” – rostogolește aceleași tipare ale vanității\, trădărilor și compromisului.Caragiale nu mai este doar un cronicar ironic al moravurilor politice de altădată\, ci un observator contemporan al unei lumi care pare să nu fi învățat nimic din trecut.Personajele devin oglinzi deformate ale prezentului nostru: politicieni\, prieteni\, rivali și victime ale propriei ipocrizii.Printr-o abordare vizuală și interpretativă minimalistă\, dar încărcată de semnificație\, spectacolul propune o imagine a unei lumi aflate între ruine și reconstrucție – un spațiu în care adevărul devine negociabil\, iar râsul ascunde adesea disperarea.„O scrisoare pierdută”\, în versiunea Tipografia Hub\, este\, în fond\, o întrebare adresată nouă înșine: cât de mult s-a schimbat\, cu adevărat\, lumea noastră politică și cât de mult s-a schimbat universul nostru moral de la Caragiale încoace?\n-————————————————TIPOGRAFIA HUB\, un proiect cultural susținut de Maternitatea MaDonna Maria Craiova\, SOCOTEANU & POPA – societate civilă de avocaţi\, Ginecho-Centru medical pentru sănătatea femeii\, Polisea.Parteneri media: New Age Advertising\, Epic Prints\, White Point
URL:https://craiovalive.ro/eveniment/o-scrisoare-pierduta-2/
LOCATION:Teatrul Național Craiova – Sala Atelier\, Str. A. I. Cuza\, nr. 11\, Craiova\, Dolj\, 200585\, România
CATEGORIES:Teatru
ATTACH;FMTTYPE=image/jpeg:https://craiovalive.ro/wp-content/uploads/2025/10/O-scrisoare-pierduta.jpg
ORGANIZER;CN="Tipografia":MAILTO:tipografiahub@gmail.com
GEO:44.3186661;23.8003743
X-APPLE-STRUCTURED-LOCATION;VALUE=URI;X-ADDRESS=Teatrul Național Craiova – Sala Atelier Str. A. I. Cuza nr. 11 Craiova Dolj 200585 România;X-APPLE-RADIUS=500;X-TITLE=Str. A. I. Cuza\, nr. 11:geo:23.8003743,44.3186661
END:VEVENT
BEGIN:VEVENT
DTSTART;TZID=Europe/Bucharest:20260405T170000
DTEND;TZID=Europe/Bucharest:20260405T183000
DTSTAMP:20260423T225725
CREATED:20260317T143540Z
LAST-MODIFIED:20260319T155745Z
UID:10014360-1775408400-1775413800@craiovalive.ro
SUMMARY:Jocul dragostei și al întâmplării
DESCRIPTION:Jocul dragostei și al întâmplării \nDistribuția: \nAdrian Tudor\nNicolae Vicol\nDarko Huruialǎ\nIacob Motroc\nDiana Petec\nIarina Zidaru \nDe: Pier de Marivaux \nRegia: Tipografia Hub \nPremiera: 29 martie 2026 \n \n\nCe s-ar întâmpla dacă\, înainte de a te îndrăgosti\, ai putea testa sinceritatea celuilalt… fără ca el să știe cine ești cu adevărat?\nSilvia și Dorante sunt pe punctul de a se întâlni pentru o posibilă căsătorie. Dar\, neîncrezători în aparențe\, fiecare pune la cale același plan îndrăzneț: își schimbă identitatea cu cea a propriilor servitori.\nÎn această adaptare modernă\, umorul\, tensiunea și romantismul se împletesc într-o comedie plină de surprize.\n\n\nRămâne o singură întrebare: poate dragostea să recunoască adevărul dincolo de roluri?\n\nSilvia și Dorante\, pe cale să se cunoască în vederea unei posibile căsătorii\, decid să-și testeze unul altuia sinceritatea schimbându-și identitatea cu cea a servitorilor lor. În această adaptare modernă\, jocul aparențelor dă naștere unor situații pline de umor\, confuzii și emoții neașteptate. Pe măsură ce măștile cad\, personajele descoperă că esența adevărată rămâne dragostea.
URL:https://craiovalive.ro/eveniment/jocul-dragostei-si-al-intamplarii/2026-04-05/
LOCATION:Teatrul Național Craiova – Sala Atelier\, Str. A. I. Cuza\, nr. 11\, Craiova\, Dolj\, 200585\, România
CATEGORIES:Teatru
ATTACH;FMTTYPE=image/webp:https://craiovalive.ro/wp-content/uploads/2026/03/Jocul-dragostei-si-al-intamplarii.webp
ORGANIZER;CN="Tipografia":MAILTO:tipografiahub@gmail.com
GEO:44.3186661;23.8003743
X-APPLE-STRUCTURED-LOCATION;VALUE=URI;X-ADDRESS=Teatrul Național Craiova – Sala Atelier Str. A. I. Cuza nr. 11 Craiova Dolj 200585 România;X-APPLE-RADIUS=500;X-TITLE=Str. A. I. Cuza\, nr. 11:geo:23.8003743,44.3186661
END:VEVENT
BEGIN:VEVENT
DTSTART;TZID=Europe/Bucharest:20260207T190000
DTEND;TZID=Europe/Bucharest:20260207T200000
DTSTAMP:20260423T225725
CREATED:20241006T164928Z
LAST-MODIFIED:20260202T094310Z
UID:10000104-1770490800-1770494400@craiovalive.ro
SUMMARY:Toate lucrurile minunate
DESCRIPTION:TOATE LUCRURILE MINUNATE /EVERY BRILLIANT THING de Duncan Macmillan \nRegia: Cătălin Vieru\nDistribuția: Catalin Vieru \nSinopsis\nToate lucrurile minunate / Every briliant thing e despre lucrurile pe care le ratam. Despre bucuriile mici\, despre o felie de pâine cu dulceață\, despre un ‘te iubesc’ uitat\, despre cum trecem pe lângă lucruri mici dar mari. E despre cum să nu uităm că răsăritul nu este de la sine ceva ce meriți\, e un dar. E despre faptul că păsările vor cânta și după ce nu vei mai fi\, așa că e păcat să nu le asculți atunci când ești.\nE despre întâmplarea de a fi. Despre șansa de a iubi\, deci despre Dumnezeu. E despre durere\, deci despre oameni. Credit: IULIA COLAN
URL:https://craiovalive.ro/eveniment/toate-lucrurile-minunate/
LOCATION:Teatrul Național Craiova – Sala Atelier\, Str. A. I. Cuza\, nr. 11\, Craiova\, Dolj\, 200585\, România
CATEGORIES:Teatru
ATTACH;FMTTYPE=image/jpeg:https://craiovalive.ro/wp-content/uploads/2024/10/Toate-lucrurile-minunate.jpg
ORGANIZER;CN="Tipografia":MAILTO:tipografiahub@gmail.com
GEO:44.3186661;23.8003743
X-APPLE-STRUCTURED-LOCATION;VALUE=URI;X-ADDRESS=Teatrul Național Craiova – Sala Atelier Str. A. I. Cuza nr. 11 Craiova Dolj 200585 România;X-APPLE-RADIUS=500;X-TITLE=Str. A. I. Cuza\, nr. 11:geo:23.8003743,44.3186661
END:VEVENT
BEGIN:VEVENT
DTSTART;TZID=Europe/Bucharest:20260206T190000
DTEND;TZID=Europe/Bucharest:20260206T203000
DTSTAMP:20260423T225725
CREATED:20260130T105824Z
LAST-MODIFIED:20260130T105852Z
UID:10012975-1770404400-1770409800@craiovalive.ro
SUMMARY:Fără ieșire
DESCRIPTION:Trei oameni. O cameră. Nicio ieșire.\nInés. Estelle. Garcin.Un spațiu banal… până când îți dai seama că nu poți pleca.Nicio oglindă.Doar tu. Și ceilalți doi.Și tot ce ai încercat să ascunzi.\n „Fără ieșire” – un thriller psihologic inspirat de Jean-Paul Sartre despre vină\, rușine și foamea de a fi acceptat.Crud. Cinic. Uneori absurd de amuzant.Și periculos de sincer. Dacă nu poți fugi de ceilalți… mai poți fugi de tine?\n\nDistribuția:Corina OpreaDiana PetecPetri Ștefănescu Sala Atelier Teatrul Naţional Craiova\nBilete online: https://ebilet.tncms.ro/ sau la Agenția Teatrală\, str. A.I.Cuza\, nr.11.\n Avertisment: spectacolul conține lumini puternice și efecte vizuale care pot fi deranjante pentru persoanele fotosensibile.\nÎndrăznești să vii? Noi te așteptăm.
URL:https://craiovalive.ro/eveniment/fara-iesire/
LOCATION:Teatrul Național Craiova – Sala Atelier\, Str. A. I. Cuza\, nr. 11\, Craiova\, Dolj\, 200585\, România
CATEGORIES:Teatru
ATTACH;FMTTYPE=image/jpeg:https://craiovalive.ro/wp-content/uploads/2026/01/Fara-iesire-Tipografia-Craiova.jpg
ORGANIZER;CN="Tipografia":MAILTO:tipografiahub@gmail.com
GEO:44.3186661;23.8003743
X-APPLE-STRUCTURED-LOCATION;VALUE=URI;X-ADDRESS=Teatrul Național Craiova – Sala Atelier Str. A. I. Cuza nr. 11 Craiova Dolj 200585 România;X-APPLE-RADIUS=500;X-TITLE=Str. A. I. Cuza\, nr. 11:geo:23.8003743,44.3186661
END:VEVENT
BEGIN:VEVENT
DTSTART;TZID=Europe/Bucharest:20260201T190000
DTEND;TZID=Europe/Bucharest:20260201T203000
DTSTAMP:20260423T225725
CREATED:20260127T123026Z
LAST-MODIFIED:20260127T123026Z
UID:10012921-1769972400-1769977800@craiovalive.ro
SUMMARY:Pe o scară de la una la alta
DESCRIPTION:Pe o scară de la una la alta \nSala Atelier (Pictură) – Teatrul Național Marin Sorescu Craiova \n Distribuția: Bogdan Oprănescu · Gabriela Oprescu · Iarina Zidaru\n Text: Iarina Zidaru Concept sound & light design: Emy GuranOperator sound & light design: Darko Huruială\nSinopsis\nPE O SCARĂ DE LA UNA LA ALTA este un spectacol de teatru care explorează\, cu umor fin și tensiune dramatică\, întâlnirea neașteptată a trei personaje prinse într-o situație-limită. Aparent banală\, contextul devine rapid un spațiu al confruntărilor\, al măștilor sociale care cad și al adevărurilor incomode care ies la suprafață. \nPe măsură ce relațiile dintre personaje se dezvoltă „de la una la alta”\, scara devine un simbol al tranziției — între decizii\, emoții\, trecut și prezent. Spectacolul îmbină comicul de situație cu drama personală\, construind portrete umane fragile\, contradictorii și profund recognoscibile. \nCu replici alerte\, ritm susținut și un concept sonor și vizual care amplifică stările interioare ale personajelor\, PE O SCARĂ DE LA UNA LA ALTA invită publicul să râdă\, să reflecteze și să se regăsească în micile drame cotidiene care\, uneori\, ne pot schimba radical direcția.
URL:https://craiovalive.ro/eveniment/pe-o-scara-de-la-una-la-alta/
LOCATION:Teatrul Național Craiova – Sala Atelier\, Str. A. I. Cuza\, nr. 11\, Craiova\, Dolj\, 200585\, România
CATEGORIES:Teatru
ATTACH;FMTTYPE=image/webp:https://craiovalive.ro/wp-content/uploads/2026/01/Pe-o-scara-de-la-una-la-alta.webp
ORGANIZER;CN="Tipografia":MAILTO:tipografiahub@gmail.com
GEO:44.3186661;23.8003743
X-APPLE-STRUCTURED-LOCATION;VALUE=URI;X-ADDRESS=Teatrul Național Craiova – Sala Atelier Str. A. I. Cuza nr. 11 Craiova Dolj 200585 România;X-APPLE-RADIUS=500;X-TITLE=Str. A. I. Cuza\, nr. 11:geo:23.8003743,44.3186661
END:VEVENT
BEGIN:VEVENT
DTSTART;TZID=Europe/Bucharest:20250525T190000
DTEND;TZID=Europe/Bucharest:20250525T200000
DTSTAMP:20260423T225725
CREATED:20250216T081846Z
LAST-MODIFIED:20250507T091940Z
UID:10005421-1748199600-1748203200@craiovalive.ro
SUMMARY:Pisica verde
DESCRIPTION:Regia: Andra Oneață \nCând șase adolescenți dintr-un oraș provincial se lovesc de o tragedie neprevăzută\, evadarea din realitate nu mai e doar o simplă alegere pentru ei\, ci o nevoie de bază. „Pisica Verde” urmărește povestea celor șase tineri\, fiind o reflexie a problemelor adolescenților de pretutindeni și\, indirect\, o critică inteligentă la adresa famililor disfuncționale care îi modelează\, alături de societatea care le trece cu vederea angoasele. Pisica apare atunci când lumea din jur dezamăgește. \nSpectacolul este construit sincer și autentic\, trupa de teatru fiind formată integral din adolescenți\, iar trăirile personajelor sunt profund marcate de trăirile interioare ale echipei.
URL:https://craiovalive.ro/eveniment/pisica-verde-2/
LOCATION:Teatrul Național Craiova – Sala Atelier\, Str. A. I. Cuza\, nr. 11\, Craiova\, Dolj\, 200585\, România
CATEGORIES:Teatru
ATTACH;FMTTYPE=image/jpeg:https://craiovalive.ro/wp-content/uploads/2025/02/Pisica-Verde.jpg
ORGANIZER;CN="Tipografia":MAILTO:tipografiahub@gmail.com
GEO:44.3186661;23.8003743
X-APPLE-STRUCTURED-LOCATION;VALUE=URI;X-ADDRESS=Teatrul Național Craiova – Sala Atelier Str. A. I. Cuza nr. 11 Craiova Dolj 200585 România;X-APPLE-RADIUS=500;X-TITLE=Str. A. I. Cuza\, nr. 11:geo:23.8003743,44.3186661
END:VEVENT
BEGIN:VEVENT
DTSTART;TZID=Europe/Bucharest:20250518T190000
DTEND;TZID=Europe/Bucharest:20250518T201000
DTSTAMP:20260423T225725
CREATED:20240618T130833Z
LAST-MODIFIED:20250507T091621Z
UID:10001703-1747594800-1747599000@craiovalive.ro
SUMMARY:ATENA 5 (adaptare Visul unei nopți de vară)
DESCRIPTION:ATENA 5\n\nun spectacol pe texte de William Shakespeare \nRegie\, Scenografie și univers sonor: Laurentiu Tudor \nLight Design: Nikita Teodorescu \nDurata spectacolului: – 1h. 10 min \nData premierei: 21 mai 2024 \nDistribuția: Anca Maria Ilinca \, Raluca Paun \, Bogdan Opranescu\, Valentin Stefan Motroc \, Cătălin-Mihai Miculeasa \n\n\n\n\n„Atena 5” este o comedie inedită ce aduce în prim-plan umorul și spiritul ludic al clasicului shakespearian „Visul unei nopți de vară” Inspirat din scenele meșteșugarilor din piesa originală\, spectacolul își îndreaptă atenția către un grup neașteptat de protagoniști: cinci bătrâni dintr-un azil de bătrâni\, hotărâți să pună în scenă propriul lor spectacol de teatru.\nÎn mijlocul haosului și al amestecului de confuzii comice\, acești bătrâni aduc în viață pasiunea pentru arta dramatică și pentru exprimarea creativă. Cu umor și căldură\, spectacolul ne poartă prin etapele pregătirii lor pentru spectacol\, de la repetiții neconvenționale până la momentele amuzante din culise.\n\n\n\nCronici\nCând spunem Shakespeare\, probabil că avem o imagine în minte\, cel puțin orientativ\, cu care asociem acest nume. Poate o pădure plină de zâne și licurici\, poate regi excentrici și regine impunătoare. Însă\, arta ne învață că nu e bine să avem idei preconcepute\, căci astfel nu ne mai lăsăm surprinși. \nLaurențiu Tudor\, în spectacolul al cărei regie o semnează\, „Atena 5”\, propune un Shakespeare într-un spațiu unde probabil nu ne-am gândi că l-am putea găsi pe autor. La azilul de bătrâni. Pornind de la scena cu meșteșugarii din „Visul unei nopți de vară”\, rezidenții azilului se hotărăsc să-și facă și ei un spectacol al lor\, pe care să-l propună apoi în Festivalul Internațional Shakespeare de la Craiova. Gagul recurent „Hai mai repede că festivalul nu stă după voi”\, alături de trimiterile comice la domnul Boroghină („Să repetăm. Ca și când am fi în fața domnului Boroghină.”)\, insuflă avânt artistic în protagoniștii noștri care abia așteaptă să-și etaleze talentul adormit\, nevalorificat până la venerabila lor vârstă. Niciodată nu e prea târziu să te împrietenești cu scena\, aparent. \nPornind de la castingul pe care-l desfășoară Madam Gutuie (Raluca Păun) la începutul spectacolului (analizând tacticos poze cu actori celebri precum Anthony Hopkins)\, regizorul creează un contrast comic între lentoarea în mișcare a bătrânilor și comportamentul lor infantil. De la glume de puști de liceu\, la fraze ajunse virale cum ar fi „Nu apă.”\, la jocuri de actorie și așa mai departe\, textul shakespearian capătă încet o formă inedită. \nFiecare personaj pare să trimită la o tipologie. Avem cuplul comic\, un fel de Stan și Bran ai azilului\, format din domnul Subțirelu’ (Bogdan Oprănescu) și domnul Flaut (Cătălin Miculeasa). O avem pe domnișoara Fundulea (Valentin Motroc)\, care e orice dar nu domnișoară. De gen sau otherwise\, dacă e să ne luăm după spusele domnului Subțirelu’ și ale domnului Flaut. (Que pentru un alt gag: „Domnișoară pe dracu.”) Madam Gutuie\, regizoarea spectacolului\, întreprinde fiecare acțiune cu voia Domnului și a tuturor sfinților din calendar iar doamna Blându’ (Anca Maria Ghiță) este acea bătrânică firavă\, pentru care așteptarea morții a devenit un laitmotiv. Poate rolul Leului\, care îi este distribuit\, îi va mai insufla o fărâmă de viață. \nDe aici\, textul lui Shakespeare se împletește cu realitatea personajelor de la azil. Cei cinci artiști emergenți ajung la concluzia că doamnele din sală n-ar putea suporta să vadă pe scenă acțiuni grotești precum înjunghierea sau lei dezlănțuiți. Așadar\, trebuie făcut câte un prolog\, zis și disclaimer\, ca să nu ne pască vreun leșin. Madam Gutuie preia inițiativa: „Scoateți o foaie de hârtie”\, fraza care bântuie orice spirit care a călcat vreodată prin școala generală\, iar cei patru actori se pun pe compus. Muzică. Ca să ne arate că sunt mândri posesori atât ai talentului actoricesc\, cât și al unor urechi muzicale desăvârșite (excluzându-l pe domnul Flaut care ne informează că e cam surd)\, cei patru compun prologul din varii sunete care întocmesc o melodie ritmată. Această inserție este o alternativă comică\, făcând trimitere la jocurile de actorie din facultate\, dar funcționează și ca mijloc de alternare a ritmului spectacolului. \nAvem deci valoroasele disclaimere\, câteva panouri (cam de spital)\, pe post de scenografie și la piece de resistance\, un set de tobe. Deci avem spectacol. Pe sfânta scândură pășește Madam Gutuie spre a porni reprezentația. Aceasta binecuvântează începutul cu un cântec bisericesc\, având ca acompaniament pe fundal evlavioasa melodie Du Hast\, de la Rammstein. Emoționant până la lacrimi. Evident\, de la râs. În această notă comică purcede reprezentația. După tot efortul admirabil\, întreprins de acești pensionari curajoși\, reprezentația se termină la înălțime\, cu un dans energic. \nSpectacolul „Atena 5”\, regizat de Laurențiu Tudor\, este o reinterpretare surprinzătoare a textului shakespearian. Echipa jonglează bine cu linia dintre realitatea pensionarilor și realitatea textului lui Shakespeare pe care îl abordează\, împletind veridic cele două planuri. Este un spectacol care își propune să stârnească râsul și reușește cu brio\, atât datorită mijloacelor comice utilizate\, cât și a interpretării actorilor. ( ANDREEA TELEHOI ) https://unatc.ro/devunatc/category/fringe-unatc/page/8/
URL:https://craiovalive.ro/eveniment/atena-5-adaptare-visul-unei-nopti-de-vara/
LOCATION:Teatrul Național Craiova – Sala Atelier\, Str. A. I. Cuza\, nr. 11\, Craiova\, Dolj\, 200585\, România
CATEGORIES:Teatru
ATTACH;FMTTYPE=image/jpeg:https://craiovalive.ro/wp-content/uploads/2024/03/Atena-5.jpg
ORGANIZER;CN="Tipografia":MAILTO:tipografiahub@gmail.com
GEO:44.3186661;23.8003743
X-APPLE-STRUCTURED-LOCATION;VALUE=URI;X-ADDRESS=Teatrul Național Craiova – Sala Atelier Str. A. I. Cuza nr. 11 Craiova Dolj 200585 România;X-APPLE-RADIUS=500;X-TITLE=Str. A. I. Cuza\, nr. 11:geo:23.8003743,44.3186661
END:VEVENT
END:VCALENDAR