BEGIN:VCALENDAR
VERSION:2.0
PRODID:-//Craiova Live - ECPv6.15.18//NONSGML v1.0//EN
CALSCALE:GREGORIAN
METHOD:PUBLISH
X-WR-CALNAME:Craiova Live
X-ORIGINAL-URL:https://craiovalive.ro
X-WR-CALDESC:Evenimente pentru Craiova Live
REFRESH-INTERVAL;VALUE=DURATION:PT1H
X-Robots-Tag:noindex
X-PUBLISHED-TTL:PT1H
BEGIN:VTIMEZONE
TZID:Europe/Bucharest
BEGIN:DAYLIGHT
TZOFFSETFROM:+0200
TZOFFSETTO:+0300
TZNAME:EEST
DTSTART:20240331T010000
END:DAYLIGHT
BEGIN:STANDARD
TZOFFSETFROM:+0300
TZOFFSETTO:+0200
TZNAME:EET
DTSTART:20241027T010000
END:STANDARD
BEGIN:DAYLIGHT
TZOFFSETFROM:+0200
TZOFFSETTO:+0300
TZNAME:EEST
DTSTART:20250330T010000
END:DAYLIGHT
BEGIN:STANDARD
TZOFFSETFROM:+0300
TZOFFSETTO:+0200
TZNAME:EET
DTSTART:20251026T010000
END:STANDARD
BEGIN:DAYLIGHT
TZOFFSETFROM:+0200
TZOFFSETTO:+0300
TZNAME:EEST
DTSTART:20260329T010000
END:DAYLIGHT
BEGIN:STANDARD
TZOFFSETFROM:+0300
TZOFFSETTO:+0200
TZNAME:EET
DTSTART:20261025T010000
END:STANDARD
BEGIN:DAYLIGHT
TZOFFSETFROM:+0200
TZOFFSETTO:+0300
TZNAME:EEST
DTSTART:20270328T010000
END:DAYLIGHT
BEGIN:STANDARD
TZOFFSETFROM:+0300
TZOFFSETTO:+0200
TZNAME:EET
DTSTART:20271031T010000
END:STANDARD
END:VTIMEZONE
BEGIN:VEVENT
DTSTART;TZID=Europe/Bucharest:20260422T100000
DTEND;TZID=Europe/Bucharest:20260422T220000
DTSTAMP:20260423T213258
CREATED:20260216T102105Z
LAST-MODIFIED:20260416T165707Z
UID:10013881-1776852000-1776895200@craiovalive.ro
SUMMARY:Târgul de Paște Craiova 2026
DESCRIPTION:Târgul de Paște Craiova 2026\n📅 3 aprilie – 3 mai 2026📍 Parcul Nicolae Romanescu\, zona Foișor – Casa Bibescu\, Craiova\nCea mai frumoasă poveste de primăvară se scrie la Craiova! Tema Târgului de Paște Craiova 2026 – \,\,Fairytale” \n\n\nPrimăvara aceasta\, Craiova îți dă întâlnire cu magia în Parcul Nicolae Romanescu\, acolo unde Târgul de Paște Craiova 2026 transformă zona Foișor – Casa Bibescu într-un decor de poveste. Sub tema „Fairytale”\, târgul promite o lună întreagă de evenimente\, lumină\, culoare și atmosferă de sărbătoare. Între 3 aprilie și 3 mai 2026\, te așteaptăm la explorat la pas locuri fotogenice\, bucurat de aerul de sărbătoare și profitat de motivul perfect pentru o vizită cu familia sau prietenii. \nDacă vrei să afli mai multe despre unul din cele mai mari și mai elegante parcuri urbane din România\, solicită un tur ghidat cu un ghid de turism autorizat. Descoperim împreună povestea parcului distins cu medalia de aur la Expoziția Universală de la Paris (1900) și aflăm cine a fost vizionarul primar Nicolae Romanescu\, cel care l-a transformat într-un simbol al Craiovei. \nACCES Târgul de Paște Craiova 2026\n🕙 Căsuțele cu bunătăți și zonele de agrement sunt deschise zilnic\, 10:00 – 22:00.🌙 Parcul poate fi vizitat până la miezul nopții\, pentru spectacolul de luminițe creat special pentru ediția 2026. \n\nPROGRAM Târgul de Paște Craiova 2026\n🏞️ 🦋Teatrul de Vară\, zona Foișorului\, Casa Bibescu și poienițele învecinate locului de joacă devin puncte centrale ale evenimentului\, iar seara\, parcul se transformă într-o scenă magică\, cu fluturi frumos iluminați\, pontoane muzicale\, fântâni care dansează\, artiști și proiecții holografice spectaculoase pe lac. \n🎎 Copiii și părinții sunt invitați la diverse ateliere interactive și demonstrații de artă populară\, susținute de instituții culturale și educaționale din Craiova și județul Dolj. \n🎵🎸🎤 Opera\, Filarmonica ”Oltenia” Craiova\, Teatrul pentru copii si tineret Colibri Craiova\, Palatul Copiilor și Centrul de Cultură și Artă Dolj\, Fanfara Garnizoanei Craiova sau artiștii locali DJ Emil Safta și MC Tom\, MashUp\, DJ Toni\, dar și artiști naționali precum Mandinga (5 aprilie)\, Florian Rus (18 aprilie) și Alina Eremia (1 mai) vor urca pe scena din poieniță în fiecare seară de vineri și sâmbătă\, dar și duminica de Florii\, de Paște sau pe 1 Mai. \n🐇🎭Târgul de Paște 2026 continuă zilnic până pe 3 mai\, cu spectacole de teatru și folclor\, concerte și evenimente speciale. În fiecare seară\, lacul din parc găzduiește spectacolul „Fairytale on the Lake”\, realizat de Opera Română Craiova și Filarmonica Oltenia. \n🏠 Căsuțele cu bunătăți și zonele de agrement de la Târgul de Paște vor fi deschise zilnic\, între orele 10:00 – 22:00\, dar Parcul poate fi vizitat până la miezul nopții\, pentru spectacolul de luminițe creat special pentru ediția 2026. \n🚆Vizitatorii târgului se vor putea plimba\, și în acest an\, cu trenulețul de Paște și cu Party Bus-ul\, decorate ca-n povești și care vor face turul celor mai frumoase obiective turistice din Craiova. \n❗Trenulețul va avea plecarea în fiecare zi\, de la ora 14.00\, de la stația de lângă intrarea în Parcul Romanescu – stația-bufniță\, recent amplasată și concepută special de artiștii locali pentru perioada Târgului de Paște\, iar Party Bus-ul va pleca în fiecare zi\, de la ora 17.00\, de la Promenada Mall Craiova. \n🚘 Vizitatorii care aleg să vină la Craiova cu mașina personală au la dispoziție parcarea subterană și parcarea de pe strada Potelu\, din spatele Parcului Nicolae Romanescu\, iar cei care vin cu autocarul – parcările de la Centrul Multifuncțional\, Sala Polivalentă sau de la Aeroportul Internațional Craiova. \n❗❗Notă: Manifestările în aer liber pot fi anulate sau reprogramate în funcție de condițiile meteorologice.❗ \n\n Program artistic\n Târgul de Paște Craiova 2026\n\n\nVineri\, 17 aprilie\nPoienița Fermecată \n12:00 – 16:00 Ateliere de confecționare obiecte handmade\, decorațiuni pascale și activități creative pentru copii Primăvara creativă\, Casa de Cultură a Studenților\, Asociația Națională de Dezvoltare Continuă a Tineretului din România și Asociația Convenția Organizațiilor Studențești din Universitatea din Craiova \n17:00 – 18:00 Ateliere: Jocul de-a joaca\, Teatrul de la A la Z\, Art Craft; Teatrul pentru Copii și Tineret Colibri \nMain Stage \n17:00 – 18:00 Zâmbete pe portativ\, Palatul Copiilor Craiova \n18:10 – 19:00 Concert coral Pe aripile primăverii\, Opera Română Craiova \n19:10 – 20:20 Spectacol folcloric Mândru-i plaiul oltenesc\, Teatrul pentru Copii și Tineret Colibri și Centrul Județean de Cultură și Artă Dolj \nMC Cosmin Dolea \nLac – Debarcader \n20:45 – Fairytale on the lake\, spectacol muzical pe lac – Opera Română Craiova și Teatrul Colibri \nProiecții holografice pe lac \nSâmbătă\, 18 aprilie\nAleea de lângă scenă \n\n11:30 – Voința creează materie by Shakespeare Festival – spectacol itinerant\n\nPoienița Fermecată \n12:00 – 16:00 Ateliere de confecționare obiecte handmade\, decorațiuni pascale și activități creative pentru copii Primăvara creativă\, Casa de Cultură a Studenților\, Asociația Națională de Dezvoltare Continuă a Tineretului din România și Asociația Convenția Organizațiilor Studențești din Universitatea din Craiova \nMain Stage \n17:45 – 18:15 Spectacol de muzică\, Corabia Artelor\n18:20 – 19:20 Mashup Band \n19:30 – 20:15 FLORIAN RUS \nMC Tom Crîngureanu \nLac – Debarcader \n20:45 – Fairytale on the lake\, spectacol muzical pe lac – Opera Română Craiova și Teatrul Colibri \nProiecții holografice pe lac \nDuminică\, 19 aprilie\nAleea de lângă scenă \n\n11:30 – Voința creează materie by Shakespeare Festival – spectacol itinerant\n\nPoienița Fermecată\n\n12:00 – 16:00 Ateliere de confecționare obiecte handmade\, decorațiuni pascale și activități creative pentru copii Primăvara creativă\, Casa de Cultură a Studenților\, Asociația Națională de Dezvoltare Continuă a Tineretului din România și Asociația Convenția Organizațiilor Studențești din Universitatea din Craiova \nLac – Debarcader \n20:45 – Fairytale on the lake\, spectacol muzical pe lac – Opera Română Craiova și Teatrul Colibri \nProiecții holografice pe lac \nLuni\, 20 aprilie – Joi\, 23 aprilie\nLac – Debarcader \n20:30 – Fairytale on the lake\, spectacol muzical pe lac – Opera Română Craiova \nProiecții holografice pe lac \nVineri\, 24 aprilie\nPoienița Fermecată \n17:00 – 18:00 Ateliere: Art Craft\, Improvizăm și ne distrăm; Teatrul pentru Copii și Tineret Colibri \nMain Stage \n17:00 – 18:00 Zâmbete pe portativ\, Palatul Copiilor Craiova \n18:10 – 19:00 Spectacol pentru copii Jocuri Magice\, Teatrul pentru Copii și Tineret Colibri \n19:15 – 20:15 Spectacol folcloric Ca la noi\, ca la olteni Teatrul pentru Copii și Tineret Colibri și Centrul Județean de Cultură și Artă Dolj \nMC Cosmin Dolea \nLac – Debarcader \n20:30 – Fairytale on the lake\, spectacol muzical pe lac – Opera Română Craiova \nProiecții holografice pe lac \nSâmbătă\, 25 aprilie\nMain Stage \n18:00 – 18:15 Isabela Ivan \n18:20 – 19:00 Spectacol de muzică ușoară\, Onny Kids Academy \n19:10 – 20:10 Bijuterii muzicale\, Orchestra de Cameră a Filarmonicii Oltenia \nMC Tom Crîngureanu \nLac – Debarcader \n20:30 -Fairytale on the lake\, spectacol muzical pe lac – Opera Română Craiova \nProiecții holografice pe lac \nDuminică\, 26 aprilie – Joi\, 30 aprilie\nLac – Debarcader \n20:30 – Fairytale on the lake\, spectacol muzical pe lac – Filarmonica Oltenia Craiova \nProiecții holografice pe lac \n Vineri\, 1 mai\nFoișor \n11:00 – 12:00 Fanfara Garnizoanei Craiova \nMain Stage \n18:00 – 19:20 DJ Toni \n19:30 – 20:15 ALINA EREMIA \n20:20 – 21:00 DJ Toni \nMC Tom Crîngureanu \nLac – Debarcader \n20:30 – Fairytale on the lake\, spectacol muzical pe lac – Filarmonica Oltenia Craiova \nProiecții holografice pe lac \nSâmbătă\, 2 mai\nLac – Debarcader \n20:30 – Fairytale on the lake\, spectacol muzical pe lac – Filarmonica Oltenia Craiova \nProiecții holografice pe lac \nDuminică\, 3 mai\nTeatrul de Vară \n20:00 – 21:00 Spectacol Zâna păpușilor\, Opera Română Craiova \nLac – Debarcader \n20:30 – Fairytale on the lake\, spectacol muzical pe lac – Filarmonica Oltenia Craiova \nProiecții holografice pe lac \nNOTĂ: Condiţiile meteorologice nefavorabile pot anula sau amâna o parte dintre manifestările programate în aer liber!
URL:https://craiovalive.ro/eveniment/targul-de-paste-craiova-2026/2026-04-22/
LOCATION:Parcul Nicolae Romanescu\, Craiova\, Dolj\, România
CATEGORIES:Târguri
ATTACH;FMTTYPE=image/jpeg:https://craiovalive.ro/wp-content/uploads/2026/02/Targul-de-Paste-Craiova-2026-Fairytale.jpg
ORGANIZER;CN="Prim%C4%83ria Municipiului Craiova":MAILTO:imaginecv@primariacraiova.ro
GEO:44.301907335609;23.799200026224
END:VEVENT
BEGIN:VEVENT
DTSTART;TZID=Europe/Bucharest:20260111T100000
DTEND;TZID=Europe/Bucharest:20260111T230000
DTSTAMP:20260423T213258
CREATED:20250802T111419Z
LAST-MODIFIED:20251228T201917Z
UID:10012699-1768125600-1768172400@craiovalive.ro
SUMMARY:Târgul de Crăciun Craiova 2025
DESCRIPTION:Târgul de Crăciun Craiova  Magia sărbătorilor de iarnă revine în Craiova în perioada 14 noiembrie 2025 – 11 ianuarie 2026. Tema ediției din acest an este „Spărgătorul de Nuci”\, povestea clasică a Crăciunului care va prinde viață în inima orașului. Craiova va fi luminată cu peste două milioane de beculețe\, iar noile căsuțe de turtă dulce cu acoperișuri din zăpadă vor aduce farmecul unei lumi desprinse din basme. \nLocuri de desfășurare Târgul de Crăciun Craiova 2025:\nAnul acesta\, povestea Târgului de Crăciun se întinde în șase piețe tematice\, fiecare cu propriul univers: \n\n– Piața Mihai Viteazul – „Candy Land” – un regat al dulciurilor\, unde fiecare colț strălucește în culori de poveste\,.\n– Zona Doljana – „Carousel Christmas” – căsuțe inedite\, decorate în spirit de sărbătoare\, pentru cei mari și mici.\n– Piața Frații Buzești – „Crăciun Tradițional” – locul unde tradițiile prind viață\, între colinde\, meșteșuguri și bucate românești.\n– Piața William Shakespeare – „Țara lui Moș Crăciun” – un univers magic pentru copii și tineret\, unde pot găsi carousele\, trenulețe\, filme VR și roata panoramică care îi poartă pe copii spre cerul luminat al Craiovei.\n– Strada Theodor Aman – „Best Christmas Street Food” – un festin culinar modern\, unde aromele tradiționale se împletesc cu gusturi internaționale.\n–  English Park – „Țara Jucăriilor” – paradisul copiilor\, cu figurine uriașe\, jocuri și personaje de basm.\n\n\n\n✓ Tema principală: „Spărgătorul de nuci”\n\n\n✓ 6 zone personalizate diferit\n✓ Peste 2 milioane de beculețe și decorațiuni luminoase\n✓ Căsuțe unicat tip căsuță de turtă dulce\, dar și altele cu design diferit\n✓ Brad spectaculos în Piața Mihai Viteazul\, cu un design inedit\, sub formă de magazin de jucării\n✓ Bradul-scenă în Piața Frații Buzești\n✓ Mii de decorațiuni tip jucării și dulciuri gigant\n\n\nProgram Târgul de Crăciun Craiova 2025!\n\n\n\n\n\n\n\n\n Roata panoramică\, patinoarul\, căsuțele cu bunătăți\, decorațiunile spectaculoase și cele peste 2 milioane de luminițe vă așteaptă în continuare până pe 11 ianuarie 2026 să vă bucurați de magia sărbătorilor. (ATENȚIE! Show-ul Sania lui Moș Crăciun nu se mai organizează!)\n\n\n Program de vizitare:\n Luni – Joi: 13:00 – 22:00\n Vineri – Duminică: 10:00 – 23:00\n\n\n\nNOTĂ: Condiţiile meteorologice nefavorabile pot anula o parte dintre manifestările programate în aer liber!
URL:https://craiovalive.ro/eveniment/targul-de-craciun-craiova-2025/2026-01-11/
LOCATION:Locații multiple\, Craiova\, Dolj\, România
CATEGORIES:Târguri
ATTACH;FMTTYPE=image/jpeg:https://craiovalive.ro/wp-content/uploads/2025/08/Targul-de-Craciun-Craiova-nov-2025-ian-2026.jpg
ORGANIZER;CN="Prim%C4%83ria Municipiului Craiova":MAILTO:imaginecv@primariacraiova.ro
GEO:44.3301785;23.7948808
END:VEVENT
BEGIN:VEVENT
DTSTART;TZID=Europe/Bucharest:20251231T210000
DTEND;TZID=Europe/Bucharest:20260101T020000
DTSTAMP:20260423T213258
CREATED:20251225T092818Z
LAST-MODIFIED:20251231T083049Z
UID:10012686-1767214800-1767232800@craiovalive.ro
SUMMARY:Revelion Craiova 2026
DESCRIPTION:Revelionul te așteaptă pe strada A.I. Cuza\, în fața Universității din Craiova!\n DJ Emil Safta și Manuel Riva vor încălzi atmosfera cu muzică spectaculoasă\, iar Alex Velea va urca pe scenă cu hituri și momente speciale\, marcând finalul unui an în care am sărbătorit 550 de ani de la prima atestare documentară a orașului.\n La miezul nopții\, cerul Craiovei se va umple de culori într-un spectacol piromuzical impresionant.\n Petrecerea continuă cu DJ Emil Safta și Tom Crîngureanu\, menținând energia la cote maxime.\n––\n\n Vino să sărbătorim împreună trecerea în Noul An\, cu muzică bună\, artiști îndrăgiți și o atmosferă spectaculoasă\, chiar în inima orașului! \n Locație: str. A.I. Cuza – zona Universitate\n 20:00 – 21:00 – Muzică ambientală la scenă\n 21:00 – 21:05 – MC Tom Crîngureanu\n 21:05 – 21:45 – DJ Emil Safta\n 21:45 – 21:50 – MC Tom Crîngureanu\n 21:50 – 22:00 – Ciri Mayer\n 22:00 – 22:05 – MC Tom Crîngureanu\n 22:05 – 23:05 – MANUEL RIVA\n 23:05 – 23:10 – MC Tom Crîngureanu\n 23:10 – 00:00 – ALEX VELEA\n 00:00 – 00:05 – Spectacol piromuzical\n 00:05 – 00:10 – MC Tom Crîngureanu\n 00:10 – 01:00 – DJ Emil Safta\n Numărăm împreună ultimele secunde ale anului și întâmpinăm Noul An cu dans\, energie și un show memorabil!\n La mulți ani!
URL:https://craiovalive.ro/eveniment/revelion-craiova-2026/
CATEGORIES:Muzică
ATTACH;FMTTYPE=image/jpeg:https://craiovalive.ro/wp-content/uploads/2025/12/Revelion-Craiova-2026.jpg
ORGANIZER;CN="Prim%C4%83ria Municipiului Craiova":MAILTO:imaginecv@primariacraiova.ro
END:VEVENT
BEGIN:VEVENT
DTSTART;TZID=Europe/Bucharest:20251201T110000
DTEND;TZID=Europe/Bucharest:20251201T190000
DTSTAMP:20260423T213258
CREATED:20251130T205712Z
LAST-MODIFIED:20251130T205712Z
UID:10012603-1764586800-1764615600@craiovalive.ro
SUMMARY:1 Decembrie - Ziua Națională a României la Craiova
DESCRIPTION:Craiovenii sunt așteptați luni\, 1 Decembrie\, să sărbătorească Ziua Unirii\, pe strada A.I. Cuza\, în fața Primăriei!\n\n\nEvenimentele vor include un ceremonial militar-religios\, defilarea forțelor de ordine și un spectacol folcloric.\n\n\n În fața statuii lui A.I. Cuza\, vor evolua artiștii Secției Folclor „Maria Tănase” – Teatrul Colibri – Marius Măgureanu\, Lavinia Bîrsoghe\, Cristian Bănățeanu\, Aneta Șișu și Liviu Dică\, alături de dansatorii Ansamblului de dans popular „Maria Tănase” – Centrul Județean de Cultură și Artă Dolj.\n\n\n Programul oficial al evenimentelor\n\n\n11:00 – 11:05 Prezentarea onorului și întâmpinarea oficialităților\n11:05 – 11:10 Intonarea Imnului Național al României\n11:10 – 11:20 Oficierea serviciului religios\n11:20 – 11:25 Alocuțiuni oficiale\n11:25 – 11:35 Depuneri de coroane și flori la statuia domnitorului Alexandru Ioan Cuza\n11:35 – 12:00 Defilarea militarilor și prezentarea onorului\n12:00 – 12:45 Spectacol folcloric susținut de artiștii Secției Folclor „Maria Tănase” – Teatrul Colibri și dansatorii Ansamblului de dans popular „Maria Tănase” – Centrul Județean de Cultură și Artă Dolj.\n\n\nTârgul de Crăciun vă așteaptă cu bunătăți de la ora 10.00\, în toate zonele.\nIar seara\, revine show-ul Saniei zburătoare:\n18:20 – „Dansul fulgilor de nea”\, Piața Mihai Viteazul – la brad\n18:30 – Spectacol „Sania Zburătoare a lui Moș Crăciun”\, Piața Mihai Viteazul.
URL:https://craiovalive.ro/eveniment/1-decembrie-ziua-nationala-a-romaniei-la-craiova/
LOCATION:Locații multiple\, Craiova\, Dolj\, România
ATTACH;FMTTYPE=image/png:https://craiovalive.ro/wp-content/uploads/2025/11/1-Decembrie-Ziua-Nationala-a-Romaniei-la-Craiova.png
ORGANIZER;CN="Prim%C4%83ria Municipiului Craiova":MAILTO:imaginecv@primariacraiova.ro
GEO:44.3301785;23.7948808
END:VEVENT
BEGIN:VEVENT
DTSTART;TZID=Europe/Bucharest:20251010T100000
DTEND;TZID=Europe/Bucharest:20251010T170000
DTSTAMP:20260423T213258
CREATED:20251007T203759Z
LAST-MODIFIED:20251009T112050Z
UID:10010287-1760090400-1760115600@craiovalive.ro
SUMMARY:Ziua Națională a Produselor Agroalimentare Românești 2025
DESCRIPTION:Ziua Națională a Produselor Agroalimentare Românești te așteaptă vineri\, 10 octombrie 2025\, de la ora 10.00\, în Piața Centrală din Craiova! \n\n\n Spectacol folcloric cu artiștii Teatrului pentru Copii și Tineret „Colibri” – Secția Folclor „Maria Tănase”: Constantin Enceanu\, Lavinia Bîrsoghe\, Cristian Bănățeanu\, Liliana Popa\, Manuela Motocu\, Marius Măgureanu\, Aneta Șișu și Liviu Dică.\n\n\n Găsești produse hand-made\, miere\, dulciuri tradiționale\, lavandă\, preparate din carne\, pâine în țest și multe alte bunătăți locale!\n\n\nHai să celebrăm tradițiile și gustul autentic românesc!
URL:https://craiovalive.ro/eveniment/ziua-nationala-a-produselor-agroalimentare-romanesti-2025/
CATEGORIES:Gastronomie,Muzică,Târguri
ATTACH;FMTTYPE=image/jpeg:https://craiovalive.ro/wp-content/uploads/2025/10/Ziua-Nationala-a-Produselor-Agroalimentare-Romanesti.jpg
ORGANIZER;CN="Prim%C4%83ria Municipiului Craiova":MAILTO:imaginecv@primariacraiova.ro
END:VEVENT
BEGIN:VEVENT
DTSTART;TZID=Europe/Bucharest:20250720T190000
DTEND;TZID=Europe/Bucharest:20250720T210000
DTSTAMP:20260423T213258
CREATED:20250705T124018Z
LAST-MODIFIED:20250715T114546Z
UID:10007722-1753038000-1753045200@craiovalive.ro
SUMMARY:Festivalul Internațional Adrian Păunescu\, ediția a XI-a
DESCRIPTION:În perioada 18–20 iulie 2025\, la Craiova are loc cea de-a XI-a ediție a Festivalului Internațional Adrian Păunescu – trei zile de poezie\, muzică și emoție.\n\n\n 18 iulie\, ora 15 – Deschiderea oficială și lansarea volumului „Cărțile poștale ale morții” la Biblioteca „Aman”\, cu participarea lui Dorel Vișan.\n Ora 19\, la Filarmonica Oltenia – Grigore Leșe și invitații săi susțin spectacolul „Dor de rost”.\n\n\n 19 iulie\, ora 19\, la Filarmonica Oltenia – spectacolul „Declarația de drag” cu Adrian Păduraru și artiști din teatru și muzică.\n\n\n 20 iulie\, ora 19\, la Teatrul de Vară din Parcul Romanescu – Cenaclul Flacăra reaprinde emoția\, alături de Mircea Baniciu\, Mircea Vintilă\, Emeric Imre\, Magda Puskas\, Cristian Buică\, Mădălina Amon și alți tineri artiști.\n\n\n Evenimentul este organizat de Fundația Culturală Iubirea\, alături de Primăria Municipiului Craiova și Consiliul Local.\n\n\n Intrarea este gratuită\, în limita locurilor disponibile!
URL:https://craiovalive.ro/eveniment/festivalul-international-adrian-paunescu-editia-a-xi-a/2025-07-20/
LOCATION:Locații multiple\, Craiova\, Dolj\, România
CATEGORIES:Muzică
ATTACH;FMTTYPE=image/jpeg:https://craiovalive.ro/wp-content/uploads/2025/07/Festivalul-International-Adrian-Paunescu-editia-a-XI-a.jpg
ORGANIZER;CN="Prim%C4%83ria Municipiului Craiova":MAILTO:imaginecv@primariacraiova.ro
GEO:44.3301785;23.7948808
END:VEVENT
BEGIN:VEVENT
DTSTART;TZID=Europe/Bucharest:20250601T100000
DTEND;TZID=Europe/Bucharest:20250601T170000
DTSTAMP:20260423T213258
CREATED:20250521T120926Z
LAST-MODIFIED:20250521T120926Z
UID:10006605-1748772000-1748797200@craiovalive.ro
SUMMARY:Tezaur de gusturi
DESCRIPTION: 𝐓𝐄𝐙𝐀𝐔𝐑 𝐃𝐄 𝐆𝐔𝐒𝐓𝐔𝐑𝐈 – 𝟑𝟏 𝐦𝐚𝐢 & 𝟏 𝐢𝐮𝐧𝐢𝐞 𝐥𝐚 Ramada Plaza Craiova! După succesul ediției din toamnă Craiova\, capitală gastronomică est-europeană\, vă invităm la un weekend plin de gusturi locale\, vinuri alese și experiențe de neratat! Degustări |  Conferințe despre enoturism |  Crame din toată țara | Masterclass cu Chef Ciprian Nicolescu & Cezar Ioan Intrare liberă Eveniment organizat cu sprijinul Primaria Municipiului Craiova\, Liceul de Industrie Alimentară – Craiova\, We Are Romania și Vinul.ro. Hai să celebrăm împreună gusturile autentice ale Olteniei! \n\nBUCATE OLTENEȘTI & VINURI ROMÂNEȘTI / DEGUSTĂRI ȘI CONFERINȚE GASTRONOMICE\n31 MAI – 1 IUNIE 2025 – RAMADA PLAZA CRAIOVA\n\n“Zilele Craiovei” la Ramada Plaza din localitate constituie prilejul unei noi întâlniri a publicului generalist și a profesioniștilor cu bucatele oltenești și cu vinurile românești\, în 31 mai – 1 iunie 2025\, în cadrul mai larg al proiectului “Craiova\, capitală gastronomică est-europeană”. Ca întregul proiect\, și această reuniune este organizată de Liceul de Industrie Alimentară din localitate cu sprijinul Primăriei Craiova și cu implicarea platformei de gândire și acțiune We Are Romania / YOU ARE WELCOME.\n31 mai – Prima zi a evenimentului\, între orele 12:00 și 19:00\, este rezervată degustărilor: o expoziție de bucate realizate în atelierele Liceului de Industrie Alimentară (LIA) și un Masterclass de praz & vinuri din soiuri românești susținut de Chef Ciprian Nicolescu (Ellipse City Restaurant by Ramada Plaza) și Cezar Ioan (vinul.ro).\nTot în 31 mai – în același interval orar\, oaspeții se vor întâlni cu mai multe crame din Oltenia și din țară: au confirmat până în prezent Avincis\, Banul Mărăcine\, Budureasca\, Crama de Piatră\, Crama Oprișor\, Domeniile Panciu\, Domeniile Vînju Mare\, Domeniul Drăgași\, Olterra. În expoziția cu degustare vor fi prezentate și uleiurile de măsline multimedaliate internațional Eliada – inițiativă a antreprenorului craiovean Cătălin Adam.\nÎn aceași după-amiază de sâmbătă va avea loc conferința “Turismul enogastronomic și cultural și dezvoltarea locală” – unde cei prezenți vor asista la studii de caz din Bulgaria (Anelia Hristova & Iulia Bahovski\, “North East Wine Tours Bulgaria”) și din România (Florin Opriș\, “Descoperă vinurile Olteniei”; David Sandu\, “Crama de Piatră” din Dealu Mare; Alina Podiuc\, “Domeniul Drăgași” din Drăgășani).\nDuminică\, 1 iunie\, de la orele 11:00\, va avea loc cea de-a 10-a ediție a conferințelor naționale “Gastronomia – cu bune\, cu rele”\, dedicate brandului de țară al României izvorât din patrimoniul culinar și cultural românesc – tema de etapă fiind “brandul regional oltenesc și oportunitățile în HoReCa și în retailul internațional”.\nCu participarea cadrelor didactice și a elevilor de la Liceul de Industrie Alimentară (LIA) Craiova\, pe 1 iunie va avea loc și o consfătuire cu privire la modurile în care instituția poate pregăti cât mai bine absolvenții de care ospitalitatea și industria de profil au atâta nevoie în momentul de față.
URL:https://craiovalive.ro/eveniment/tezaur-de-gusturi/2025-06-01/
LOCATION:Ramada Plaza Craiova\, Calea Bucuresti\, nr 1\, Craiova\, Dolj\, România
CATEGORIES:Gastronomie
ATTACH;FMTTYPE=image/jpeg:https://craiovalive.ro/wp-content/uploads/2025/05/Tezaur-de-gusturi.jpg
ORGANIZER;CN="Prim%C4%83ria Municipiului Craiova":MAILTO:imaginecv@primariacraiova.ro
GEO:44.3214396;23.7964694
X-APPLE-STRUCTURED-LOCATION;VALUE=URI;X-ADDRESS=Ramada Plaza Craiova Calea Bucuresti nr 1 Craiova Dolj România;X-APPLE-RADIUS=500;X-TITLE=Calea Bucuresti\, nr 1:geo:23.7964694,44.3214396
END:VEVENT
BEGIN:VEVENT
DTSTART;TZID=Europe/Bucharest:20250601T090000
DTEND;TZID=Europe/Bucharest:20250601T230000
DTSTAMP:20260423T213258
CREATED:20250520T142530Z
LAST-MODIFIED:20250521T130521Z
UID:10006601-1748768400-1748818800@craiovalive.ro
SUMMARY:Zilele Craiovei 2025 - Program duminică\, 01.06
DESCRIPTION:PROGRAM ZILELE MUNICIPIULUI CRAIOVA \n\nDuminică\, 01 iunie\n\n\n 09:30 – 16:00 Muzeul Cărții și Exilului Românesc • Ziua Copiilor la Muzeu: escape room literar\, jocurile copilăriei\, schimb de cărți\, ora de lectură în aer liber\, film și desene animate românești\n\n\n 10:00 – 12:00 Esplanada Teatrului pentru Copii și Tineret Colibri • Desene pe asfalt • Atelierul copilăriei MĂȘTI pentru COPII • Teatru interactiv cu jocuri teatrale\n\n\n10:00 – 13:00 Parcul Nicolae Romanescu – zona Foișor • Ziua Mișcării – Direcția Județeană pentru Sport și Tineret Dolj\n\n\n 10:00 – 14:00 Holul Universității din Craiova • Cupa Municipiului Craiova la șah – Clubul de Șah Rokada Craiova\n\n\n 10:00 – 14:00 Parcul Nicolae Romanescu – zona Debarcader • Târg de adopții canine – SC Salubritate Craiova SRL\n\n\n 10:00 – 14:00 Str. A.I. Cuza (vizavi de Teatrul Național „Marin Sorescu”) • Expoziție mașini de epocă – Retromobil\n\n\n 10:00 – 15:00 Parcul Nicolae Romanescu – Lac • Concurs de pescuit pentru copii – Asociația Club Sportiv UP Carp\n\n\n 10:00 – 17:00 Muzeul Olteniei • Expoziția Incursiune în istoria Craiovei\n\n\n 09:00 – 13:00 Hipodrom – Parcul Nicolae Romanescu • Concurs și demonstrație de echitație – Marele Premiu al Municipiului Craiova – SCM Craiova și Federația Ecvestră Română\n\n\n 10:00 – 21:00 Str. Theodor Aman • ExpoFlora\n\n\n 10:00 – 21:00 Str. A.I. Cuza (English Park) • Test drive trotinete – Gentle Electric\n\n\n 10:00 – 21:00 Str. A.I. Cuza\, zona Universitate – Teatrul Național „Marin Sorescu” • Salonul AutoShow – Camera de Comerț și Industrie Dolj\n\n\n 10:00 – 21:00 Str. A.I. Cuza (English Park) • Activități de promovare Semimaratonul Craiovei – ARTI Craiova\n\n\n 10:00 – 22:00 Piața William Shakespeare • Târgul Zilelor Craiovei – meșteri populari\, manufactură contemporană\, antichități și ateliere de creație – Asociația Carousel Project\n\n\n 10:00 – 22:00 Calea Unirii\, zona Doljana • Târg de handmade și antichități – Manufaktura Biju\n\n\n 10:00 – Fantasy Park • Spectacole pentru copii\n\n\n 11:00 – 23:00 Piața Mihai Viteazul\, Părculeț Mercur\, Str. A.I. Cuza • Food Truck Festival – Check-OUTeam\n\n\n 16:00 – 20:30 Str. A.I. Cuza (English Park) • Atelier String Art • Atelier de creație – personalizare rame foto • Atelier de creație – pictură vase din ceramică – Leroy Merlin\n\n\n 17:00 – 18:00 McDonald’s – Universitate – Piața Mihai Viteazul • Parada Craiovei – Vis de copilărie\n\n\n 18:00 – 23:00 Piața Mihai Viteazul\nSpectacol pentru copii – Elefănțelul curios\, Teatrul pentru Copii și Tineret Colibri\n Filarmonica Oltenia Craiova & Corul Glasuri Cristaline – Păpușile lui Gepetto\nAlexia Țalavutis & Band\n Lidia Buble\n ANDRA\n Foc de artificii\n MC Tom Crîngureanu\n\n\n 19:30 – 21:00 Teatrul de Vară – Parcul Nicolae Romanescu • Spectacol de dans Ritmuri de Suflet – Asociația Culturală Sportivă Freaks Dance
URL:https://craiovalive.ro/eveniment/zilele-craiovei-2025-program-duminica-01-06/
LOCATION:Locații multiple\, Craiova\, Dolj\, România
CATEGORIES:Târguri
ATTACH;FMTTYPE=image/png:https://craiovalive.ro/wp-content/uploads/2025/05/Zilele-Craiovei-2025.png
ORGANIZER;CN="Prim%C4%83ria Municipiului Craiova":MAILTO:imaginecv@primariacraiova.ro
GEO:44.3301785;23.7948808
END:VEVENT
END:VCALENDAR