BEGIN:VCALENDAR
VERSION:2.0
PRODID:-//Craiova Live - ECPv6.15.18//NONSGML v1.0//EN
CALSCALE:GREGORIAN
METHOD:PUBLISH
X-WR-CALNAME:Craiova Live
X-ORIGINAL-URL:https://craiovalive.ro
X-WR-CALDESC:Evenimente pentru Craiova Live
REFRESH-INTERVAL;VALUE=DURATION:PT1H
X-Robots-Tag:noindex
X-PUBLISHED-TTL:PT1H
BEGIN:VTIMEZONE
TZID:Europe/Bucharest
BEGIN:DAYLIGHT
TZOFFSETFROM:+0200
TZOFFSETTO:+0300
TZNAME:EEST
DTSTART:20250330T010000
END:DAYLIGHT
BEGIN:STANDARD
TZOFFSETFROM:+0300
TZOFFSETTO:+0200
TZNAME:EET
DTSTART:20251026T010000
END:STANDARD
BEGIN:DAYLIGHT
TZOFFSETFROM:+0200
TZOFFSETTO:+0300
TZNAME:EEST
DTSTART:20260329T010000
END:DAYLIGHT
BEGIN:STANDARD
TZOFFSETFROM:+0300
TZOFFSETTO:+0200
TZNAME:EET
DTSTART:20261025T010000
END:STANDARD
BEGIN:DAYLIGHT
TZOFFSETFROM:+0200
TZOFFSETTO:+0300
TZNAME:EEST
DTSTART:20270328T010000
END:DAYLIGHT
BEGIN:STANDARD
TZOFFSETFROM:+0300
TZOFFSETTO:+0200
TZNAME:EET
DTSTART:20271031T010000
END:STANDARD
END:VTIMEZONE
BEGIN:VEVENT
DTSTART;TZID=Europe/Bucharest:20260423T170000
DTEND;TZID=Europe/Bucharest:20260423T183000
DTSTAMP:20260423T181846
CREATED:20260420T091219Z
LAST-MODIFIED:20260420T091219Z
UID:10014567-1776963600-1776969000@craiovalive.ro
SUMMARY:Conferința V. G. Paleolog - Brâncuși: reabilitări necesare
DESCRIPTION:Muzeul de Artă Craiova vă invită joi\, 23 aprilie\, 2026\, ora 17:00\, la Centrul „Constantin Brâncuși” din Craiova\, unde va avea loc un nou eveniment dedicat Anului „Constantin Brâncuși” – 150 de ani de la nașterea sculptorului. Invitatul de onoare ale acestei ediții este istoricul de artă Andrei Paleolog\, care va susține o conferință cu tema: V. G. PALEOLOG – BRÂNCUȘI: reabilitări necesare.\nVor fi aduse în discuție aspecte legate de prietenia dintre V. G. Paleolog și Brâncuși\, scoțând în evidență rolul și locul lui Paleolog în bibliografia brâncușiană\, prima și singura monografie critică apărută în timpul vieții sculptorului\, tipărită în limba franceză\, la București\, fiind scrisă de acesta.Va fi analizată perioada 1947 – 1966\, când V. G. Paleolog\, pasionat promotor al „avangardei” artistice europene\, a traversat o epocă de tristă amintire. A fost martorul neputincios al răsturnării valorilor culturale\, numărându-se el însuși printre numeroasele victime ale unui proces de eradicare a elitei intelectuale românești\, care ocupa un loc de frunte\, pe plan mondial\, în perioada interbelică. A urmat iluzia unei posibile reajustări ideologice\, care a alimentat\, pentru o scurtă perioadă\, între anii 1966 și1971\, speranța celor care au crezut necesară reabilitarea unor valori reprezentative ale spiritului și culturii românești.Un moment important este legat de primul Simpozion internațional dedicat lui Constantin Brâncuși\, în 1967. Grație lui V. G. Paleolog\, un număr important de admiratori ai lui Brâncuși (francezi\, americani\, italieni) au acceptat invitația de veni în România\, simpozionul constituind un pas decisiv în direcția reafirmării valorilor românești\, prin prisma operei acestui artist român\, recunoscut la nivel mondial.Includerea lui V. G. Paleolog între membrii Asociației internaționale a criticilor de artă (AICA) sub egida UNESCO a fost o recunoaștere a contribuției sale de excepție. În plus\, crearea „Informaticii Brâncuși” la Craiova și București\, demersurile de recuperare a vestigiilor atelierului parizian al marelui sculptor\, prima traducere a stenogramei procesului „Brâncuși vs. S.U.A”\, desfășurat la New York în anii 1926-1928\, stimularea analizei genetice a operei brâncușiene precum și încurajarea unor tineri cercetători precum Ion Pogorilovschi\, Adrian Petringenaru\, Constantin Zărnescu\, etc. sunt inițiative care îi oferă lui V. G. Paleolog un poziție fără precedent. Cărțile și articolele sale se dovedesc a fi și în prezent surse de inspirație pentru mulți dintre cei care sunt tentați să studieze sau să comenteze opera lui Constantin Brâncuși.\nAccesul este gratuit în limita locurilor disponibile\n\nAndrei PALEOLOG (n. 1946)nepot al lui V. G. Paleolog\, istoric de artă direct implicat\, în anii 1970-1980\, în domeniul protecției și valorizării monumentelor istorice\, autor al unor studii referitoare la arta veche românească precum: Pictura exterioară din Țara românească (Editura Meridiane)\, stabilit în Franta de mai bine de 40 de ani\, continuă să fie prezent pe plan cultural publicând\, între altele\, Le Mont Athos. Merveille du christianisme byzantin (Editura Gallimard) sau Brancusi contre États-Unis. Un procès historique (Editura A. Biro)\, etc.Specializat în domeniul ingineriei culturale\, editor și conferețiar\, Andrei Paleolog a îndeplinit numeroase misiuni sub egida UNESCO\, a Centrului european pentru itinerarii culturale (IEIC) sau a Ministerului culturii francez (vezi și : CLUCERU\, F.\, Istorici și critici de artă români\, ACS\, 2021).
URL:https://craiovalive.ro/eveniment/conferinta-paleolog-brancusi-reabilitari-necesare/
LOCATION:Centrul Constantin Brâncuși\, Calea Unirii\, nr. 15\, Craiova\, Dolj\, România
CATEGORIES:Conferință
ATTACH;FMTTYPE=image/jpeg:https://craiovalive.ro/wp-content/uploads/2026/04/Conferinta-V.-G.-Paleolog-Brancusi-reabilitari-necesare-scaled.jpg
ORGANIZER;CN="Muzeul de Art%C4%83 Craiova":MAILTO:info@muzeuldeartacraiova.ro
GEO:44.318902447163;23.795509159946
X-APPLE-STRUCTURED-LOCATION;VALUE=URI;X-ADDRESS=Centrul Constantin Brâncuși Calea Unirii nr. 15 Craiova Dolj România;X-APPLE-RADIUS=500;X-TITLE=Calea Unirii\, nr. 15:geo:23.795509159946,44.318902447163
END:VEVENT
BEGIN:VEVENT
DTSTART;TZID=Europe/Bucharest:20260424T100000
DTEND;TZID=Europe/Bucharest:20260424T170000
DTSTAMP:20260423T181846
CREATED:20260215T184758Z
LAST-MODIFIED:20260420T090911Z
UID:10013135-1777024800-1777050000@craiovalive.ro
SUMMARY:Expoziție Paleolog - Brâncuși - Un alfabetar necesar
DESCRIPTION:Muzeul de Artă Craiova marchează 150 de ani de la nașterea sculptorului Constantin Brâncuși\, printr-un proiect expozițional care aduce în actualitate personalitatea lui V. G. Paleolog (1890-1979) și demersurile sale susținute pentru a face cunoscută opera lui Brâncuși\, într-o perioadă în care asemenea preocupări aveau statut de pionierat.\n\nPentru a descoperi datele care au condus la crearea și perpetuarea legăturii dintre aceste două personalități ale culturii românești și universale\, vă invităm să fiți alături de noi\, miercuri\, 18 februarie 2026\, ora 17:00\, la Centrul „Constantin Brâncuși” din Craiova\, unde va avea loc deschiderea oficială.\n\nExpoziția are un caracter documentar și prezintă publicului cărți\, documente\, manuscrise și fotografii din colecția familiei și colecția Muzeului de Artă Craiova. Sunt aduse în prim plan studiile și volumele lui V. G. Paleolog referitoare la opera lui Constantin Brâncuși\, împreună cu alte două proiecte\, mai puțin cunoscute\, care i-au marcat existența: Informatica Brâncuși și Memorialul Brâncuși. Datorită lui Paleolog au fost aduse la Craiova ultimele mărturii fizice ale atelierului lui Brâncuși de la Paris\, în ideea de a recrea o replică simbolică a atelierului\, sub numele Memorialul Brâncuși. Zona documentară este completată cu piese originale\, din perioada în care Brâncuși era elev la Școala de Arte și Meserii\, aflate în colecția Muzeului de Artă Craiova și a Liceului Tehnologic „Constantin Brâncuși”\, un portret al lui V. G. Paleolog (ghips patinat)\, realizat de Anghel Chiciu la Paris\, în 1912\, și o copie în bronz după lucrarea Vitellius\, de Constantin Brâncuși\, din colecția Muzeului de Artă Craiova.\n\nNu în ultimul rând\, este documentată o perioadă importantă pentru activitatea lui V. G. Paleolog\, respectiv 1964-1978\, când\, în plină epocă comunistă\, acesta a făcut o adevărată propagandă culturală\, publicând texte în ziarele locale și revistele de cultură\, cu difuzare națională\, realizând emisiuni radio și contribuind astfel la cunoașterea și înțelegerea operei lui Brâncuși. Unul din materialele scrise de Paleolog la acea vreme a fost și sursa noastră de inspirație pentru titlul expoziției. Dacă\, în 1965\, autorul anunța că miza articolelor sale este aceea de a oferi publicului „un alfabet pentru citirea operelor lui Brâncuși”\, prin acest proiect am căutat să creăm un „alfabetar”\, care să recompună\, într-o imagine de ansamblu\, rezultatul eforturilor de o viață ale lui V. G. Paleolog. În acest fel este conturată posteritatea celui care a rămas în istorie ca primul monograf al lui Brâncuși și autor al unor studii de referință pentru opera brâncușiană.\n\nUrmărind toate aceste aspecte\, fără a avea o miză strict locală\, proiectul punctează și o serie de demersuri datorită cărora Craiova devine locul în care s-a încercat recuperarea simbolică a unui fragment aparținând biografiei brâncușiene. Prin aceste restituiri putem oferi un posibil răspuns la întrebarea care persistă și revine\, în fiecare an\, în preajma Zilei Naționale Brâncuși: Ce a făcut și ce face România pentru marele sculptor?\n\nExpoziția va putea fi vizitată la Centrul „Constantin Brâncuși” din Craiova\, în perioada 19 februarie – 17 mai 2026\, de marți până duminică\, între orele 10:00 și 17:00\, accesul fiind gratuit.\n\nCa evenimente colaterale acestei expoziții\, în perioada aferentă desfășurării ei\, vor fi organizate două serii de conferințe susținute de istorici de artă recunoscuți. Prima dintre acestea va avea loc pe data de 7 martie 2026\, avându-i ca invitați pe: Doina Lemny\, Ruxandra Demetrescu și Cristian Robert Velescu. A doua serie de conferințe va fi susținută de domnul Andrei Paleolog\, donatorul fondului arhivistic Tretie Paleolog de la Muzeul de Artă Craiova\, data exactă a acesteia urmând să fie comunicată în preajma evenimentului.
URL:https://craiovalive.ro/eveniment/paleolog-brancusi-un-alfabetar-necesar/2026-04-24/
LOCATION:Centrul Constantin Brâncuși\, Calea Unirii\, nr. 15\, Craiova\, Dolj\, România
CATEGORIES:Expoziție
ATTACH;FMTTYPE=image/jpeg:https://craiovalive.ro/wp-content/uploads/2026/02/Paleolog-Brancusi-Un-alfabetar-necesar-scaled.jpg
ORGANIZER;CN="Muzeul de Art%C4%83 Craiova":MAILTO:info@muzeuldeartacraiova.ro
GEO:44.318902447163;23.795509159946
X-APPLE-STRUCTURED-LOCATION;VALUE=URI;X-ADDRESS=Centrul Constantin Brâncuși Calea Unirii nr. 15 Craiova Dolj România;X-APPLE-RADIUS=500;X-TITLE=Calea Unirii\, nr. 15:geo:23.795509159946,44.318902447163
END:VEVENT
BEGIN:VEVENT
DTSTART;TZID=Europe/Bucharest:20260424T100000
DTEND;TZID=Europe/Bucharest:20260424T170000
DTSTAMP:20260423T181846
CREATED:20260316T133655Z
LAST-MODIFIED:20260316T133655Z
UID:10014232-1777024800-1777050000@craiovalive.ro
SUMMARY:Expoziție aniversară „Carol I – Artă și Patrimoniu”
DESCRIPTION:Expoziție aniversară „Carol I – Artă și Patrimoniu”\, la Muzeul de Artă Craiova \nMuzeul de Artă Craiova organizează vineri\, 20 martie\, de la ora 17:00\, vernisajul expoziției „Colegiul Național Carol I Craiova – Artă și Patrimoniu”\, eveniment dedicat aniversării Bicentenarului Colegiului Național Carol I – 200 de ani de la înființarea uneia dintre cele mai importante instituții de învățământ din România. \nExpoziția este curatoriată de Lucian Rogneanu și este realizată în colaborare cu Colegiul Național Carol I Craiova și Muzeul Național Peleș\, cu sprijinul mai multor instituții culturale și educaționale. \nLucrări de artă și documente istorice\nEvenimentul reunește o selecție de lucrări de artă din patrimoniul muzeal\, dar și o colecție de carte veche din biblioteca Colegiului Național „Carol I”. Prin aceste exponate\, publicul poate descoperi atât patrimoniul artistic\, cât și istoria unei instituții care a format generații de personalități ale culturii române. \nExpoziția include și materiale documentare și fotografii\, care evidențiază rolul important al colegiului în educația și formarea unor figuri marcante din domeniul științei\, culturii și artei. \nDouă versiuni ale „Ecorșeului” lui Brâncuși\nUn punct central al expoziției îl reprezintă lucrarea „Ecorșeul”\, realizată de Constantin Brâncuși împreună cu profesorul Dimitrie Gerota. \nOpera\, aflată în colecția Colegiului „Carol I”\, a fost restaurată recent cu ocazia programului Timișoara – Capitală Europeană a Culturii 2023. Cu prilejul acestei expoziții\, vizitatorii vor putea vedea pentru prima dată în spațiul muzeului cele două versiuni ale Ecorșeului\, aflate în patrimoniul instituțiilor culturale din Craiova. \nUn omagiu adus absolvenților de prestigiu\nProiectul expozițional își propune să aducă în prim-plan contribuția unor personalități importante care au studiat la Colegiul Național Carol I Craiova și care au influențat dezvoltarea culturii și societății românești în secolele XIX și XX. \nEvenimentul este organizat cu sprijinul Consiliul Județean Dolj\, Primăria Municipiului Craiova\, Universitatea din Craiova\, Teatrul Național Marin Sorescu\, precum și al instituțiilor din domeniul educației. \nProgram de vizitare\nExpoziția va putea fi vizitată în perioada 21 martie – 24 mai 2026\, în sălile de la parterul Palatul Jean Mihail. \nProgramul de vizitare este: \n\nmarți – duminică: 10:00 – 17:00\n\nÎn prima zi de miercuri a fiecărei luni\, accesul publicului este gratuit.
URL:https://craiovalive.ro/eveniment/expozitie-aniversara-carol-i-arta-si-patrimoniu/2026-04-24/
LOCATION:Muzeul de Artă Craiova\, Calea Unirii\, nr. 15\, Craiova\, Dolj\, România
CATEGORIES:Expoziție
ATTACH;FMTTYPE=image/jpeg:https://craiovalive.ro/wp-content/uploads/2026/03/Expozitie-aniversara-„Carol-I-–-Arta-si-Patrimoniu.jpg
ORGANIZER;CN="Muzeul de Art%C4%83 Craiova":MAILTO:info@muzeuldeartacraiova.ro
GEO:44.3191666;23.7952566
X-APPLE-STRUCTURED-LOCATION;VALUE=URI;X-ADDRESS=Muzeul de Artă Craiova Calea Unirii nr. 15 Craiova Dolj România;X-APPLE-RADIUS=500;X-TITLE=Calea Unirii\, nr. 15:geo:23.7952566,44.3191666
END:VEVENT
END:VCALENDAR