BEGIN:VCALENDAR
VERSION:2.0
PRODID:-//Craiova Live - ECPv6.15.18//NONSGML v1.0//EN
CALSCALE:GREGORIAN
METHOD:PUBLISH
X-WR-CALNAME:Craiova Live
X-ORIGINAL-URL:https://craiovalive.ro
X-WR-CALDESC:Evenimente pentru Craiova Live
REFRESH-INTERVAL;VALUE=DURATION:PT1H
X-Robots-Tag:noindex
X-PUBLISHED-TTL:PT1H
BEGIN:VTIMEZONE
TZID:Europe/Bucharest
BEGIN:DAYLIGHT
TZOFFSETFROM:+0200
TZOFFSETTO:+0300
TZNAME:EEST
DTSTART:20240331T010000
END:DAYLIGHT
BEGIN:STANDARD
TZOFFSETFROM:+0300
TZOFFSETTO:+0200
TZNAME:EET
DTSTART:20241027T010000
END:STANDARD
BEGIN:DAYLIGHT
TZOFFSETFROM:+0200
TZOFFSETTO:+0300
TZNAME:EEST
DTSTART:20250330T010000
END:DAYLIGHT
BEGIN:STANDARD
TZOFFSETFROM:+0300
TZOFFSETTO:+0200
TZNAME:EET
DTSTART:20251026T010000
END:STANDARD
BEGIN:DAYLIGHT
TZOFFSETFROM:+0200
TZOFFSETTO:+0300
TZNAME:EEST
DTSTART:20260329T010000
END:DAYLIGHT
BEGIN:STANDARD
TZOFFSETFROM:+0300
TZOFFSETTO:+0200
TZNAME:EET
DTSTART:20261025T010000
END:STANDARD
END:VTIMEZONE
BEGIN:VEVENT
DTSTART;TZID=Europe/Bucharest:20250913T170000
DTEND;TZID=Europe/Bucharest:20250913T203000
DTSTAMP:20260424T071924
CREATED:20250911T074729Z
LAST-MODIFIED:20250911T074729Z
UID:10009715-1757782800-1757795400@craiovalive.ro
SUMMARY:Skirt Bike Craiova
DESCRIPTION:Invităm doamnele și domnișoarele să dea frâu liber imaginației cromatice și bunului gust vestimentar\, să îmbrace rochii și fuste\, să spargă tiparele și să se alăture inițiativei Skirt Bike Craiova din data de 13 septembrie 2025\, incepând cu ora 17.00.\nNe așteptăm la o explozie de culoare sperând să creăm o relație nuanțată și expresivă cu bicicleta.\nEvenimentul promovează egalitatea de șanse\, activând astfel Drepturile Femeilor într-o societate contemporană modernă\, fapt pentru care in cadrul editiei din acest an de SkirtBike in Craiova (după tura urbană) vom avea o sesiune speciala de dezbatere alaturi de doua invitate avand ca tema ”implicarea in comunitate a femeilor” care se va desfășura incepând cu ora 19.00 la foisorul – fanfara din Parcul Nicolae Romanescu.\nParada va începe la ora 17.30\, având următorul traseu: Parcul N. Romanescu (monument) – BLD. 1 Mai – BLD. Stirbei Voda – Str. Matei Basarab – Str. Libertatii – Str. Bibescu – Str. Brestei – Str. Calea Bucuresti – Pasaj Subteran Universitate – Str. Eugeniu Carada – Str. C.D. Fortunescu – Str. Fratii Buzesti – Str. Simion Barnutiu – Str. Calea Unirii – Bld. Nicolae Romanescu – Parcul N. Romanescu (monument) – Parcul N. Romanescu (aleea principala) – Parcul N. Romanescu (zona fanfara) – Casa Bibescu.Dress code-ul evenimentului este conturat de culoarea roz/magenta\, in timp ce tema editiei este florala – pastel.\nÎn cadrul activității\, organizatorii au pregatit si activitati surpriza\, printre acestea numărându-se: concursuri cu premii\, tombole ad-hoc\, photo corner\, prezentari de produse.\nÎnscrierea la eveniment se face accesand link-ul https://forms.gle/UfcY2qWRd1F6V1wE6 prin care puteti participa la tombola Skirt Bike.\nSimbolistica de participare poate fi procurată in ziua evenimentului\, incepand cu ora 17.00\, din Parcul Nicolae Romanescu\, centrul de inchirieri biciclete (monument).\nPlecarea este programată la ora 17:30 si estimăm 40 de minute pentru efectuarea întregului traseu. Acesta va avea aproximativ 8 km și nu va reprezenta o competitie\, ci doar o parada. Pe întreg traseul coloana o să fie însoţită de biciclişti care fac parte din sfaff-ul organizatoric.\nPrimele 50 de bicicliste INSCRISE vor avea bicicleta asigurată de catre organizatori.\nEvenimentul este organizat de către JCI Craiova\, Skirt Bike Craiova.Evenimentul SKIRT BIKE face parte din proiectul Bike for SDGs Craiova finanțat prin Programul Corpul European de Solidaritate\, Acțiunea Proiecte de voluntariat/Proiecte de solidaritate. În cadrul acestui proiect ne-am propus să promovăm bicicleta ca fiind un factor important în îndeplinirea țintelor aferente celor 17 ODD-uri de la e-cycling la cargo cycling având un efect direct asupra implementării unui număr de 11 ODD-uri.\n\nImportant!!!La acest eveniment\, conform Codului Rutier și în baza recomandărilor Poliției Rutiere\, nu este permisă participarea minorilor cu vârsta sub 14 ani. Vă rugăm să țineti cont de acest aspect. Multumim!\nVă mulţumim şi vă aşteptăm cu drag!
URL:https://craiovalive.ro/eveniment/skirt-bike-craiova/
LOCATION:Parcul Nicolae Romanescu\, Craiova\, Dolj\, România
CATEGORIES:Sport
ATTACH;FMTTYPE=image/jpeg:https://craiovalive.ro/wp-content/uploads/2025/09/Skirt-Bike-Craiova.jpg
ORGANIZER;CN="JCI Craiova":MAILTO:contact@jcicraiova.ro
GEO:44.301907335609;23.799200026224
END:VEVENT
END:VCALENDAR