BEGIN:VCALENDAR
VERSION:2.0
PRODID:-//Craiova Live - ECPv6.15.18//NONSGML v1.0//EN
CALSCALE:GREGORIAN
METHOD:PUBLISH
X-WR-CALNAME:Craiova Live
X-ORIGINAL-URL:https://craiovalive.ro
X-WR-CALDESC:Evenimente pentru Craiova Live
REFRESH-INTERVAL;VALUE=DURATION:PT1H
X-Robots-Tag:noindex
X-PUBLISHED-TTL:PT1H
BEGIN:VTIMEZONE
TZID:Europe/Bucharest
BEGIN:DAYLIGHT
TZOFFSETFROM:+0200
TZOFFSETTO:+0300
TZNAME:EEST
DTSTART:20240331T010000
END:DAYLIGHT
BEGIN:STANDARD
TZOFFSETFROM:+0300
TZOFFSETTO:+0200
TZNAME:EET
DTSTART:20241027T010000
END:STANDARD
BEGIN:DAYLIGHT
TZOFFSETFROM:+0200
TZOFFSETTO:+0300
TZNAME:EEST
DTSTART:20250330T010000
END:DAYLIGHT
BEGIN:STANDARD
TZOFFSETFROM:+0300
TZOFFSETTO:+0200
TZNAME:EET
DTSTART:20251026T010000
END:STANDARD
BEGIN:DAYLIGHT
TZOFFSETFROM:+0200
TZOFFSETTO:+0300
TZNAME:EEST
DTSTART:20260329T010000
END:DAYLIGHT
BEGIN:STANDARD
TZOFFSETFROM:+0300
TZOFFSETTO:+0200
TZNAME:EET
DTSTART:20261025T010000
END:STANDARD
BEGIN:DAYLIGHT
TZOFFSETFROM:+0200
TZOFFSETTO:+0300
TZNAME:EEST
DTSTART:20270328T010000
END:DAYLIGHT
BEGIN:STANDARD
TZOFFSETFROM:+0300
TZOFFSETTO:+0200
TZNAME:EET
DTSTART:20271031T010000
END:STANDARD
END:VTIMEZONE
BEGIN:VEVENT
DTSTART;TZID=Europe/Bucharest:20260423T120000
DTEND;TZID=Europe/Bucharest:20260423T160000
DTSTAMP:20260423T212124
CREATED:20260224T131225Z
LAST-MODIFIED:20260224T131225Z
UID:10014085-1776945600-1776960000@craiovalive.ro
SUMMARY:Expoziție personală Petru Lucaci - ”Sortir du noir”
DESCRIPTION:Gloriae Art Gallery vă invită vineri\, 6 martie\, ora 18:00\, la GLORIÆ Art Gallery\, pentru deschiderea ”Sortir du noir”\, expoziția personală a lui Petru Lucaci. Vernisajul va avea loc în prezența artistului și a curatoarei\, doamna profesor universitar Ruxandra Demetrescu.\n\nProiectul stă sub semnul revizitării și al sintezei: revizitare\, deoarece Petru Lucaci reia o temă esențială ce a marcat un parcurs început în urmă cu mai bine de trei decenii\, în care negrul era culoarea dominantă\, vizibilă în mai multe cicluri („Noctumbre”\, „Alb/Negru”\, „Night Shadows”\, „Clarobscur”\, „Black-based Cocktail”). Preocupat de posibilitățile și limitele picturii\, Lucaci a luat mereu „în răspăr” tradiționalele „părți ale picturii”: desenul\, clarobscurul\, culoarea\, construcția spațiului și\, nu în ultimul rând\, istoria din tablou.\n\nPotrivit curatoarei Ruxandra Demetrescu\, „spectacolul vizual propus de Petru Lucaci în această expoziție marchează un moment emblematic al activității sale artistice\, mi-am amintit o frază din Sortir du noir: comentând Fiul lui Saul\, filmul lui Lázsló Nemes\, Georges Didi-Huberman afirma că: «imaginea care țâșnește din negru își are propriile limite tactile». Problema limitei dintre vizual și tactil\, dintre negru și exuberanța cromatică — care «iese din negru» —\, are și pentru Petru Lucaci o profundă semnificație spirituală\, care se cuvine regăsită/descifrată cu atenția privirii scormonitoare și răbdătoare a spectatorului.”\n\nExpoziția va fi deschisă din 6 martie până la 8 mai 2026.\n\nGLORIÆ Art Gallery este situată în centrul istoric al Craiovei\, pe str. Alexandru Macedonski nr. 49 și poate fi vizitată în zilele de joi\, vineri și sâmbătă între orele 12:00 și 16:00.\n–-\nPetru Lucaci (n. 1956\, Arad) este artist vizual\, profesor universitar doctor la Universitatea Națională de Arte București\, curator și o figură centrală a managementului cultural din România\, ocupând din 2010 funcțiile de președinte al Uniunii Artiștilor Plastici din România și director al Revistei Arta. Este absolvent al Institutului de Arte Plastice Nicolae Grigorescu din București\, la Departamentul Pictură\, în anul 1982. Are un Doctorat în Arte Vizuale cu tema „Despre Negru” susținut în 2006\, iar activitatea sa expozițională cuprinde participări la peste 250 de expoziții de grup în țară și în străinătate\, precum și peste 45 de expoziții personale. Practica artistică include pictură\, grafică\, fotografie\, obiect/instalaţie\, happening şi noile media. În 2004 a primit Ordinul Meritul Cultural în rang de ofiţer categoria C\, iar în 2006\, Uniunea Artiştilor Plastici i-a decernat Premiul pentru Excelență.
URL:https://craiovalive.ro/eveniment/expozitie-personala-petru-lucaci-sortir-du-noir/2026-04-23/
LOCATION:Gloriæ Art Gallery\, Str. Alexandru Macedonski\, Nr. 49\, Craiova\, Dolj\, România
CATEGORIES:Expoziție
ATTACH;FMTTYPE=image/jpeg:https://craiovalive.ro/wp-content/uploads/2026/02/Expozitie-personala-Petru-Lucaci-Sortir-du-noir.jpg
ORGANIZER;CN="Glori%C3%A6 Art Gallery":MAILTO:office@gloriae.ro
GEO:44.312189;23.8001597
X-APPLE-STRUCTURED-LOCATION;VALUE=URI;X-ADDRESS=Gloriæ Art Gallery Str. Alexandru Macedonski Nr. 49 Craiova Dolj România;X-APPLE-RADIUS=500;X-TITLE=Str. Alexandru Macedonski\, Nr. 49:geo:23.8001597,44.312189
END:VEVENT
BEGIN:VEVENT
DTSTART;TZID=Europe/Bucharest:20260305T183000
DTEND;TZID=Europe/Bucharest:20260305T203000
DTSTAMP:20260423T212124
CREATED:20251030T213235Z
LAST-MODIFIED:20260204T164642Z
UID:10013034-1772735400-1772742600@craiovalive.ro
SUMMARY:serArte – prezentări despre artă modernă și contemporană (modul 2)
DESCRIPTION:SerArtele revin la galerie! În această iarnă vă invităm la cel de-al doilea modul de cursuri dedicate artei moderne și contemporane\, coordonate de lectorul Valentin Boiangiu.\nContinuăm serile la galerie în care îmbinăm educația cu plăcerea\, intelectul cu esteticul și informația cu dezbaterea. Noul modul cuprinde opt întâlniri de aprofundare\, pentru inițiați\, create pentru a oferi o perspectivă mai detaliată asupra conceptelor esențiale ale artei moderne și contemporane.\nSesiunile vor avea un caracter critic\, analitic\, informativ și interactiv\, ilustrate prin exemple semnificative din arta europeană și americană. Valentin Boiangiu\, lector principal în Fine Art\, cu o vastă experiență internațională\, va oferi cadrul explicativ și conceptual al acestor explorări.\nÎntâlnirile vor avea loc la GLORIÆ Art Gallery\, în zilele de joi\, între orele 18:30–20:30 (cu o scurtă pauză)\, după următorul calendar: 27 noiembrie\, 4\, 11\, 18 decembrie (2025)\, 15\, 22\, 29 ianuarie\, 5 februarie (2026).\n\nSubiectele cursurilor modulului 2:Pictura Contemporană\, Mediu de Succes? (27 noiembrie 2025)Desenul ca Act Performativ (4 decembrie)Arta în Spațiul Public (11 decembrie)Medii/Locații Artistice (18 decembrie)Æstetica-Frumosul (22 ianuarie 2026)Æstetica-Urâtul (29 ianuarie)Știința și Arta (26 februarie)Cercetarea în Artă și Design sau Pop Art (5 martie)\n\nTaxa de participare: 150 lei/persoană/sesiune.Ofertă specială pentru toate cele opt sesiuni: 1000 lei/persoană. Locurile sunt limitate. Pentru detalii și înscrieri\, puteți scrie un mesaj pe pagina de Facebook a Gloriæ Art Gallery.
URL:https://craiovalive.ro/eveniment/serarte-prezentari-despre-arta-moderna-si-contemporana-modul-2/2026-03-05/
LOCATION:Gloriæ Art Gallery\, Str. Alexandru Macedonski\, Nr. 49\, Craiova\, Dolj\, România
CATEGORIES:Conferință
ATTACH;FMTTYPE=image/jpeg:https://craiovalive.ro/wp-content/uploads/2025/10/serArte-–-prezentari-despre-arta-moderna-si-contemporana-modul-2.jpg
ORGANIZER;CN="Glori%C3%A6 Art Gallery":MAILTO:office@gloriae.ro
GEO:44.312189;23.8001597
X-APPLE-STRUCTURED-LOCATION;VALUE=URI;X-ADDRESS=Gloriæ Art Gallery Str. Alexandru Macedonski Nr. 49 Craiova Dolj România;X-APPLE-RADIUS=500;X-TITLE=Str. Alexandru Macedonski\, Nr. 49:geo:23.8001597,44.312189
END:VEVENT
BEGIN:VEVENT
DTSTART;TZID=Europe/Bucharest:20260116T180000
DTEND;TZID=Europe/Bucharest:20260116T193000
DTSTAMP:20260423T212124
CREATED:20260112T204334Z
LAST-MODIFIED:20260112T204334Z
UID:10012775-1768586400-1768591800@craiovalive.ro
SUMMARY:Finisaj și lansare catalog - expoziția „Doar eu pot fi aiciacum”
DESCRIPTION:Vă așteptăm vineri\, 16 ianuarie 2026\, ora 18:00\, la GLORIÆ Art Gallery\, pentru finisajul și lansarea catalogului expoziției „Doar eu pot fi aiciacum”.\nExpoziția\, deschisă în octombrie 2025\, este un proiect colectiv care reunește lucrările artiștilor Paul Ilfoveanu\, Ana Ionescu\, Albert Kaan\, Irina Motroc\, Radu Pandele\, Ana Pascu și Alexandru Ranga.Curatori: Anne-Marie Lolea și Gloria Berceanu.\nEste ultima oportunitate de a parcurge expoziția\, întinsă în toate cele trei spații ale galeriei.\nTitlul „Doar eu pot fi aiciacum” propune\, așa cum notează curatoarea Anne-Marie Lolea\, „o trecere subtilă de la spațiul comun la spațiul întrupat\, un moment de respiro de care fiecare dintre noi are nevoie”. Conceptul se construiește în jurul ideii de „Ba”\, formulată de Ikujiro Nonaka și definită ca un context viu în care cunoașterea\, emoția și experiența se nasc prin prezență și interacțiune.\nViziunea curatorială a Gloriei Berceanu accentuează rolul privitorului ca parte activă a expoziției: „Articularea camerelor servește primordial privitorului. Demersul constituie o invitație la explorare\, la îndepărtare de precepte și apropiere de sensibilități intime imediate. Șapte artiști cu personalități și practici distincte se transformă într-o entitate singulară\, uniți prin experiența universală a ceea ce înseamnă «să fii într-un moment și într-un loc determinat».”\nGLORIÆ Art Gallery este situată în centrul istoric al Craiovei\, pe str. Alexandru Macedonski nr. 49.
URL:https://craiovalive.ro/eveniment/finisaj-si-lansare-catalog-expozitia-doar-eu-pot-fi-aiciacum/
LOCATION:Gloriæ Art Gallery\, Str. Alexandru Macedonski\, Nr. 49\, Craiova\, Dolj\, România
CATEGORIES:Expoziție
ATTACH;FMTTYPE=image/jpeg:https://craiovalive.ro/wp-content/uploads/2026/01/Finisaj-si-lansare-catalog-expozitia-„Doar-eu-pot-fi-aiciacum.jpg
ORGANIZER;CN="Glori%C3%A6 Art Gallery":MAILTO:office@gloriae.ro
GEO:44.312189;23.8001597
X-APPLE-STRUCTURED-LOCATION;VALUE=URI;X-ADDRESS=Gloriæ Art Gallery Str. Alexandru Macedonski Nr. 49 Craiova Dolj România;X-APPLE-RADIUS=500;X-TITLE=Str. Alexandru Macedonski\, Nr. 49:geo:23.8001597,44.312189
END:VEVENT
BEGIN:VEVENT
DTSTART;TZID=Europe/Bucharest:20250912T170000
DTEND;TZID=Europe/Bucharest:20250912T200000
DTSTAMP:20260423T212124
CREATED:20250908T101810Z
LAST-MODIFIED:20250908T101810Z
UID:10009702-1757696400-1757707200@craiovalive.ro
SUMMARY:Finisaj\, masă rotundă și lansare catalog expoziția „Arheologii feminine” la GLORIÆ Art Gallery
DESCRIPTION:GLORIÆ Art Gallery vă invită vineri\, 12 septembrie 2025\, la o serie de evenimente speciale dedicate închiderii expoziției „Arheologii feminine”\, care a adus împreună creațiile artistelor Marilena Preda-Sânc\, Aurora Király\, Elena Scutaru și Roxana Trestioreanu\, un proiect curatoriat de Ruxandra Demetrescu. \nProgramul zilei începe la ora 17:00\, cu o masă rotundă la care vor participa artistele Marilena Preda-Sânc\, Elena Scutaru și Roxana Trestioreanu\, curatoarea și invitata specială Magda Cârneci – istoric de artă\, scriitoare și una dintre protagonistele expoziției Arheologie feminină din anul 2000\, proiect care a inspirat chiar titlul actualei expoziții. Discuția va explora dimensiunea feminină și feministă în cultura vizuală românească contemporană\, rememorând totodată momente emblematice precum En En Ich (1993) – prima expoziție cu conținut declarat feminist\, avându-le ca protagoniste pe Marilena Preda-Sânc\, Roxana Trestioreanu și Magda Cârneci – și reluarea sa din 2013\, la care a participat și Aurora Király. Evenimentul va fi completat de un material foto-documentar și de prezentarea unui video din prima expoziție feministă românească. \nDe la ora 19:00 va avea loc finisajul expoziției și lansarea catalogului dedicat\, care reunește reproduceri ale lucrărilor expuse. Este o ocazie de a revedea lucrările de pictură\, fotografie\, grafică și sculptură prezentate în expoziție și de a celebra dialogul dintre patru artiste esențiale pentru înțelegerea perspectivei feminine în arta contemporană românească. \nEvenimentul marchează închiderea unei expoziții care a propus o reflecție asupra relației dintre corp\, memorie\, identitate și reprezentare feminină\, aducând în prim-plan o genealogie artistică și teoretică ce leagă ultimele trei decenii de creație și cercetare feministă din România. \nGLORIÆ Art Gallery este situată în centrul istoric al Craiovei\, pe str. Alexandru Macedonski nr. 49 și poate fi vizitată de marți până vineri între orele 12:00 și 18:00\, sâmbăta între orele 12:00 și 16:00.
URL:https://craiovalive.ro/eveniment/finisaj-masa-rotunda-si-lansare-catalog-expozitia-arheologii-feminine-la-gloriae-art-gallery/
LOCATION:Gloriæ Art Gallery\, Str. Alexandru Macedonski\, Nr. 49\, Craiova\, Dolj\, România
CATEGORIES:Expoziție
ATTACH;FMTTYPE=image/png:https://craiovalive.ro/wp-content/uploads/2025/09/Finisaj-masa-rotunda-si-lansare-catalog-expozitia-„Arheologii-feminine-la-GLORIAE-Art-Gallery.png
ORGANIZER;CN="Glori%C3%A6 Art Gallery":MAILTO:office@gloriae.ro
GEO:44.312189;23.8001597
X-APPLE-STRUCTURED-LOCATION;VALUE=URI;X-ADDRESS=Gloriæ Art Gallery Str. Alexandru Macedonski Nr. 49 Craiova Dolj România;X-APPLE-RADIUS=500;X-TITLE=Str. Alexandru Macedonski\, Nr. 49:geo:23.8001597,44.312189
END:VEVENT
BEGIN:VEVENT
DTSTART;TZID=Europe/Bucharest:20250912T120000
DTEND;TZID=Europe/Bucharest:20250912T180000
DTSTAMP:20260423T212124
CREATED:20250729T141858Z
LAST-MODIFIED:20250729T142801Z
UID:10007792-1757678400-1757700000@craiovalive.ro
SUMMARY:Expoziția „Arheologii feminine"
DESCRIPTION:GLORIÆ Art Gallery\, prima galerie privată de artă din Craiova\, anunță expoziția „Arheologii feminine”\, dedicată artistelor Marilena Preda-Sânc\, Aurora Király\, Elena Scutaru și Roxana Trestioreanu. Vernisajul va avea loc vineri\, 16 mai\, de la ora 18:00\, în prezența artistelor și a curatoarei Ruxandra Demetrescu. Ulterior\, expoziția va putea fi văzută în toate spațiile galeriei\, inclusiv în curtea interioară și în pavilion\, până la 12 septembrie 2025. În cadrul expoziției vor fi prezentate lucrări de pictură realizate de Marilena Preda Sânc\, fotografii de Roxana Trestioreanu\, fotografii și grafică de Aurora Király\, precum și sculpturi de Elena Scutaru. \nProiectul curatorial își propune să reviziteze critic tensiunea feminin/feminist în cultura vizuală românească\, pornind de la premisa că feminitatea rămâne cea mai problematică temă a teoriei feministe. Așa cum susținea Griselda Pollock\, în condițiile în care femininul se compune ca paradigmă a alterității\, volatilitatea acestuia scapă oricărei localizări conceptuale. Astfel\, cele patru autoare explorează/exploatează propriul corp\, portretul și autoportretul\, în încercarea de afirmare a dreptului de recunoaștere și exhibare a specificității feminine. Lucrând în medii diferite\, lucrările lor reflectă\, așa cum afirma Marilena Preda-Sânc în 2013\, „problematici feministe centrate pe corpul femeii\, înțeles ca univers spiritual\, cultural\, social de gen și ca spațiu al memoriei individuale\, familiale\, colective”\, corpul transformându-se într-o „imagine/un loc al libertății\, o redefinire a identității femeii.” \nSe remarcă\, pe de altă parte\, în cazul fiecăreia\, o dimensiune retrospectivă\, mai explicită la Aurora Király\, care expune seria de autoportrete timpurii Caleidoscop (1998) și remarcabilul proiect Arheologie feminină\, realizat în 2000 împreună cu Magda Cârneci  — care a inspirat\, de altfel\, titlul însuși al expoziției de față. Este o dimensiune implicită la Elena Scutaru\, care a reluat anul trecut lucrări realizate între 1995-1997 sau\, dimpotrivă\, punctând\, la Marilena Preda-Sânc – în tabloul Somnul (1986) – un reper/martor timpuriu inconturnabil al unui univers pictural împlinit în ultimii ani\, ori decupând o etapă distinctă din propria biografie artistică\, în cazul Roxanei Trestioreanu (inaugurată la mijlocul anilor 2000 în proiecte fotografice). \nÎn prefața catalogului primei expoziții feministe internaționale de amploare din România\, organizată în 2013 la Muzeul Național de Artă Contemporană (MNAC) din București\, Marilena Preda-Sânc mărturisea: „am avut privilegiul de a trăi în aceeași țară\, dar în două lumi diferite. În lumea comunistă\, dominată de o ideologie coercitivă\, izolaționistă și reducționistă\, arta feministă exista doar în zona artei marginale\, fragil reprezentată\, frecvent supusă atacurilor\, atât ale susținătorilor artei oficiale\, cât și ale atitudinilor falocratice”\, concluzionând: „Patriarhatul politic local/global\, modulat de secole prin legi statale\, religie și educație\, arogant\, prezent încă\, determină necesitatea existenței unui feminism militant\, al unui ecofeminism local/global într-un asumat esențialism al existenței\, pentru a fi capabili să construim o societate umană echilibrată\, armonioasă și mai puțin amprentată de violența bătăliilor falocratice devastatoare pentru Putere.” \nAceste mărturii constituie o luare de poziție explicită care se reflectă convingător în parcursul vizual al expoziției. \n  \nMarilena Preda-Sânc (n. 1955) este o artistă vizuală interdisciplinară. Din 1980\, lucrările sale au fost prezentate internațional în muzee\, video festivaluri\, la conferințe\, simpozioane\, în galerii naționale și internaționale. Lucrările integrează forme de artă tradițională și noile media\, investighează și vizualizează corpul/mentalul/sufletul/comportamentele umane în relație cu natura\, spațiul social/politic/reprezentațional. Arta sa explorează problematicile feministe de gen/bătrânețe/femeia ca leader în cheie eco-feministă. Este autoarea unor scrieri de specialitate centrate pe feminism\, noile media și arta în spațiul public. \nRoxana Trestioreanu (n. 1957) este artistă vizuală\, curatoare\, conferențiar universitar\, fiind unul dintre fondatorii departamentului Fotografie și Imagine Dinamică din cadrul Universitatea Națională de Arte București. A participat la proiecte de cercetare inițiate de European League of Institutes of the Arts\, Goethe – Institut etc. Începând cu 1985 se implică în organizarea de expoziții de artă și evenimente educaționale internaționale. A participat la expoziții organizate la Muzeul Ernst Budapesta\, Szent Istvan Kiraly Museum Szekesfehervar și Muzeul Xantus Janos Museum Gyor din Ungaria; Muzeul de Arta Moderna Saint Etienne\, Muzeul Național Brukenthal Sibiu\, la Muzeul Național de Artă al României\, Muzeul Național de Artă Contemporană din București etc. Lucrările sale se regăsesc în colecții publice și private. \nAurora Király (n. 1970) este o artistă vizuală care lucrează la intersecția fotografiei cu desenul\, arta textilă sau instalațiile\, explorând modul în care mintea înregistrează\, retrăiește\, își amintește. Este interesată în special de explorarea teoriilor feministe în legătură cu crearea identității și statutul femeilor în societate. Lucrările sale se referă la conexiunile complexe dintre evenimente\, sfera publică și privată a experienței. Cele mai recente lucrări explorează memoria unor spații cu încărcătură istorică și politică\, având o preocupare constantă să reflecte asupra istoriei artei\, urmărind creația artistelor din diferite perioade istorice. Lucrările sale se află în colecții de artă importante precum: Muzeul de Artă Modernă (MoMA)\, New York; Muzeul Național de Artă Contemporană București; Colecția de Artă Contemporană a Parlamentului European; precum și diverse colecții private din Europa și America de Nord. \nElena Scutaru (n. 1964)\, reprezentantă a generației anilor ’90\, activează la intersecția dintre sculptură\, instalație\, obiect\, asamblaj și medii mixte. A participat la rezidențe artistice: Aachen (1993)\, Akademie der Bildenden Künste și Kulturkontakt (Viena\, 1994\, 1999) și Cité Internationale des Arts (Paris\, 2015)\, prilejuri de a cunoaște și expune alături de mulți alți artiști internaționali. Interesată de estetica artei povera\, aduce în creația sa aspecte ale vieții cotidiene și istorii personale în instalații prezentate la Muzeul Național de Artă Contemporană din București (Adăpost temporar\, 2023)\, în spații de artă contemporană (Sandwich offSpace)\, galerii ale Uniunii Artiștilor Plastici din România și centre culturale din țară și străinătate. Proiectele de cercetare artistică personală au fost fructificate într-un program intens de participări la expoziții colective și personale. În 2019 este laureată a Premiului pentru Sculptură al Uniunii Artiștilor Plastici din România. \n  \nGLORIÆ Art Gallery este situată în centrul istoric al Craiovei\, pe str. Alexandru Macedonski nr. 49. După vernisaj\, expoziția va putea fi vizitată de marți până vineri între orele 12:00 și 18:00\, sâmbăta între orele 12:00 și 16:00.
URL:https://craiovalive.ro/eveniment/expozitia-arheologii-feminine-2/2025-09-12/
LOCATION:Gloriæ Art Gallery\, Str. Alexandru Macedonski\, Nr. 49\, Craiova\, Dolj\, România
CATEGORIES:Expoziție,Fotografie,Pictura
ATTACH;FMTTYPE=image/jpeg:https://craiovalive.ro/wp-content/uploads/2025/05/Expozitia-Arheologii-feminine.jpg
ORGANIZER;CN="Glori%C3%A6 Art Gallery":MAILTO:office@gloriae.ro
GEO:44.312189;23.8001597
X-APPLE-STRUCTURED-LOCATION;VALUE=URI;X-ADDRESS=Gloriæ Art Gallery Str. Alexandru Macedonski Nr. 49 Craiova Dolj România;X-APPLE-RADIUS=500;X-TITLE=Str. Alexandru Macedonski\, Nr. 49:geo:23.8001597,44.312189
END:VEVENT
BEGIN:VEVENT
DTSTART;TZID=Europe/Bucharest:20250522T183000
DTEND;TZID=Europe/Bucharest:20250522T203000
DTSTAMP:20260423T212124
CREATED:20250309T102408Z
LAST-MODIFIED:20250325T160547Z
UID:10005781-1747938600-1747945800@craiovalive.ro
SUMMARY:serArte - prezentări despre artă modernă și contemporană
DESCRIPTION:GLORIÆ Art Gallery își extinde activitatea cu o nouă inițiativă care îmbină educația cu plăcerea\, intelectul cu esteticul și informația cu dezbaterea. Astfel\, organizează un set de opt „serArte” și prezentări menite să ofere o introducere în conceptele fundamentale ale artei moderne și contemporane.\nAceste sesiuni vor avea un caracter critic\, analitic\, informativ și interactiv\, incluzând exemple relevante din arta europeană și americană. Cadrul explicativ va fi livrat de către Valentin Boiangiu\, lector principal în Fine Art\, cu o vastă experiență internațională.\nÎntâlnirile vor avea loc într-un cadru primitor și relaxant\, în incinta GLORIÆ Art Gallery\, în următoarele date: 13\, 20\, 28 martie; 3\, 10 aprilie; 8\, 15\, 22 mai\, între orele 18:30-20:30 (incluzând o scurtă pauză).\nSubiecte serArte\n1. O poveste a artei vestice de la pictura rupestră la secolul al XX-lea (13 martie)\n2. Limbajul vizual – Cum să ne uităm la arta modernă și contemporană (20 martie)\n3. Desenul ca și metodă de expresie și căutare (27 martie)\n4. Modernism\, modernitate și impactul în societate (3 aprilie)\n5. Spiritul revoluționar 1 (10 aprilie)\n6. Spiritul revoluționar 2 (8 mai)\n7. Post-Modernism (15 mai)\n8. Palimpsest contemporan în arta vizuală (22 mai)\nTaxa de participare: 150 lei/persoană/sesiune.\n*Ofertă specială pentru toate cele 8 sesiuni: 1000 lei/persoană.
URL:https://craiovalive.ro/eveniment/serarte-prezentari-despre-arta-moderna-si-contemporana/2025-05-22/
LOCATION:Gloriæ Art Gallery\, Str. Alexandru Macedonski\, Nr. 49\, Craiova\, Dolj\, România
CATEGORIES:Conferință
ATTACH;FMTTYPE=image/jpeg:https://craiovalive.ro/wp-content/uploads/2025/03/serArte-prezentari-despre-arta-moderna-si-contemporana.jpg
ORGANIZER;CN="Glori%C3%A6 Art Gallery":MAILTO:office@gloriae.ro
GEO:44.312189;23.8001597
X-APPLE-STRUCTURED-LOCATION;VALUE=URI;X-ADDRESS=Gloriæ Art Gallery Str. Alexandru Macedonski Nr. 49 Craiova Dolj România;X-APPLE-RADIUS=500;X-TITLE=Str. Alexandru Macedonski\, Nr. 49:geo:23.8001597,44.312189
END:VEVENT
END:VCALENDAR