BEGIN:VCALENDAR
VERSION:2.0
PRODID:-//Craiova Live - ECPv6.15.18//NONSGML v1.0//EN
CALSCALE:GREGORIAN
METHOD:PUBLISH
X-WR-CALNAME:Craiova Live
X-ORIGINAL-URL:https://craiovalive.ro
X-WR-CALDESC:Evenimente pentru Craiova Live
REFRESH-INTERVAL;VALUE=DURATION:PT1H
X-Robots-Tag:noindex
X-PUBLISHED-TTL:PT1H
BEGIN:VTIMEZONE
TZID:Europe/Bucharest
BEGIN:DAYLIGHT
TZOFFSETFROM:+0200
TZOFFSETTO:+0300
TZNAME:EEST
DTSTART:20240331T010000
END:DAYLIGHT
BEGIN:STANDARD
TZOFFSETFROM:+0300
TZOFFSETTO:+0200
TZNAME:EET
DTSTART:20241027T010000
END:STANDARD
BEGIN:DAYLIGHT
TZOFFSETFROM:+0200
TZOFFSETTO:+0300
TZNAME:EEST
DTSTART:20250330T010000
END:DAYLIGHT
BEGIN:STANDARD
TZOFFSETFROM:+0300
TZOFFSETTO:+0200
TZNAME:EET
DTSTART:20251026T010000
END:STANDARD
BEGIN:DAYLIGHT
TZOFFSETFROM:+0200
TZOFFSETTO:+0300
TZNAME:EEST
DTSTART:20260329T010000
END:DAYLIGHT
BEGIN:STANDARD
TZOFFSETFROM:+0300
TZOFFSETTO:+0200
TZNAME:EET
DTSTART:20261025T010000
END:STANDARD
BEGIN:DAYLIGHT
TZOFFSETFROM:+0200
TZOFFSETTO:+0300
TZNAME:EEST
DTSTART:20270328T010000
END:DAYLIGHT
BEGIN:STANDARD
TZOFFSETFROM:+0300
TZOFFSETTO:+0200
TZNAME:EET
DTSTART:20271031T010000
END:STANDARD
END:VTIMEZONE
BEGIN:VEVENT
DTSTART;TZID=Europe/Bucharest:20260416T200000
DTEND;TZID=Europe/Bucharest:20260416T220000
DTSTAMP:20260423T230514
CREATED:20250223T202420Z
LAST-MODIFIED:20260413T133547Z
UID:10012968-1776369600-1776376800@craiovalive.ro
SUMMARY:Joia de Muzică '26 - Ela and The Blueswingers Live la Curte
DESCRIPTION:𝐉𝐨𝐢𝐚 𝐝𝐞 𝐦𝐮𝐳𝐢𝐜𝐚̆ 🎶 – Ela and The Blueswingers Live la Curte\n📍 Curtea Berarilor Craiova\nVino alături de gașcă să trăiți seara de joi într-o atmosferă relaxată\, cu voie bună\, multă #TimiLaTank și muzică live à la Ela and The Blueswingers 🎤\n🍻 Pune de o rezervare\, ia-ți prietenii și hai joi de joi să umplem Curtea de bucurie!\n🎫 Free access!\n📞 Info & Rezervări: 0724.924.824
URL:https://craiovalive.ro/eveniment/joia-de-muzica-26-ela-and-the-blueswingers-live-la-curte/
LOCATION:Curtea Berarilor Craiova\, Strada Traian Demetrescu 12\, Craiova\, Dolj\, România
CATEGORIES:Muzică
ATTACH;FMTTYPE=image/jpeg:https://craiovalive.ro/wp-content/uploads/2025/02/curtea-berarilor-ela-and-the-blueswingers-ian-2026-1.jpg
GEO:44.3165732;23.7999731
X-APPLE-STRUCTURED-LOCATION;VALUE=URI;X-ADDRESS=Curtea Berarilor Craiova Strada Traian Demetrescu 12 Craiova Dolj România;X-APPLE-RADIUS=500;X-TITLE=Strada Traian Demetrescu 12:geo:23.7999731,44.3165732
END:VEVENT
BEGIN:VEVENT
DTSTART;TZID=Europe/Bucharest:20260219T200000
DTEND;TZID=Europe/Bucharest:20260219T220000
DTSTAMP:20260423T230514
CREATED:20250304T173109Z
LAST-MODIFIED:20260215T184105Z
UID:10005661-1771531200-1771538400@craiovalive.ro
SUMMARY:Joia de Muzică ’26 – The Southern Cockroaches Live la Curte
DESCRIPTION:Hey\, blues lovers! The Southern Cockroaches revin cu un concert Live la Curte! Brigada de blues din Oltenia ne invită la un nou prilej să cântăm\, să dansăm și să umplem Curtea de bucurie! \nTrupa fondată în anul 2014 este o prezență nelipsită pe scena națională de blues \, dar și din festivaluri și competiții internaționale. La 𝐉𝐨𝐢𝐚 𝐝𝐞 𝐦𝐮𝐳𝐢𝐜𝐚̆  vin cu „jovialitate\, franchețe și entuziasm dezinteresat” (AG Weinberger).\nPregătiți pentru o seară nebună?!  The Southern Cockroaches dau start distracției\, voi veniți la #Curte pentru o porție generoasă de blues oltenesc!\n Open doors: 20:00 Biletele sunt disponibile în locație. Artist support: 50 lei Informații și rezervări: 0761.342.919
URL:https://craiovalive.ro/eveniment/joia-de-muzica-26-the-southern-cockroaches-live-la-curte/
LOCATION:Curtea Berarilor Craiova\, Strada Traian Demetrescu 12\, Craiova\, Dolj\, România
CATEGORIES:Muzică
ATTACH;FMTTYPE=image/jpeg:https://craiovalive.ro/wp-content/uploads/2025/03/inst-a-gandaci.jpg
GEO:44.3165732;23.7999731
X-APPLE-STRUCTURED-LOCATION;VALUE=URI;X-ADDRESS=Curtea Berarilor Craiova Strada Traian Demetrescu 12 Craiova Dolj România;X-APPLE-RADIUS=500;X-TITLE=Strada Traian Demetrescu 12:geo:23.7999731,44.3165732
END:VEVENT
BEGIN:VEVENT
DTSTART;TZID=Europe/Bucharest:20251231T200000
DTEND;TZID=Europe/Bucharest:20260101T030000
DTSTAMP:20260423T230514
CREATED:20241109T083020Z
LAST-MODIFIED:20251208T123632Z
UID:10003727-1767211200-1767236400@craiovalive.ro
SUMMARY:Sold Out - Revelion 2026 la Curtea Berarilor Craiova
DESCRIPTION:#OameniiCurții\, petrecem împreună ultimele clipe din 2025 și le transformăm în cel mai tare party! Vă așteptăm la 𝗥𝗲𝘃𝗲𝗹𝗶𝗼𝗻 ‘𝟮𝟲 𝗹𝗮 𝗖𝘂𝗿𝘁𝗲𝗮 𝗕𝗲𝗿𝗮𝗿𝗶𝗹𝗼𝗿 𝗖𝗿𝗮𝗶𝗼𝘃𝗮 cu: atmosferă de sărbătoare cât cuprinde muzică de top by DJ Valiano & DJ Nero preparate delicioase open buffet și\, evident\, muuulte halbe pline de #TimiLaTank și băuturi all inclusive by the glass!\n Ne strângem\, dansăm\, ciocnim și spunem „La mulți ani!” așa cum doar la Curte știm să o facem: cu bucurie\, chef de viață și stare de bine!\n Info & rezervări: 0761.342.919
URL:https://craiovalive.ro/eveniment/revelion-2026-la-curtea-berarilor-craiova/
LOCATION:Curtea Berarilor Craiova\, Strada Traian Demetrescu 12\, Craiova\, Dolj\, România
CATEGORIES:Party
ATTACH;FMTTYPE=image/jpeg:https://craiovalive.ro/wp-content/uploads/2024/11/Sold-Out-Revelion-2026-la-Curtea-Berarilor-Craiova.jpeg
GEO:44.3165732;23.7999731
X-APPLE-STRUCTURED-LOCATION;VALUE=URI;X-ADDRESS=Curtea Berarilor Craiova Strada Traian Demetrescu 12 Craiova Dolj România;X-APPLE-RADIUS=500;X-TITLE=Strada Traian Demetrescu 12:geo:23.7999731,44.3165732
END:VEVENT
BEGIN:VEVENT
DTSTART;TZID=Europe/Bucharest:20251218T200000
DTEND;TZID=Europe/Bucharest:20251218T220000
DTSTAMP:20260423T230514
CREATED:20251208T132701Z
LAST-MODIFIED:20251208T132701Z
UID:10012619-1766088000-1766095200@craiovalive.ro
SUMMARY:𝐉𝐨𝐢𝐚 𝐝𝐞 𝐦𝐮𝐳𝐢𝐜𝐚̆ 🎶 Acoustic Night cu Adi Blejoiu & Ionuț Ilicevici Live la Curte
DESCRIPTION:𝐉𝐨𝐢𝐚 𝐝𝐞 𝐦𝐮𝐳𝐢𝐜𝐚̆  Acoustic Night cu Adi Blejoiu & Ionuț Ilicevici Live la  Curtea Berarilor Craiova – un eveniment Magazinul de Muzică\n O chitară și două voci pot schimba complet o seară obișnuită.  Vino pentru muzică\, rămâi pentru atmosferă și mai cere un refill de #TimiLaTank.  Ne vedem la Curte pentru o seară memorabilă!\n Free access Info & Rezervări: 0724.924.824
URL:https://craiovalive.ro/eveniment/%f0%9d%90%89%f0%9d%90%a8%f0%9d%90%a2%f0%9d%90%9a-%f0%9d%90%9d%f0%9d%90%9e-%f0%9d%90%a6%f0%9d%90%ae%f0%9d%90%b3%f0%9d%90%a2%f0%9d%90%9c%f0%9d%90%9a%cc%86-%f0%9f%8e%b6-acoustic-night-cu-adi-blejoiu-io/
LOCATION:Curtea Berarilor Craiova\, Strada Traian Demetrescu 12\, Craiova\, Dolj\, România
CATEGORIES:Muzică
ATTACH;FMTTYPE=image/png:https://craiovalive.ro/wp-content/uploads/2025/12/curtea-berarilor-joia-de-muzica-ionut-si-adi-dec-2025.png
GEO:44.3165732;23.7999731
X-APPLE-STRUCTURED-LOCATION;VALUE=URI;X-ADDRESS=Curtea Berarilor Craiova Strada Traian Demetrescu 12 Craiova Dolj România;X-APPLE-RADIUS=500;X-TITLE=Strada Traian Demetrescu 12:geo:23.7999731,44.3165732
END:VEVENT
BEGIN:VEVENT
DTSTART;TZID=Europe/Bucharest:20251127T200000
DTEND;TZID=Europe/Bucharest:20251127T220000
DTSTAMP:20260423T230514
CREATED:20251117T083951Z
LAST-MODIFIED:20251117T083951Z
UID:10012502-1764273600-1764280800@craiovalive.ro
SUMMARY:Joia de Muzică ’25 – Ignis Band Live la Curte
DESCRIPTION:Joi\, 27 noiembrie\, simțim pe pielea noastră energia explozivă a trupei Ignis Band!  Ne întâlnim cu șase muzicieni talentați cu chimie electrizantă pe scenă: Ariana Păun – voce Rebeca Iana – voce (craioveanca noastră din acest sezon de la Vocea României) Alexandru Bârci – chitară & voce Ada Bârci – bass & backing vocals Mihnea Ionașcu – tobe Stelian Pârșoveanu – clape\nDe la hituri clasice până la cele mai fresh piese din topuri\, Ignis Band ne propune un playlist care ne va face să dansăm și un show dinamic\, plin de pasiune\, numai bun de stins cu halbă după halbă de #TimiLaTank!  #OameniiCurții\, vă așteptăm joi să umplem Curtea de bucurie! Rock on!\n Artist Support: 50 lei Info & Rezervări: 0761.342.919
URL:https://craiovalive.ro/eveniment/joia-de-muzica-25-ignis-band-live-la-curte/
LOCATION:Curtea Berarilor Craiova\, Strada Traian Demetrescu 12\, Craiova\, Dolj\, România
CATEGORIES:Muzică
ATTACH;FMTTYPE=image/jpeg:https://craiovalive.ro/wp-content/uploads/2025/11/insta-curtea-berarilor-IGNIS.jpg
GEO:44.3165732;23.7999731
X-APPLE-STRUCTURED-LOCATION;VALUE=URI;X-ADDRESS=Curtea Berarilor Craiova Strada Traian Demetrescu 12 Craiova Dolj România;X-APPLE-RADIUS=500;X-TITLE=Strada Traian Demetrescu 12:geo:23.7999731,44.3165732
END:VEVENT
END:VCALENDAR