BEGIN:VCALENDAR
VERSION:2.0
PRODID:-//Craiova Live - ECPv6.15.18//NONSGML v1.0//EN
CALSCALE:GREGORIAN
METHOD:PUBLISH
X-WR-CALNAME:Craiova Live
X-ORIGINAL-URL:https://craiovalive.ro
X-WR-CALDESC:Evenimente pentru Craiova Live
REFRESH-INTERVAL;VALUE=DURATION:PT1H
X-Robots-Tag:noindex
X-PUBLISHED-TTL:PT1H
BEGIN:VTIMEZONE
TZID:Europe/Bucharest
BEGIN:DAYLIGHT
TZOFFSETFROM:+0200
TZOFFSETTO:+0300
TZNAME:EEST
DTSTART:20250330T010000
END:DAYLIGHT
BEGIN:STANDARD
TZOFFSETFROM:+0300
TZOFFSETTO:+0200
TZNAME:EET
DTSTART:20251026T010000
END:STANDARD
BEGIN:DAYLIGHT
TZOFFSETFROM:+0200
TZOFFSETTO:+0300
TZNAME:EEST
DTSTART:20260329T010000
END:DAYLIGHT
BEGIN:STANDARD
TZOFFSETFROM:+0300
TZOFFSETTO:+0200
TZNAME:EET
DTSTART:20261025T010000
END:STANDARD
BEGIN:DAYLIGHT
TZOFFSETFROM:+0200
TZOFFSETTO:+0300
TZNAME:EEST
DTSTART:20270328T010000
END:DAYLIGHT
BEGIN:STANDARD
TZOFFSETFROM:+0300
TZOFFSETTO:+0200
TZNAME:EET
DTSTART:20271031T010000
END:STANDARD
END:VTIMEZONE
BEGIN:VEVENT
DTSTART;TZID=Europe/Bucharest:20260219T180000
DTEND;TZID=Europe/Bucharest:20260219T193000
DTSTAMP:20260424T015347
CREATED:20260204T163123Z
LAST-MODIFIED:20260204T163123Z
UID:10013031-1771524000-1771529400@craiovalive.ro
SUMMARY:Concert extraordinar Bird in Space / Pasărea în văzduh
DESCRIPTION:Pe 19 februarie 2026\, Craiova marchează Anul Cultural dedicat lui Constantin Brâncuși printr-un eveniment special ce reunește muzică simfonică\, recital și teatru – într-o seară gândită ca omagiu artistic\, pe scena Filarmonicii Oltenia Craiova. \nPunctul central al serii este lucrarea în primă audiție absolută Bird in Space / Pasărea în văzduh\, semnată de compozitorul Dejan Ilijic\, interpretată de Orchestra Simfonică\, sub bagheta dirijorului Eduard Dabrowski. \nProgramul este completat de un recital special susținut de Eugenia Nicolae și de fragmente de teatru din piesa Șurubul de teasc\, cu: Adrian Păduraru\, Gheorghe Mândru\, Oana Marcu\, în regia Nicolae Poghirc. Evenimentul va fi prezentat de Cătălin Vieru. \nOrganizator: Consiliul Județean Dolj \n📅 19 februarie 2026\n🕕 Ora 18:00\n📍 Filarmonica Oltenia Craiova \nAcces \n✅ Acces gratuit\, pe baza invitațiilor disponibile pentru ridicare de la agenția de bilete (Calea Unirii 16).
URL:https://craiovalive.ro/eveniment/concert-extraordinar-bird-in-space-pasarea-in-vazduh/
LOCATION:Filarmonica Oltenia\, Calea Unirii\, nr. 16\, Craiova\, Dolj\, 200585\, România
CATEGORIES:Muzică,Teatru
ATTACH;FMTTYPE=image/jpeg:https://craiovalive.ro/wp-content/uploads/2026/02/Concert-extraordinar-Bird-in-Space-Pasarea-in-vazduh.jpg
ORGANIZER;CN="Consiliul Jude%C8%9Bean Dolj":MAILTO:office.cjdolj@gmail.com
GEO:44.3172308;23.7944364
X-APPLE-STRUCTURED-LOCATION;VALUE=URI;X-ADDRESS=Filarmonica Oltenia Calea Unirii nr. 16 Craiova Dolj 200585 România;X-APPLE-RADIUS=500;X-TITLE=Calea Unirii\, nr. 16:geo:23.7944364,44.3172308
END:VEVENT
BEGIN:VEVENT
DTSTART;TZID=Europe/Bucharest:20260117T180000
DTEND;TZID=Europe/Bucharest:20260117T190000
DTSTAMP:20260424T015347
CREATED:20260114T131305Z
LAST-MODIFIED:20260114T131305Z
UID:10012827-1768672800-1768676400@craiovalive.ro
SUMMARY:Concert Gilles Apap & Colors of Invention - Brâncuși\, Colors of Invention
DESCRIPTION:2026 este Anul Brâncuși în România\, iar la Craiova și în Dolj\, Consiliul Județean Dolj a anunțat organizarea câte unui eveniment de marcă în fiecare lună\, pentru a omagia personalitatea imensă a sculptorului oltean Constantin Brâncuși\, cel care a făcut piatra să cânte pentru omenire. \nPrimul eveniment din această suită are loc pe 17 ianuarie\, de la ora 18:00\, la Centrul „Constantin Brâncuși”. Violonistul francez Gilles Apap revine la Craiova alături de cvartetul său\, Colors of Inventions\, pentru a crea o punte simbolică între România și Franța\, țara care i-a fost casă pentru atâta vreme artistului român. Astfel\, de la muzicienii Gilles Apap (vioară)\, Myriam Lafargue (acordeon)\, Philippe Noharet (contrabas) și Ludovit Kovac (țambal) vom primi o mostră binemeritată a spiritului vibrant al atelierului lui Brâncuși din Impasse Ronsin. Greutatea acestei alegeri este cu atât mai mare cu cât Centrul „Constantin Brâncuși” găzduiește chiar bârnele pe care Brâncuși le-a avut în atelierul său din Paris.\nRepertoriul ales este un dialog cultural fascinant\, ce reunește geniul unor compozitori – dintre care amintim Bach\, Mozart\, Enescu ori Satie – cu libertatea jazzului și autenticitatea muzicii tradiționale oltenești. \nSursă: Discover Dolj
URL:https://craiovalive.ro/eveniment/concert-gilles-apap-colors-of-invention-brancusi-colors-of-invention/
LOCATION:Centrul Constantin Brâncuși\, Calea Unirii\, nr. 15\, Craiova\, Dolj\, România
CATEGORIES:Muzică
ATTACH;FMTTYPE=image/jpeg:https://craiovalive.ro/wp-content/uploads/2026/01/Concert-Gilles-Apap-Brancusi-Colors-of-Invention.jpg
ORGANIZER;CN="Consiliul Jude%C8%9Bean Dolj":MAILTO:office.cjdolj@gmail.com
GEO:44.318902447163;23.795509159946
X-APPLE-STRUCTURED-LOCATION;VALUE=URI;X-ADDRESS=Centrul Constantin Brâncuși Calea Unirii nr. 15 Craiova Dolj România;X-APPLE-RADIUS=500;X-TITLE=Calea Unirii\, nr. 15:geo:23.795509159946,44.318902447163
END:VEVENT
END:VCALENDAR