BEGIN:VCALENDAR
VERSION:2.0
PRODID:-//Craiova Live - ECPv6.15.18//NONSGML v1.0//EN
CALSCALE:GREGORIAN
METHOD:PUBLISH
X-WR-CALNAME:Craiova Live
X-ORIGINAL-URL:https://craiovalive.ro
X-WR-CALDESC:Evenimente pentru Craiova Live
REFRESH-INTERVAL;VALUE=DURATION:PT1H
X-Robots-Tag:noindex
X-PUBLISHED-TTL:PT1H
BEGIN:VTIMEZONE
TZID:Europe/Bucharest
BEGIN:DAYLIGHT
TZOFFSETFROM:+0200
TZOFFSETTO:+0300
TZNAME:EEST
DTSTART:20250330T010000
END:DAYLIGHT
BEGIN:STANDARD
TZOFFSETFROM:+0300
TZOFFSETTO:+0200
TZNAME:EET
DTSTART:20251026T010000
END:STANDARD
BEGIN:DAYLIGHT
TZOFFSETFROM:+0200
TZOFFSETTO:+0300
TZNAME:EEST
DTSTART:20260329T010000
END:DAYLIGHT
BEGIN:STANDARD
TZOFFSETFROM:+0300
TZOFFSETTO:+0200
TZNAME:EET
DTSTART:20261025T010000
END:STANDARD
BEGIN:DAYLIGHT
TZOFFSETFROM:+0200
TZOFFSETTO:+0300
TZNAME:EEST
DTSTART:20270328T010000
END:DAYLIGHT
BEGIN:STANDARD
TZOFFSETFROM:+0300
TZOFFSETTO:+0200
TZNAME:EET
DTSTART:20271031T010000
END:STANDARD
END:VTIMEZONE
BEGIN:VEVENT
DTSTART;TZID=Europe/Bucharest:20260302T190000
DTEND;TZID=Europe/Bucharest:20260302T200000
DTSTAMP:20260424T004641
CREATED:20260225T092310Z
LAST-MODIFIED:20260225T092310Z
UID:10014094-1772478000-1772481600@craiovalive.ro
SUMMARY:Spectacol „Primăvara începe cu noi”
DESCRIPTION:Primăvara începe cu noi! \nCentrul Județean de Cultură și Artă Dolj\, prin Școala Populară de Arte și Meserii „Cornetti”\, vă invită luni\, 2 martie 2026\, ora 19:00\, în foaierul Filarmonicii Oltenia Craiova\, la spectacolul „Primăvara începe cu noi”.\nEvenimentul reunește pe scenă elevii claselor de balet\, actorie și modeling\, într-un act artistic dedicat primăverii\, sensibilității și expresivității scenice.\nPublicul este invitat să descopere energia și talentul tinerilor artiști\, într-o seară în care dansul\, mișcarea și emoția se împletesc armonios.\n Intrarea este liberă.\nVă așteptăm alături de noi pentru a celebra primăvara prin artă!
URL:https://craiovalive.ro/eveniment/spectacol-primavara-incepe-cu-noi/
LOCATION:Filarmonica Oltenia\, Calea Unirii\, nr. 16\, Craiova\, Dolj\, 200585\, România
CATEGORIES:Dans
ATTACH;FMTTYPE=image/jpeg:https://craiovalive.ro/wp-content/uploads/2026/02/Spectacol-„Primavara-incepe-cu-noi.jpg
ORGANIZER;CN="Centrul Jude%C8%9Bean de Cultur%C4%83 %C8%99i Art%C4%83 Dolj":MAILTO:cjcadolj@yahoo.com
GEO:44.3172308;23.7944364
X-APPLE-STRUCTURED-LOCATION;VALUE=URI;X-ADDRESS=Filarmonica Oltenia Calea Unirii nr. 16 Craiova Dolj 200585 România;X-APPLE-RADIUS=500;X-TITLE=Calea Unirii\, nr. 16:geo:23.7944364,44.3172308
END:VEVENT
BEGIN:VEVENT
DTSTART;TZID=Europe/Bucharest:20260301T170000
DTEND;TZID=Europe/Bucharest:20260301T183000
DTSTAMP:20260424T004641
CREATED:20260219T091751Z
LAST-MODIFIED:20260219T091751Z
UID:10014031-1772384400-1772389800@craiovalive.ro
SUMMARY:Spectacol de muzică populară Femeia\, eterna poveste
DESCRIPTION:Spectacol dedicat primăverii și Zilei Femeii \nCu sufletul plin de emoție și bucurie\, vă invităm să întâmpinăm primăvara prin cântec și tradiție!\nDe 1 Martie\, elevii claselor de muzică populară de la Școala Populară de Arte și Meserii Cornetti vă dăruiesc un spectacol special dedicat tuturor doamnelor și domnișoarelor\, cu ocazia Zilei Femeii.\nVa fi o seară în care glasurile tinere vor aduce pe scenă frumusețea folclorului românesc\, emoția autentică și recunoștința noastră pentru cele care ne inspiră zi de zi – mame\, bunici\, profesoare\, modele de viață.\n Vă așteptăm să celebrăm împreună primăvara\, feminitatea și tradiția românească!\n 1 Martie\nFilarmonica Oltenia Craiova\n 17:00\nIntrarea este liberă!
URL:https://craiovalive.ro/eveniment/spectacol-de-muzica-populara-femeia-eterna-poveste/
LOCATION:Filarmonica Oltenia\, Calea Unirii\, nr. 16\, Craiova\, Dolj\, 200585\, România
CATEGORIES:Muzică
ATTACH;FMTTYPE=image/jpeg:https://craiovalive.ro/wp-content/uploads/2026/02/Spectacol-de-muzica-populara-Femeia-eterna-poveste.jpg
ORGANIZER;CN="Centrul Jude%C8%9Bean de Cultur%C4%83 %C8%99i Art%C4%83 Dolj":MAILTO:cjcadolj@yahoo.com
GEO:44.3172308;23.7944364
X-APPLE-STRUCTURED-LOCATION;VALUE=URI;X-ADDRESS=Filarmonica Oltenia Calea Unirii nr. 16 Craiova Dolj 200585 România;X-APPLE-RADIUS=500;X-TITLE=Calea Unirii\, nr. 16:geo:23.7944364,44.3172308
END:VEVENT
BEGIN:VEVENT
DTSTART;TZID=Europe/Bucharest:20260219T120000
DTEND;TZID=Europe/Bucharest:20260219T123000
DTSTAMP:20260424T004641
CREATED:20260219T084259Z
LAST-MODIFIED:20260219T084259Z
UID:10014030-1771502400-1771504200@craiovalive.ro
SUMMARY:Moment coregrafic „Brâncuși – începuturile creației”
DESCRIPTION:„BRÂNCUȘI – ÎNCEPUTURILE CREAȚIEI” \nMoment coregrafic inedit de Ziua lui Constantin Brâncuși \nSecția Ansamblul de Dans Popular „Maria Tănase”\, din cadrul Centrului Județean de Cultură și Artă Dolj\, sub egida Consiliului Județean Dolj\, aduce în fața publicului un moment special\, în care dansul devine formă și simbol. \nSub coregrafia maestrului Ionel Garoafă\, dansatorii reinterpretează\, prin mișcare și expresie artistică\, elementele emblematice create de Constantin Brâncuși – Poarta Sărutului\, Masa Tăcerii și Coloana Infinitului\, transformând patrimoniul sculptural românesc într-o experiență scenică plină de forță și emoție. \nUn dialog spectaculos între tradiție\, artă și spiritualitate românească\, astăzi\, 19 februarie 2026\, ora 12:00\, în Piața Mihai Viteazul din Craiova. \nAcest montaj coregrafic aduce un omagiu marelui sculptor român Constantin Brâncuși. \nMomentul coregrafic scoate în evidență începuturile creației sale\, surprinzând clipa în care arta lui Brâncuși prinde viață. \nPrin această lucrare coregrafică se dorește evidențierea măreției marelui artist oltean\, Constantin Brâncuși.
URL:https://craiovalive.ro/eveniment/moment-coregrafic-brancusi-inceputurile-creatiei/
LOCATION:Piața Mihai Viteazul\, Craiova\, Dolj\, România
CATEGORIES:Dans
ATTACH;FMTTYPE=image/jpeg:https://craiovalive.ro/wp-content/uploads/2026/02/Moment-coregrafic-„Brancusi-–-inceputurile-creatiei.jpeg
ORGANIZER;CN="Centrul Jude%C8%9Bean de Cultur%C4%83 %C8%99i Art%C4%83 Dolj":MAILTO:cjcadolj@yahoo.com
GEO:44.31805;23.79493
END:VEVENT
BEGIN:VEVENT
DTSTART;TZID=Europe/Bucharest:20260212T170000
DTEND;TZID=Europe/Bucharest:20260212T180000
DTSTAMP:20260424T004641
CREATED:20260212T083217Z
LAST-MODIFIED:20260212T083217Z
UID:10013044-1770915600-1770919200@craiovalive.ro
SUMMARY:Expoziție „Brâncuși\, inspirație pentru tineri”
DESCRIPTION:„Brâncuși\, inspirație pentru tineri” – Expoziție de grafică\, pictură și artă fotografică \nȘcoala Populară de Arte și Meserii „Cornetti” din cadrul Centrului Județean de Cultură și Artă Dolj\, instituție aflată în subordinea Consiliului Județean Dolj\, invită publicul iubitor de artă la expoziția „Brâncuși\, inspirație pentru tineri”\, eveniment dedicat celebrării operei și spiritului marelui sculptor român Constantin Brâncuși. \nExpoziția reunește lucrări realizate de elevii claselor de arte vizuale\, care au explorat\, prin propriul limbaj artistic\, teme\, simboluri și concepte inspirate din creația brâncușiană. Fiecare lucrare reflectă sensibilitatea\, creativitatea și modul autentic în care tinerii artiști înțeleg și reinterpretează valorile universale promovate de Brâncuși: simplitatea formei\, esența și spiritualitatea. \nEvenimentul își propune să încurajeze dialogul dintre tradiție și contemporaneitate\, oferind publicului ocazia de a descoperi viziunea noii generații asupra unei moșteniri culturale de excepție. \nVă invităm să fiți alături de noi și să susțineți talentul și pasiunea elevilor noștri.
URL:https://craiovalive.ro/eveniment/expozitie-brancusi-inspiratie-pentru-tineri/
CATEGORIES:Expoziție,Fotografie,Pictura
ATTACH;FMTTYPE=image/jpeg:https://craiovalive.ro/wp-content/uploads/2026/02/AFIS-EXPOZITIE-BRANCUSI-INSPIRATIE-PENTRU-TINERI.jpeg
ORGANIZER;CN="Centrul Jude%C8%9Bean de Cultur%C4%83 %C8%99i Art%C4%83 Dolj":MAILTO:cjcadolj@yahoo.com
END:VEVENT
BEGIN:VEVENT
DTSTART;TZID=Europe/Bucharest:20260127T170000
DTEND;TZID=Europe/Bucharest:20260127T183000
DTSTAMP:20260424T004641
CREATED:20260127T112153Z
LAST-MODIFIED:20260127T112153Z
UID:10012916-1769533200-1769538600@craiovalive.ro
SUMMARY:Expoziție „Spiritul iernii”
DESCRIPTION:Expoziția „Spiritul iernii” – creația elevilor Școlii Populare de Arte și Meserii „Cornetti” \nȘcoala Populară de Arte și Meserii „Cornetti” din cadrul Centrului Județean de Cultură și Artă Dolj\, instituție aflată în subordinea Consiliului Județean Dolj\, invită publicul iubitor de artă la expoziția „Spiritul iernii”\, care va avea loc marți\, 27 ianuarie 2026\, ora 17:00 la sediul instituției din strada Jiețului\, nr. 19. \nExpoziția reunește lucrări realizate de elevii școlii\, de la clasele de pictură\, grafică și artă fotografică\, propunând o incursiune vizuală sensibilă și expresivă în universul iernii. Prin culoare\, formă și compoziție\, tinerii artiști surprind atmosfera specifică acestui anotimp\, transmițând emoție\, introspecție și creativitate. \nEvenimentul reprezintă rezultatul muncii susținute desfășurate în cadrul orelor de specialitate și reflectă preocuparea constantă a Școlii Populare de Arte și Meserii „Cornetti” pentru promovarea talentului\, educației artistice și valorilor culturale autentice. \nExpoziția „Spiritul iernii” constituie totodată un prilej de dialog între elevi\, profesori și public\, precum și o oportunitate de a susține și încuraja tinerii creatori aflați la început de drum artistic. \nIntrarea este liberă.
URL:https://craiovalive.ro/eveniment/expozitie-spiritul-iernii/
CATEGORIES:Expoziție,Pictura
ATTACH;FMTTYPE=image/jpeg:https://craiovalive.ro/wp-content/uploads/2026/01/Expozitia-Spiritul-Iernii-la-Scoala-Cornetti-Craiova.jpg
ORGANIZER;CN="Centrul Jude%C8%9Bean de Cultur%C4%83 %C8%99i Art%C4%83 Dolj":MAILTO:cjcadolj@yahoo.com
END:VEVENT
END:VCALENDAR