BEGIN:VCALENDAR
VERSION:2.0
PRODID:-//Craiova Live - ECPv6.15.18//NONSGML v1.0//EN
CALSCALE:GREGORIAN
METHOD:PUBLISH
X-WR-CALNAME:Craiova Live
X-ORIGINAL-URL:https://craiovalive.ro
X-WR-CALDESC:Evenimente pentru Craiova Live
REFRESH-INTERVAL;VALUE=DURATION:PT1H
X-Robots-Tag:noindex
X-PUBLISHED-TTL:PT1H
BEGIN:VTIMEZONE
TZID:Europe/Bucharest
BEGIN:DAYLIGHT
TZOFFSETFROM:+0200
TZOFFSETTO:+0300
TZNAME:EEST
DTSTART:20240331T010000
END:DAYLIGHT
BEGIN:STANDARD
TZOFFSETFROM:+0300
TZOFFSETTO:+0200
TZNAME:EET
DTSTART:20241027T010000
END:STANDARD
BEGIN:DAYLIGHT
TZOFFSETFROM:+0200
TZOFFSETTO:+0300
TZNAME:EEST
DTSTART:20250330T010000
END:DAYLIGHT
BEGIN:STANDARD
TZOFFSETFROM:+0300
TZOFFSETTO:+0200
TZNAME:EET
DTSTART:20251026T010000
END:STANDARD
BEGIN:DAYLIGHT
TZOFFSETFROM:+0200
TZOFFSETTO:+0300
TZNAME:EEST
DTSTART:20260329T010000
END:DAYLIGHT
BEGIN:STANDARD
TZOFFSETFROM:+0300
TZOFFSETTO:+0200
TZNAME:EET
DTSTART:20261025T010000
END:STANDARD
BEGIN:DAYLIGHT
TZOFFSETFROM:+0200
TZOFFSETTO:+0300
TZNAME:EEST
DTSTART:20270328T010000
END:DAYLIGHT
BEGIN:STANDARD
TZOFFSETFROM:+0300
TZOFFSETTO:+0200
TZNAME:EET
DTSTART:20271031T010000
END:STANDARD
END:VTIMEZONE
BEGIN:VEVENT
DTSTART;TZID=Europe/Bucharest:20260307T110000
DTEND;TZID=Europe/Bucharest:20260307T130000
DTSTAMP:20260424T015203
CREATED:20260227T153854Z
LAST-MODIFIED:20260227T153854Z
UID:10014098-1772881200-1772888400@craiovalive.ro
SUMMARY:Dezbatere dr. Doina Lemny și dr. Ruxandra Demetrescu la Centrul „Constantin Brâncuși” din Craiova
DESCRIPTION:Muzeul de Artă Craiova vă invită sâmbătă\, 7 martie 2026\, ora 11:00\, la Centrul „Constantin Brâncuși” din Craiova\, unde va avea loc un nou eveniment dedicat Anului „Constantin Brâncuși” – 150 de ani de la nașterea sculptorului. \nInvitatele de onoare ale acestei ediții sunt dr. Doina Lemny și dr. Ruxandra Demetrescu\, personalități recunoscute în domeniul istoriei și teoriei artei\, care vor susține o dezbatere ce lansează teme de interes\, atât pentru specialiștii din domeniu\, cât și pentru publicul larg. Având ca punct de plecare un cunoscut citat brâncușian:„La Craiova\, m-am născut a doua oară!”\,vor fi analizate aspecte legate de perioada de început a lui Brâncuși\, odată cu venirea sa la Craiova\, acesta fiind locul unde și-a descoperit vocația de sculptor și unde i-a întâlnit pe primii filantropi\, care i-au oferit susținere financiară pentru a urma studiile de specialitate. \nTemele abordate au la bază cercetările de ultimă oră întreprinse de distinsele invitate\, care vin să completeze segmente insuficient studiate\, scoțând în evidență importanța lecturilor aprofundate\, ce au rolul de a dezvălui detalii surprinzătoare. Este un bun prilej de a aduce în prim- plan scrierile lui Vasile Georgescu Paleolog\, creând în acest fel o conexiune cu expoziția Brâncuși | Paleolog – Un alfabetar necesar\, curatori: Mihaela Velea și Cătălin Davidescu. Acest an aniversar oferă un moment oportun pentru analiză și reflecție asupra multiplelor aspecte legate de receptarea lui Brâncuși în actualitate\, întâlnirea propusă de muzeul craiovean punând deopotrivă accent pe începuturile\, dar și pe posteritatea critică brâncușiană\, conturând profilul unui „Brâncuși al nostru\, al lumii și al timpului”. \nAccesul este gratuit în limita locurilor disponibile. \nDoina Lemny este istoric de artă\, cu specializare în sculptura secolului XX. A activat ca cercetător și muzeograf la Muzeul Național de Artă Modernă din Paris. Este organizatoare de expoziții\, autoarea unor cărți\, articole\, eseuri și conferințe susținute în întreaga lume. Implicarea sa în studierea aprofundată a operei brâncușiene datează din 1991\, când a fost cooptată în echipa care s-a ocupat cu reinstalarea Atelierului Brâncuși la Centrul Pompidou. Experiența acumulată în anii de cercetare în arhive îi oferă calitatea de a fi contestatara celor care vehiculează informații deformate despre viața și opera lui Constantin Brâncuși\, activitatea sa având un impact semnificativ asupra modului în care Brâncuși este perceput atât în România\, cât și în întreaga lume. \nRuxandra Demetrescu este critic și istoric de artă cu o prestigioasă carieră de profesor la Universitatea Națională de Arte București\, în domeniul Istoriei și Teoriei Artei. A fost muzeograf la Muzeul Național de Artă al României (1978-1988)\, director al Institutului Cultural Român din Berlin (1999-2003)\, ocupând între 2004-2006 funcția de Prorector și\, ulterior\, Rector al Universității Naționale de Arte București\, în perioada 2006-2012. Are o bogată activitate de cercetare în domeniul artei\, reflectată în publicații de specialitate\, numeroase participări la simpozioane și conferințe de nivel internațional\, precum și importante contribuții curatoriale care au marcat în mod semnificativ activitatea expozițională din România și nu numai.
URL:https://craiovalive.ro/eveniment/dezbatere-dr-doina-lemny-si-dr-ruxandra-demetrescu-la-centrul-constantin-brancusi-din-craiova/
LOCATION:Centrul Constantin Brâncuși\, Calea Unirii\, nr. 15\, Craiova\, Dolj\, România
CATEGORIES:Conferință
ATTACH;FMTTYPE=image/jpeg:https://craiovalive.ro/wp-content/uploads/2026/02/Dezbatere-dr.-Doina-Lemny-si-dr.-Ruxandra-Demetrescu-la-Centrul-„Constantin-Brancusi-din-Craiova.jpg
ORGANIZER;CN="Centrul Constantin Br%C3%A2ncu%C8%99i":MAILTO:centrul.brancusi@muzeuldeartacraiova.ro
GEO:44.318902447163;23.795509159946
X-APPLE-STRUCTURED-LOCATION;VALUE=URI;X-ADDRESS=Centrul Constantin Brâncuși Calea Unirii nr. 15 Craiova Dolj România;X-APPLE-RADIUS=500;X-TITLE=Calea Unirii\, nr. 15:geo:23.795509159946,44.318902447163
END:VEVENT
BEGIN:VEVENT
DTSTART;TZID=Europe/Bucharest:20260130T090000
DTEND;TZID=Europe/Bucharest:20260130T170000
DTSTAMP:20260424T015203
CREATED:20251104T193138Z
LAST-MODIFIED:20251110T135244Z
UID:10012420-1769763600-1769792400@craiovalive.ro
SUMMARY:Expoziția SHOW (reel) / Talking about my Generation
DESCRIPTION:Muzeul de Artă Craiova vă invită joi\, 6 noiembrie 2025\, ora 17:00\, la Centrul „Constantin Brâncuși”\, unde va avea loc vernisajul unei noi expoziții realizate în colaborare cu Departamentul Foto-Video al Universității Naționale de Arte din București\nSHOW(reel) / Talking about my Generation\nFotografie/ instalațieVideo\nCurator: Michele Bressan\nExpoziția marchează 30 de ani de la înființarea Departamentului Foto-Video și se înscrie în seria de evenimente organizate în cadrul parteneriatului instituțional dintre Muzeul de Artă Craiova și Universitatea Națională de Arte din București. Proiectul este realizat de asist. univ. dr. Michele Bressan\, în colaborare cu conf. univ. dr. Alexandru Solomon și lect. univ. dr. Alexandru Patatics\, aceștia din urmă asigurând curatoriatul secțiunii video.\nExpun :\nFotografie/Instalație :\nAlex Pașca\, Alexia Popescu\, Anca Enache\, Bianca Georgiana Voicu\, Cristina Ulmanu\, David Pelmuș\, Dumitrița Râzlog\, Elena Tănăsescu\, Lena Ciobanu\, Maria Bâcu\, Matei Milstein\, Nadina Stoica\, Robert Mancini\, Ruxandra Nițescu\, Sebastian Neculai\, Răzvan Șumilă\, Teodor Georgescu\, Valeriu Cătălineanu\, Vasile Tiliban\, Vlad Mihuțoiu.\nVideo :\nAdrian Onexe\, Anca Enache\, Anca Țintea\, Bogdan Enciulescu-Ciuciu\, Clara Goldenstein\, Cătălin Nae\, Delia Prodan\, Dimitrie Gora\, Dora Huiban\, Georgiana Cojocaru\, Ioana Albu\, Maria-Bianca Popa\, Maria Nicolae\, Mihai Bodea\, Ruxandra Nițescu\, Ștefan Sali\, Ștefania Crăciun\, Teodora Rotaru\, Vlad Dragne.\nAndreea-Maria Tîrziu\, Andrei-Adrian Oprea\, Ana-Maria Mihailidis\, Cristina Croitoru\, Cristina Tudor\, Cătălin Ionuț Sturzea\, David Dincă\, Flavius-Alexandru Cîrlig\, Gabriel Santoro\, Irina Aldea\, Karina Bărbulescu\, Mircea Radu\, Renaldo Bano\, Selena Pîrvu\, Vlad-Andrei Cojocaru.\n\n„SHOW(reel) / Talking about my Generation este construită pe ideea unui carusel de lucrări ce acoperă întregul spectru al departamentului de fotografie al Universității Naționale de Arte din București. Sunt prezentate atât lucrări de licență sau disertație\, cât și lucrări realizate de doctoranzi sau de studenți aflați încă în anii de studiu.Subtitlul\, Talking about my generation\, este o parafrazare a piesei My Generation\, lansată în 1965 de The Who și preia\, de fapt\, conceptul expozițional. Pornind de la posibilitatea de a accesa o arhivă de lucrări care acoperă ultimii ani\, se constată că anumite teme se regăsesc frecvent în discursurile mai multor studenți. Ajungem astfel să percepem aceste lucrări drept un background pentru generațiile de absolvenți din ultimii ani. Într-un sens macro\, identificăm lucrările pe o busolă generațională\, care ne permite să localizăm actualitatea practicilor definitorii pentru sfera ultra-contemporană. Acel talking about capătă o încărcătură conceptuală. Pe parcurs\, procesul a devenit similar cu cel al unui sonar care emite de fiecare dată când întâlnește ceva relevant. Selecția lucrărilor se configurează astfel ca o colecție de asemenea semnale receptate; un ansamblu capabil să definească atât each generation\, cât și my generation\, cea cu care fiecare dintre artiștii participanți se identifică prin lucrări ce devin instrumente de localizare spațio-temporală a autorului.Selecția expusă la Muzeul de Artă din Craiova transformă spațiul într-un Kunstkabinett\, într-o cameră artistică dominată de preocupări estetice\, în care lucrurile se întâmplă pentru că sunt lăsate să se întâmple. Acest tip de display explorează dinamica unei faze importante: aceea a unui moment de trecere; o trecere care este\, în primul rând\, de natură mentală. Expoziția de la Centrul „ Constantin Brâncuși” din Craiova este gândită ca un reper simbolic; este momentul în care carierele încep sau\, uneori\, sunt prematur abandonate. Astfel de expoziții au o menire diferită de cea imediat recognoscibilă: aceea a unei simple prezentări de lucrări realizate de studenți. Cred că asemenea proiecte\, cu toate etapele și încărcătura lor\, funcționează ca o simulare\, în care cei implicați nu doar se responsabilizează\, ci își pot imagina o posibilă viață trăită în acești parametri”\, apreciază curatorul Michele Bressan.\n\nSHOW(reel) / Talking about my Generation va putea fi vizitată gratuit la Centrul „Constantin Brâncuși” Craiova\, în perioada 7 noiembrie 2025 – 30 ianuarie 2026\, de marți până duminică\, între orele 10:00 – 17:00.
URL:https://craiovalive.ro/eveniment/show-reel-talking-about-my-generation/2026-01-30/
LOCATION:Centrul Constantin Brâncuși\, Calea Unirii\, nr. 15\, Craiova\, Dolj\, România
CATEGORIES:Expoziție
ATTACH;FMTTYPE=image/jpeg:https://craiovalive.ro/wp-content/uploads/2025/11/SHOW-reel-Talking-about-my-Generation-scaled.jpg
ORGANIZER;CN="Centrul Constantin Br%C3%A2ncu%C8%99i":MAILTO:centrul.brancusi@muzeuldeartacraiova.ro
GEO:44.318902447163;23.795509159946
X-APPLE-STRUCTURED-LOCATION;VALUE=URI;X-ADDRESS=Centrul Constantin Brâncuși Calea Unirii nr. 15 Craiova Dolj România;X-APPLE-RADIUS=500;X-TITLE=Calea Unirii\, nr. 15:geo:23.795509159946,44.318902447163
END:VEVENT
BEGIN:VEVENT
DTSTART;TZID=Europe/Bucharest:20251003T100000
DTEND;TZID=Europe/Bucharest:20251003T163000
DTSTAMP:20260424T015203
CREATED:20250626T153803Z
LAST-MODIFIED:20250626T153803Z
UID:10007614-1759485600-1759509000@craiovalive.ro
SUMMARY:Expoziție Paul Barbu: Sub cer\, egal
DESCRIPTION:Expoziție personală: Sub cer\, egalArtist: Paul BarbuCurator: Cătălin Davidescu\nVernisaj\, 03 iulie 2025\, de la orele 18:00Muzeul de Artă Craiova – Centrul „Constantin Brâncuși”03 iulie – 03 octombrie 2025Marți – Duminică\, orele 10:00 – 17:00 (ultima intrare la ora 16:30)\n________________________________________Muzeul de Artă Craiova organizează în perioada 3 iulie – 3 octombrie 2025\, expoziția personală Sub cer\, egal\, semnată de artistul vizual Paul Barbu\, în spațiile Centrului „Constantin Brâncuși”. Curatoriată de Cătălin Davidescu\, expoziția aduce în prim-plan o serie de instalații sculptural-arhitecturale de mari dimensiuni\, în care relația dintre obiect\, spațiu și privitor devine experiență introspectivă.________________________________________Despre expozițieSub cer\, egal explorează tensiunile și reconcilierile dintre individ\, spațiu și simbol. Punctul de plecare este o reflecție asupra rupturii dintre om și natură – nu într-un sens strict ecologic\, ci ca pierdere a unei ordini arhetipale\, resimțite în interior și reflectate în exterior. Lucrările propuse funcționează ca forme-totem\, simboluri abstracte ce evocă o lume atemporală\, sacralizată\, în care privitorul este invitat să se deplaseze\, să contemple și să reconfigureze sensuri.Instalațiile creează o arhitectură temporară a introspecției – un „templu laic” unde materia\, lumina și compoziția construiesc o ordine poetică a coexistenței. Fără a recurge la forme organice convenționale\, expoziția evocă natura ca principiu de armonie\, ciclicitate și interdependență.________________________________________\nDespre artistPaul Barbu (n. 1986\, Craiova\, România) este un artist vizual cu o formare interdisciplinară\, având ca bază arhitectura\, scenografia și sculptura. Trăiește și lucrează în București\, iar practica sa artistică se concentrează asupra relației dintre spațiu\, obiect și mișcarea privitorului. În lucrările sale\, compoziția devine un eveniment în timp\, o entitate secvențială în care percepția se construiește progresiv.Studiile de arhitectură i-au cultivat o rigoare a proporțiilor și o atenție asupra relațiilor spațiale\, dezvoltând un limbaj artistic propriu\, influențat de figuri precum Carlo Scarpa\, Oskar Schlemmer sau Richard Serra. Instalațiile sale sunt structuri intens gândite care generează trasee vizuale și senzoriale continue\, accentuând relația dintre formă\, lumină și corporalitatea privitorului.
URL:https://craiovalive.ro/eveniment/expozitie-paul-barbu-sub-cer-egal/2025-10-03/
LOCATION:Centrul Constantin Brâncuși\, Calea Unirii\, nr. 15\, Craiova\, Dolj\, România
CATEGORIES:Expoziție
ATTACH;FMTTYPE=image/jpeg:https://craiovalive.ro/wp-content/uploads/2025/06/Expozitie-Paul-Barbu-Sub-cer-egal-scaled.jpg
ORGANIZER;CN="Centrul Constantin Br%C3%A2ncu%C8%99i":MAILTO:centrul.brancusi@muzeuldeartacraiova.ro
GEO:44.318902447163;23.795509159946
X-APPLE-STRUCTURED-LOCATION;VALUE=URI;X-ADDRESS=Centrul Constantin Brâncuși Calea Unirii nr. 15 Craiova Dolj România;X-APPLE-RADIUS=500;X-TITLE=Calea Unirii\, nr. 15:geo:23.795509159946,44.318902447163
END:VEVENT
END:VCALENDAR