BEGIN:VCALENDAR
VERSION:2.0
PRODID:-//Craiova Live - ECPv6.15.18//NONSGML v1.0//EN
CALSCALE:GREGORIAN
METHOD:PUBLISH
X-ORIGINAL-URL:https://craiovalive.ro
X-WR-CALDESC:Evenimente pentru Craiova Live
REFRESH-INTERVAL;VALUE=DURATION:PT1H
X-Robots-Tag:noindex
X-PUBLISHED-TTL:PT1H
BEGIN:VTIMEZONE
TZID:Europe/Bucharest
BEGIN:DAYLIGHT
TZOFFSETFROM:+0200
TZOFFSETTO:+0300
TZNAME:EEST
DTSTART:20250330T010000
END:DAYLIGHT
BEGIN:STANDARD
TZOFFSETFROM:+0300
TZOFFSETTO:+0200
TZNAME:EET
DTSTART:20251026T010000
END:STANDARD
BEGIN:DAYLIGHT
TZOFFSETFROM:+0200
TZOFFSETTO:+0300
TZNAME:EEST
DTSTART:20260329T010000
END:DAYLIGHT
BEGIN:STANDARD
TZOFFSETFROM:+0300
TZOFFSETTO:+0200
TZNAME:EET
DTSTART:20261025T010000
END:STANDARD
BEGIN:DAYLIGHT
TZOFFSETFROM:+0200
TZOFFSETTO:+0300
TZNAME:EEST
DTSTART:20270328T010000
END:DAYLIGHT
BEGIN:STANDARD
TZOFFSETFROM:+0300
TZOFFSETTO:+0200
TZNAME:EET
DTSTART:20271031T010000
END:STANDARD
END:VTIMEZONE
BEGIN:VEVENT
DTSTART;TZID=Europe/Bucharest:20260424T090000
DTEND;TZID=Europe/Bucharest:20260424T170000
DTSTAMP:20260423T181947
CREATED:20260418T162540Z
LAST-MODIFIED:20260418T162540Z
UID:10014550-1777021200-1777050000@craiovalive.ro
SUMMARY:Expoziție Fryderyk Chopin - viața și creația
DESCRIPTION: Un nume. O emoție. O moștenire. \nTe invităm la vernisajul expoziției „𝐅𝐫𝐲𝐝𝐞𝐫𝐲𝐤 𝐂𝐡𝐨𝐩𝐢𝐧 – 𝐯𝐢𝐚ț𝐚 ș𝐢 𝐜𝐫𝐞𝐚ț𝐢𝐚”\, o incursiune în universul unuia dintre cei mai mari compozitori ai tuturor timpurilor.\n Universitatea din Craiova – Holul Central 21 aprilie 2026 Ora 12:00\nDescoperă povestea din spatele muzicii care a emoționat generații întregi și lasă-te purtat într-o atmosferă plină de eleganță\, sensibilitate și inspirație \n Parte din Săptămâna Poloneză 
URL:https://craiovalive.ro/eveniment/expozitie-fryderyk-chopin-viata-si-creatia/2026-04-24/
LOCATION:Universitatea din Craiova\, Str. A. I. Cuza\, nr. 13\, Craiova\, Dolj\, România
CATEGORIES:Expoziție
ATTACH;FMTTYPE=image/jpeg:https://craiovalive.ro/wp-content/uploads/2026/04/Expozitie-Fryderyk-Chopin.jpg
ORGANIZER;CN="Centrul de Limb%C4%83 %C8%99i Cultur%C4%83 Polonez%C4%83 Craiova":MAILTO:clcp.craiova@gmail.com
GEO:44.3190838;23.8008038
X-APPLE-STRUCTURED-LOCATION;VALUE=URI;X-ADDRESS=Universitatea din Craiova Str. A. I. Cuza nr. 13 Craiova Dolj România;X-APPLE-RADIUS=500;X-TITLE=Str. A. I. Cuza\, nr. 13:geo:23.8008038,44.3190838
END:VEVENT
BEGIN:VEVENT
DTSTART;TZID=Europe/Bucharest:20260424T163000
DTEND;TZID=Europe/Bucharest:20260424T230000
DTSTAMP:20260423T181947
CREATED:20260419T204157Z
LAST-MODIFIED:20260419T204157Z
UID:10014554-1777048200-1777071600@craiovalive.ro
SUMMARY:ROMCON 47 - Convenția Națională de Science Fiction și Fantasy
DESCRIPTION:ROMCON 47CONVENȚIA NAȚIONALĂ DE SCIENCE-FICTION\nÎn perioada 24-26 aprilie 2026\, are loc la Craiova a 47-a Convenție Națională de Science Fiction și Fantasy\, cunoscută sub numele de Romcon.\n\nInvitații de onoare ai Romcon-ului:• Cosmonautul Dumitru Dorin Prunariu• Scriitorul și publicistul Alexandru Mironov\n\nInvitați speciali:• Scriitorul și publicistul Lucian Merișca• Scriitorul Ionuț Manea• Artist invitat special Marian Mirescu• Fan invitat special Lucian Oancea\n\nJuriul celui de-al 47-lea ROMCON are următoarea componență:• Daniel Botgros – președinte;• Cristina Negreanu\, membru;• Bogdan Mihăilescu\, membru;• Vlad Frînghiu\, membru• Vlad Pasencu\, membru.\n\nTemele ROMCON 47 sunt:A. POLITICI REALE ÎN LUMI IMAGINARE. GEOPOLITICA ȘI SCIENCE-FICTIONB. LUMI ȘI CIVILIZAȚII EXTRATERESTRE. PARALELE ÎNTRE CIVILIZAȚIILE EXTRATERESTRE ȘI CIVILIZAȚIA UMANĂ\nProgramul celei de-a 47-a Convenții Naționale de Science-Fiction\, Romcon\, 24-26 aprilie 2026\, Craiova\nZiua I – Vineri\, 24 aprilie\nOra 16\,30 Deschiderea Convenției\, Cuvinte de salutOra 17\,00 Conferință: DIN NOU PE LUNĂ\, conferință susținută de dr. ing. DUMITRU DORIN PRUNARIU\, primul cosmonaut român\,invitat de onoare ROMCON 47. Conferință în avanpremiera momentului de sărbătorire a 45 de ani de la lansarea Soiuz 40\, cu D. D. PRUNARIU la bord (14 mai-22 mai 1981)Ora 18\,00 Vernisaj expoziții:1. KONTACT\, expoziție de Benzi Desenate realizate de MARIAN MIRESCU. Prezintă VIOREL PÎRLIGRAS.2. PUNTEA NECREATĂ\, expoziție de fotografii realizată de FLAVIAN SAVESCU\, artist fotograf de artă generativă. Cuvânt de întâmpinare DANIEL BOTGROSOra 18\,30 PROIECTE PLANETARE ÎNTR-O LUME MULTIPOLARĂ\, conferință susținută de ALEXANDRU MIRONOV\, invitat de onoare ROMCON 47Ora 19\,15 FLUX 47. Sesiune de autografe cu AUREL CĂRĂȘEL\, EUGEN CADARU\, COSTEL BABOȘ\, MIRCEA LIVIU GOGA\, TRAIAN BĂDULESCUOra 19\,30 DE CE AM CITI O CARTE\, CÂND AVEM INTERNET? Dialog cu LUCIAN MERIȘCA\, invitat special ROMCON 47.Ora 21\,00 ANTARES-CARMEN’S JOURNEY\, film artistic realizat în 2025. Regia: CRISTIANA APOSTOL. Participă regizoarea și membri aiechipei de filmare. Discuții pe marginea filmului.\nZiua II-a – Sâmbătă\, 25 aprilie\nOra 9\,30 „Audiție de muzică și lectură SF cu COSTEL BABOȘ: Cântece de dragoste și alte cântece din Constelația Ursa Major”Ora 11\,00 Cenaclul „Henri Coandă’’-imaginea lumii pierdute și „Până în anul 4000 sau o călătorie la braț cu VICTOR ANESTIN’’\, eseuride tip remember cu AUREL CĂRĂȘEL și VIOREL PÎRLIGRASOra 11\,45 URME ALE TRECUTULUI ANTICIPAȚIEI ROMÂNEȘTI\, expoziție de afișe și postere românești din colecția LUCIAN OANCEA\, fan invitat special ROMCON 47Ora 12\,00-12\,10 Pauză de cafeaOra 12\,10-12\,40 Gală de filme de scurtmetraj\, realizate de BOGDAN MIHĂILESCUOra 12\,40 Lansarea antologiilor „VINE MIEZUL NOPȚII’’\, antologator ADRIAN CHIFU\, Editura Pavcon\, și FANTASTICA MAGAZIN ANTHOLOGY – Editura Cristian PlusArt. Prezintă MARIUS DIMCEA și CRISTIAN DANIEL DUMITRU.Ora 13\,00 „Geopolitică în Fallout și Cyberpunk 2077”\, conferință susținută de IONUȚ MANEA\, invitat special ROMCON 47.Ora 13\,30 Lansarea albumului de benzi desenate DINCOLO DE ORIZONT de GABRIEL RUSU (editura Actual). Prezintă DODO NIȚĂ.Ora 13\,45-15\,00 Pauză de prânzOra 15\,00-16\,45 Craiova în 75 de minute. Minitur special pentru oaspeții ROMCON\, realizat cu sprijinul Primăriei CraiovaOra 16\,00 ÎNTRE ARENĂ ȘI ȘCOALĂ: O IMAGINE ASUPRA ROBOTICII\, prezintă LUCA DUINEA (PR al echipei Bots’Brain) și DENISIGNAT (team-leader Bots’Brain)Ora 16\,30 MIRACOLUL ATLANTYKRON\, dialog cu CRISTIAN PITULICEOra 17\,00 MARATON LANSĂRI DE CĂRȚI ALE EDITURII PAVCON. Prezintă CĂTĂLIN PAVELOra 17\,30 FLUX S.F. Sesiune de autografe cu ALEXANDRU MIRONOV\, OVIDIU VITAN\, MIRCEA BĂDUȚ\, DANIEL BOTGROS\, ANA MARIA BORLAN și FLORIN GIURCĂOra 17\,45 JUNIMEA+QUASAR=COLECȚIA SF+F+A. Lansarea volumelor din colecția Quanticipația a editurii Junimea:LUCIAN IONICĂ – VIITORUL DIN NOICRISTIAN BALABASCIUC – STRANII POVESTIRI HUȚULE (vol. I și al II-lea)GEORGE LAZĂR – ÎNCEPUTUL ETERNITĂȚIIOra 18\,10-18\,20 Pauză de cafeaOra 18\,20 POLITICI REALE ÎN LUMI IMAGINARE. GEOPOLITICA ȘI SCIENCEFICTION. S.F.-ul ca manual de utilizare-conferință susținută de POMPILIAN TOFILESCU (prin Zoom)Ora 18\,50 EXISTĂ PLANURI EDITORIALE LA EDITURILE CARE TIPĂRESC SF? – masă rotundă cu CĂTĂLIN PAVEL\, LUCIAN MERIȘCA și CRISTIAN DANIEL DUMITRUOra 19\,20 ABATERI DE LA „GEO-POLITICĂ’’ ÎN SCIENCE-FICTION-expunere prezentată de MIRCEA BĂDUȚOra 19\,50-21\,10 Pauză pentru cinăOra 21\,10-22\,45 Serata SF: Pastile SF\, flash-uri\, schițe ș.a. cu DĂNUȚ UNGUREANU\, IONUȚ MANEA\, MIRCEA CĂRBUNARU. Acompaniament \,\,audio-holografic” realizat de ADRIAN BANCU.\n\nZiua a III-a-Duminică\, 26 aprilie\nOra 9\,30 EXCURSUL DESPRE POLITICI REALE ÎN LUMI IMAGINARE\, conferință susținută de ADRIANA MACSUTOra 10\,00 NEBUNUL\, film artistic SF. Regia: IGOR COBILANSKI. Prezintă BOGDAN FARCAȘ\, actorul principalOra 11\,00 DESANT al editurii CRISTIANPLUSART. Lansarea cărților: DRAGOSTE ȘI MOARTE ÎN LAS VEGAS de CRISTIAN HRIȚCU șiLUCIAN MERIȘCA; SUB APĂSAREA STELELOR-antologie de proză maghiară în traducerea lui GYORFI-DEAK GYORGY; PHOENIX deFLORIN C. CRISTIANOra 11\,30 Flux SF. Sesiune de autografe cu DĂNUȚ UNGUREANU\, MIRCEA BĂDUȚ\, IONUȚ MANEA\, IZABELA ELENA RADOSEVICI\, MARIAN MIRESCUOra 11\,45 DE LA HELION-aniversar\, 45 de ani de la primul număr\, la ARTZONE SF. Un itinerar propus de CORNEL SECU și MIRCEA CĂRBUNARUOra 12\,10 PREMIEREA LAUREAȚILOR CONCURSULUI „CRAIOVA PESTE 100 DE ANI’’Ora 12\,40 Prezentarea volumului FANTASTICA LUME A LUI CRISTOBALD de VIOREL PÎRLIGRAS. Prezintă ILONA DUȚĂ\, critic literarOra 13\,00 CE(MAI) ÎNSEAMNĂ SĂ FII OM ÎN EPOCA INTELIGENȚEI ARTIFICIALE? – conferință prezentată de EUGEN CADARUOra 13\,30 Decernarea Premiilor Naționale pentru Science – Fiction și Fantasy pentru anul 2025 de câtre juriul condus de DANIEL BOTGROS\nOra 14\,00 Concluzii la cea de-a 47-a ediție a ROMCONOra 14\,30 Închiderea manifestăriiOra 14\,30-16\,00 PrânzOra 16\,00-18\,30 Tur al Craiovei\, organizat de către Primăria Craiovei\n\nNote:1. Partenerul principal al ediției ROMCON 47 este Primăria Craiovei.2. Partener al Romcon 47 este Universitatea din Craiova.3. Toate manifestările au loc la Universitatea din Craiova (Strada Alexandru Ioan Cuza nr. 13).\nDeschiderea și închiderea manifestării vor avea loc în Aula Universității.Online link: tiny.cc/HelionClub
URL:https://craiovalive.ro/eveniment/romcon-47-conventia-nationala-de-science-fiction-si-fantasy/2026-04-24/
LOCATION:Universitatea din Craiova\, Str. A. I. Cuza\, nr. 13\, Craiova\, Dolj\, România
CATEGORIES:Conferință
ATTACH;FMTTYPE=image/jpeg:https://craiovalive.ro/wp-content/uploads/2026/04/ROMCON-47-Conventia-Nationala-de-Science-Fiction-si-Fantasy.jpg
GEO:44.3190838;23.8008038
X-APPLE-STRUCTURED-LOCATION;VALUE=URI;X-ADDRESS=Universitatea din Craiova Str. A. I. Cuza nr. 13 Craiova Dolj România;X-APPLE-RADIUS=500;X-TITLE=Str. A. I. Cuza\, nr. 13:geo:23.8008038,44.3190838
END:VEVENT
END:VCALENDAR