BEGIN:VCALENDAR
VERSION:2.0
PRODID:-//Craiova Live - ECPv6.15.18//NONSGML v1.0//EN
CALSCALE:GREGORIAN
METHOD:PUBLISH
X-ORIGINAL-URL:https://craiovalive.ro
X-WR-CALDESC:Evenimente pentru Craiova Live
REFRESH-INTERVAL;VALUE=DURATION:PT1H
X-Robots-Tag:noindex
X-PUBLISHED-TTL:PT1H
BEGIN:VTIMEZONE
TZID:Europe/Bucharest
BEGIN:DAYLIGHT
TZOFFSETFROM:+0200
TZOFFSETTO:+0300
TZNAME:EEST
DTSTART:20250330T010000
END:DAYLIGHT
BEGIN:STANDARD
TZOFFSETFROM:+0300
TZOFFSETTO:+0200
TZNAME:EET
DTSTART:20251026T010000
END:STANDARD
BEGIN:DAYLIGHT
TZOFFSETFROM:+0200
TZOFFSETTO:+0300
TZNAME:EEST
DTSTART:20260329T010000
END:DAYLIGHT
BEGIN:STANDARD
TZOFFSETFROM:+0300
TZOFFSETTO:+0200
TZNAME:EET
DTSTART:20261025T010000
END:STANDARD
BEGIN:DAYLIGHT
TZOFFSETFROM:+0200
TZOFFSETTO:+0300
TZNAME:EEST
DTSTART:20270328T010000
END:DAYLIGHT
BEGIN:STANDARD
TZOFFSETFROM:+0300
TZOFFSETTO:+0200
TZNAME:EET
DTSTART:20271031T010000
END:STANDARD
END:VTIMEZONE
BEGIN:VEVENT
DTSTART;TZID=Europe/Bucharest:20260424T190000
DTEND;TZID=Europe/Bucharest:20260424T203000
DTSTAMP:20260423T194923
CREATED:20260317T192923Z
LAST-MODIFIED:20260317T192923Z
UID:10014365-1777057200-1777062600@craiovalive.ro
SUMMARY:Soț de vânzare
DESCRIPTION:Sot de vanzare  \n\n\n\n\n\n\nTeatrul Colibri Craiova \n\n\n\n\n\n\n24 Aprilie 2026 ora 19:00\n„Sot de vanzare”\, piesa de teatru dupa Mihail Zadornov\, cu Maria Radu\, Ana Odagiu \,Marius Gilea. \nRegia: Marius Gilea. \nDescriere: \nOxana (o tanara „moderna” pana in varful unghiilor \, frumusica\, usor naiva\, dar extrem de determinata) ii propune Elenei Vladimirovna (nevasta de profesie\, trecuta de prima tinerete\, insa inteligenta\, cu „look” si initiata in metehnele vietii) o afacere pe cat de indecenta\, pe atat de inedita: un contract de vanzare-cumparare al mult doritului ei sot contra tentantei sume de „douaj’ de mii”. \nAndrei Vasilievici (mascul veritabil care traieste cu voluptate criza varstei de mijloc) pare sa faca toti banii. Va fi insa de acord cu aceasta tranzactie? Vor reusi cele doua femei sa incheie incredibilul contract? \nSubiectul trateaza original si picant\, eterna tema a trio-ului conjugal\, in trei acte cu multiple si intense rasturnari de situatii.\nCu sau fara acordul celor implicati\, singura garantie oferita e o seara plina de umor si rasete-n cascade! \nPregatiti-va pentru o experienta care va va schimba cu siguranta perceptia despre casnicie si…teatru romanesc underground! \nVARSTA RECOMANDATA: 12+
URL:https://craiovalive.ro/eveniment/sot-de-vanzare/
LOCATION:Teatrul pentru copii și tineret Colibri\, Calea București\, nr. 56\, Craiova\, Dolj\, România
CATEGORIES:Teatru
ATTACH;FMTTYPE=image/png:https://craiovalive.ro/wp-content/uploads/2024/12/Sot-de-vanzare.png
GEO:44.3151148;23.8215842
X-APPLE-STRUCTURED-LOCATION;VALUE=URI;X-ADDRESS=Teatrul pentru copii și tineret Colibri Calea București nr. 56 Craiova Dolj România;X-APPLE-RADIUS=500;X-TITLE=Calea București\, nr. 56:geo:23.8215842,44.3151148
END:VEVENT
BEGIN:VEVENT
DTSTART;TZID=Europe/Bucharest:20260425T180000
DTEND;TZID=Europe/Bucharest:20260425T190000
DTSTAMP:20260423T194923
CREATED:20260330T115323Z
LAST-MODIFIED:20260422T124340Z
UID:10014522-1777140000-1777143600@craiovalive.ro
SUMMARY:Cenușăreasa
DESCRIPTION:Cenușăreasa (5+) \nSpectacol după Frații Grimm \nRegia și scenariul Ionica Dobrescu \nScenografia Iulia Goanță \nMuzica Alin Macovei-Moraru \nVersuri Valentin Dobrescu \nCu actorii: Alis Ianoș\, Cosmin Dolea\, Adriana Ioncu\, Geo Dinescu\, Oana Stancu\, Daniel Mirea\, Robert Iovan\, Ionica Dobrescu. \nSpectacolul „Cenușăreasa” poartă mantia trecutului de poveste\, cu inserții verbale și muzicale actuale\, creat pentru copii\, dar mai ales pentru copilul din fiecare. Este o dorință împlinită\, în care imaginația unui copil a devenit poveste pe scenă\, a crescut precum Alunul udat cu lacrimile Cenușăresei. \n Preț bilet: 13 lei / pers.\n Biletele se pot procura de la Agenţia Teatrului Colibri. Mai multe informații se pot obține la tel.: 0251.412.473.\nDupă începerea spectacolelor\, accesul în sală nu mai este permis! Persoanele care au bilete și întârzie le pot reprograma la următoarele spectacole.
URL:https://craiovalive.ro/eveniment/cenusareasa/
LOCATION:Teatrul pentru copii și tineret Colibri\, Calea București\, nr. 56\, Craiova\, Dolj\, România
CATEGORIES:Evenimente pentru copii
ATTACH;FMTTYPE=image/jpeg:https://craiovalive.ro/wp-content/uploads/2026/03/Teatrul-pentru-copii-si-tineret-Colibri-program-aprilie-2026.jpg
ORGANIZER;CN="Teatrul pentru copii si tineret Colibri":MAILTO:contact@teatrulcolibri.ro
GEO:44.3151148;23.8215842
X-APPLE-STRUCTURED-LOCATION;VALUE=URI;X-ADDRESS=Teatrul pentru copii și tineret Colibri Calea București nr. 56 Craiova Dolj România;X-APPLE-RADIUS=500;X-TITLE=Calea București\, nr. 56:geo:23.8215842,44.3151148
END:VEVENT
BEGIN:VEVENT
DTSTART;TZID=Europe/Bucharest:20260426T110000
DTEND;TZID=Europe/Bucharest:20260426T120000
DTSTAMP:20260423T194923
CREATED:20241031T095219Z
LAST-MODIFIED:20260422T124512Z
UID:10003213-1777201200-1777204800@craiovalive.ro
SUMMARY:Aladin
DESCRIPTION:ALADIN  (3+)\, regia Apostolache Kiss Zenoreinterpretare în versuri de Andreea RaduRegia și muzica originală: Apostolache Kiss ZenoScenografia și păpușile: Tomos TündeSand-art: Alice BratuDistribuția: Marin Fagu\, Emanuel Popescu\, Oana Stancu\, Alis Ianoș\, Cosmin Dolea\, Adriana Ioncu\, Ionica Dobrescu\, Daniel MireaRegizor tehnic: Mugurel VitanLumini: Laurențiu MiliciSunet: Constantin BîrțanMașinist: Costică JianuCroitorie: Georgeta Bălășoiu\, Mihaela CalciuTâmplărie: Alexandru Bălășoiu \nSpectacolul Aladin este o reinterpretare în versuri\, cu muzică originală\, a poveștii clasice. De data aceasta povestitorul este chiar Duhul din lampa fermecată. Aladin\, un tânăr sărac\, o întâlnește pe prințesa Jasmine de care se îndrăgostește pe loc\, iar de acolo\, cu ajutor sau cu piedici\, el va face orice pentru a deveni prinț și pentru a se căsători cu prințesa. Ce nu știe Aladin este că Jafar\, vrăjitorul\, pe de altă parte\, va lupta ca să obțină puterea deplină. Prin cântece și momente ritmate\, povestea ne arată cum Aladin învață că iubirea\, prietenia și libertatea sunt adevărata bogăție\, iar Duhul\, cu umorul său\, ne ghidează prin toate întâmplările.📍Biletele se pot procura de la Agenția Teatrului Colibri. Preț bilet: 13 lei / pers. Mai multe informații se pot obține la tel.: 0251.412.473. \n❗ După ora începerii spectacolului\, accesul în sală nu mai este permis! Persoanele care au bilete și întârzie le pot reprograma la următoarele spectacole.
URL:https://craiovalive.ro/eveniment/aladin/
LOCATION:Teatrul pentru copii și tineret Colibri\, Calea București\, nr. 56\, Craiova\, Dolj\, România
CATEGORIES:Evenimente pentru copii
ATTACH;FMTTYPE=image/jpeg:https://craiovalive.ro/wp-content/uploads/2024/10/Aladin-Teatrul-Colibri-Craiova.jpg
ORGANIZER;CN="Teatrul pentru copii si tineret Colibri":MAILTO:contact@teatrulcolibri.ro
GEO:44.3151148;23.8215842
X-APPLE-STRUCTURED-LOCATION;VALUE=URI;X-ADDRESS=Teatrul pentru copii și tineret Colibri Calea București nr. 56 Craiova Dolj România;X-APPLE-RADIUS=500;X-TITLE=Calea București\, nr. 56:geo:23.8215842,44.3151148
END:VEVENT
BEGIN:VEVENT
DTSTART;TZID=Europe/Bucharest:20260430T190000
DTEND;TZID=Europe/Bucharest:20260430T203000
DTSTAMP:20260423T194923
CREATED:20251208T140810Z
LAST-MODIFIED:20251208T140810Z
UID:10012627-1777575600-1777581000@craiovalive.ro
SUMMARY:Iubire dublu distilată
DESCRIPTION:Iubire dublu distilata \nTeatrul Colibri Craiova \n\n30 Aprilie 2026 ora 19:00\nÎntr-o gară uitată de lume\, în care timpul pare că stă în loc\, patru personaje sunt nevoite să petreacă\, împreună\, o noapte: casiera insolentă și curioasă\, bețivul fără parte\, dar cu carte\, actorul grăbit spre succes și doamna psiholog\, al cărei discurs poate fi înțeles doar cu dicționarul în față. Aparent\, nu au în comun decât dorința nejustificată de a se agasa unul pe celălat. Dar pe măsură ce orele trec\, destinele lor se schimbă radical\, iar lucrurile iau o întorsătură așa cum ne place nouă. \nDe Ion Bogdan Martin. Regia Alin Brancu. Cu Adelina Mihalcea\, Emanuel Bighe\, Cristina Diaconescu / Livia Taloi\, Alin Brancu (toți patru\, parte a distribuției unei alte comedii de succes\, „Divorț în ziua nunții”). \nRecomandat: 12+
URL:https://craiovalive.ro/eveniment/iubire-dublu-distilata/
LOCATION:Teatrul pentru copii și tineret Colibri\, Calea București\, nr. 56\, Craiova\, Dolj\, România
CATEGORIES:Teatru
ATTACH;FMTTYPE=image/jpeg:https://craiovalive.ro/wp-content/uploads/2025/12/Iubire-dublu-distilata.jpg
GEO:44.3151148;23.8215842
X-APPLE-STRUCTURED-LOCATION;VALUE=URI;X-ADDRESS=Teatrul pentru copii și tineret Colibri Calea București nr. 56 Craiova Dolj România;X-APPLE-RADIUS=500;X-TITLE=Calea București\, nr. 56:geo:23.8215842,44.3151148
END:VEVENT
END:VCALENDAR