BEGIN:VCALENDAR
VERSION:2.0
PRODID:-//Craiova Live - ECPv6.15.18//NONSGML v1.0//EN
CALSCALE:GREGORIAN
METHOD:PUBLISH
X-ORIGINAL-URL:https://craiovalive.ro
X-WR-CALDESC:Evenimente pentru Craiova Live
REFRESH-INTERVAL;VALUE=DURATION:PT1H
X-Robots-Tag:noindex
X-PUBLISHED-TTL:PT1H
BEGIN:VTIMEZONE
TZID:Europe/Bucharest
BEGIN:DAYLIGHT
TZOFFSETFROM:+0200
TZOFFSETTO:+0300
TZNAME:EEST
DTSTART:20250330T010000
END:DAYLIGHT
BEGIN:STANDARD
TZOFFSETFROM:+0300
TZOFFSETTO:+0200
TZNAME:EET
DTSTART:20251026T010000
END:STANDARD
BEGIN:DAYLIGHT
TZOFFSETFROM:+0200
TZOFFSETTO:+0300
TZNAME:EEST
DTSTART:20260329T010000
END:DAYLIGHT
BEGIN:STANDARD
TZOFFSETFROM:+0300
TZOFFSETTO:+0200
TZNAME:EET
DTSTART:20261025T010000
END:STANDARD
BEGIN:DAYLIGHT
TZOFFSETFROM:+0200
TZOFFSETTO:+0300
TZNAME:EEST
DTSTART:20270328T010000
END:DAYLIGHT
BEGIN:STANDARD
TZOFFSETFROM:+0300
TZOFFSETTO:+0200
TZNAME:EET
DTSTART:20271031T010000
END:STANDARD
END:VTIMEZONE
BEGIN:VEVENT
DTSTART;TZID=Europe/Bucharest:20260602T190000
DTEND;TZID=Europe/Bucharest:20260602T210000
DTSTAMP:20260423T225620
CREATED:20260225T000749Z
LAST-MODIFIED:20260225T000749Z
UID:10014093-1780426800-1780434000@craiovalive.ro
SUMMARY:Bani din cer
DESCRIPTION:Turneul Aniversar Bani din cer 25 de ani ajunge în Craiova!\nAparținând dramaturgului englez Ray Cooney\, piesa a fost pusă în scenă în 2001\, la Teatrul de Comedie\, de Horațiu Mălăele.\nVedetele de atunci erau George Mihăiță și Virginia Mirea. Astăzi\, cele două personaje sunt înlocuite de Mihai Bendeac și Mihaela Teleoacă.\nHenry\, un contabil căruia îi pică bani din cer\, își surprinde soția\, întorcându-se acasă cu o geantă plină de bani. Întâmplarea fericită îl determină pe Henry să schimbe radical viața familiei. Mihaela Teleoacă joacă extraordinar rolul soției\, Jane Perkins\, redând\, printr-o cavalcadă de nuanțe\, problema consumului de alcool cu care aceasta se confruntă.\nMihai Bendeac intră perfect în rolul lui Henry și ne amintește de absolventul de teatru de odinioară: trăiește sincer – dramatic situațiile prin care trece\, consecință fiind comicul ivit.\nBani din Cer răspunde unor mari frământări ale umanității: este de ajuns să te îmbogățești material\, pentru a sărăci\, cu totul\, spiritual; pentru a uita cine ești? În această comedie întâlnim tipologii umane obișnuite puse într-o situație neprevăzută\, pilduitoare fără a moraliza\, plină de înțeles fără să dea răspunsuri directe. BANI DIN CER este încă o dovadă că râsul poate trezi conștiințe.\n“Într-o lume nimicită de conflicte religioase\, interetnice\, inter-nu-mai-știu-cum\, într-o lume măcelărită de prostie și incultură\, singura soluție pământean-tămăduitoare ar fi lumina Spiritului. Știut fiind că și Comedia este chiriașă pe viață în Casa Spiritului\, având convingerea că râsul va mântui lumea propunem acest spectacol a cărui singură mare virtute este Umorul” – Horațiu Mălăele\n\nAutor: Ray Cooney\nTraducere: Gheorghe Lăzărescu\nRegie: Horațiu Mălăele\nScenografie: Puiu Antemir\nProducător: Teatrul de Comedie\nDurată: 1h 30 min fără pauză\nDistribuție\nMihai Bendeac\nMihaela Teleoacă\nDragoș Huluba\nDelia Nartea\nȘerban Georgevici\nMarius Drogeanu\nVlad Drăgulin\nLiviu Pintileasa
URL:https://craiovalive.ro/eveniment/bani-din-cer/
LOCATION:Teatrul Național Craiova – Sala Amza Pellea\, Str. A. I. Cuza\, nr. 11\, Craiova\, Dolj\, 200585\, România
CATEGORIES:Teatru
ATTACH;FMTTYPE=image/jpeg:https://craiovalive.ro/wp-content/uploads/2026/02/Bani-din-cer.jpg
GEO:44.3186661;23.8003743
X-APPLE-STRUCTURED-LOCATION;VALUE=URI;X-ADDRESS=Teatrul Național Craiova – Sala Amza Pellea Str. A. I. Cuza nr. 11 Craiova Dolj 200585 România;X-APPLE-RADIUS=500;X-TITLE=Str. A. I. Cuza\, nr. 11:geo:23.8003743,44.3186661
END:VEVENT
BEGIN:VEVENT
DTSTART;TZID=Europe/Bucharest:20260608T190000
DTEND;TZID=Europe/Bucharest:20260608T203000
DTSTAMP:20260423T225620
CREATED:20240128T112016Z
LAST-MODIFIED:20260220T220507Z
UID:10013028-1780945200-1780950600@craiovalive.ro
SUMMARY:Hamlet
DESCRIPTION:Distribuția\nVlad Udrescu\nRamona Drăgulescu\nClaudiu Mihail\nTheodora Bălan\nRaluca Păun\nEugen Titu\nCătălin Vieru\nMarian Politic\nAngel Rababoc\nCostinela Ungureanu\nMircea Mogoșeanu\nFlavia Hojda\nAlex Stoicescu\nDarko Huruială\nMihnea Presură \nDe: William SHAKESPEARE \nTraducere text: George VOLCEANOV \nRegia artistică și adaptarea scenică: Declan DONNELLAN \nScenografia: Nick ORMEROD \nAsistent regie: Laurențiu TUDOR \nAsistent scenografie: Adelina GALICEANU \nMuzica: Tibor CÁRI \nAsistență mișcare scenică: Gloria BUCĂTARU \nLupte scenice – scrimă: Antonie MIHAIL \nSunet: George UDREA\, Dan FENEȘAN \nLumini: Dodu ISPAS\, Marian TUDORACHE\, Alina MITRACHE \nRegia tehnică: Cristian Norel PETEC / Sorin GRUIA \nSufleur: Adrian ȚÎRCĂ \nProducător: Claudia GORUN \nGrafică afiș: Denisa NEAȚU \nDistribuția: Hamlet (Vlad Udrescu)\, Claudius (Claudiu Mihail)\, Gertrude (Ramona Drăgulescu)\, Ofelia (Flavia Hojda\, Theodora Bălan)\, Polonius (Raluca Păun)\, Laertes (Alex Stoicescu)\, Fantoma (Eugen Titu)\, Rosencrantz (Cătălin Vieru)\, Guildenstern (Darko Huruială)\, Gropar 1/Al treilea actor din piesă (Marian Politic)\, Regele din piesă/Preotul (Angel Rababoc)\, Regina din piesă/Gropar 2 (Costinela Ungureanu)\, Străjer 1 (Mircea Mogoșeanu)\, Străjer 2 (Mihnea Presură) \nData premierei: 22\, 23\, 24 februarie 2024 \nEste adesea trecut cu vederea faptul că Shakespeare a transformat patru dintre cele mai plictisitoare cuvinte din limba engleză în cea mai faimoasă replică din teatrul universal\, „A fi sau a nu fi”. Cum poate ceva atât de abstract să rezoneze în atâtea culturi și epoci? Unii spun că răspunsul este simplu: „a fi!” Mai degrabă decât să ne întrebăm despre existență\, întrebări care sunt fără răspuns\, ar trebui să îmbrățișăm pur și simplu viața și să mergem mai departe. \nÎntrebarea continuă să bântuie mulți oameni\, inclusiv pe mine. Importanța sa rezidă în necunoscutul ‘de ce’. Această întrebare a bântuit filosofii mult înainte de Socrate. Unii își pun întrebarea\, în timp ce alții argumentează că\, deoarece nu există un răspuns\, nu are sens să o adreseze. \nUneori facem lucruri fără sens\, lucruri cu adevărat cumplite\, fără aparent niciun motiv sau beneficiu. Și alergăm în jurul nostru în disperare\, întrebând „De ce?! De ce?!” Oamenii sunt singurele animale care pot fi irațional de crude\, care pot săvârși acte spectaculoase de violență atât asupra lor\, cât și asupra altor persoane. \nPoate că acest lucru este legat de faptul că oamenii sunt singurele ființe care își pot pune la îndoială propria existență. Uneori\, oamenii fac lucruri minunate sau îngrozitoare doar pentru a dovedi că existăm. \nDilema lui Hamlet încarnează această luptă. Dar nu direct\, ci enigmatic\, ca o fantomă în jurul coridoarelor întunecate de la Elsinore. \nDeclan Donnellan
URL:https://craiovalive.ro/eveniment/hamlet/2026-06-08/
LOCATION:Teatrul Național Craiova – Sala Amza Pellea\, Str. A. I. Cuza\, nr. 11\, Craiova\, Dolj\, 200585\, România
CATEGORIES:Teatru
ATTACH;FMTTYPE=image/jpeg:https://craiovalive.ro/wp-content/uploads/2024/01/Hamlet-TNCMS.jpg
ORGANIZER;CN="Teatrul Na%C8%9Bional Marin Sorescu Craiova":MAILTO:secretariat@tncms.ro
GEO:44.3186661;23.8003743
X-APPLE-STRUCTURED-LOCATION;VALUE=URI;X-ADDRESS=Teatrul Național Craiova – Sala Amza Pellea Str. A. I. Cuza nr. 11 Craiova Dolj 200585 România;X-APPLE-RADIUS=500;X-TITLE=Str. A. I. Cuza\, nr. 11:geo:23.8003743,44.3186661
END:VEVENT
BEGIN:VEVENT
DTSTART;TZID=Europe/Bucharest:20260610T210000
DTEND;TZID=Europe/Bucharest:20260610T223000
DTSTAMP:20260423T225620
CREATED:20241231T134218Z
LAST-MODIFIED:20260307T213311Z
UID:10012932-1781125200-1781130600@craiovalive.ro
SUMMARY:Lecția
DESCRIPTION:Lecția\nDISTRIBUȚIA:\nSORIN LEOVEANU\nRALUCA PĂUN\nIULIA LAZĂR\nDe: Eugène Ionesco \nTraducere: Vlad Russo și Vlad Zografi \nRegia: Bobi Pricop \nScenografia: Oana Micu \nMuzica și mișcarea scenică: Eduard Gabia \nData premierei: 14 februarie 2024 \n\n\n\n\n\nDurată spectacol: 60 min \n\n\n\n\n\n\n\n„Lecția este\, bineînțeles\, o piesă-școală despre totalitarism\, îndoctrinare\, abuz\, despre un fel de putere dictatorială și hipnotizantă a limbajului golit de sens. Dar în acest spectacol ne-a interesat să descoperim în ce măsură este\, mai mult decât orice\, vorba despre amintiri din copilărie\, traume transgeneraționale\, familii disfuncționale și relațiile toxice din interiorul lor. De aceea am vrut să chestionăm în ce măsură „lecția“ este un tip de traumă învățată acasă\, prin mecanisme moștenite\, repetate din generație în generație. Ni s-a părut foarte valoroasă lectura textului din prisma unei familii care dorește să predea unui etern copil (deja adult) o lecție absurdă\, crudă și inutilă\, în fiecare zi\, la nesfârșit\, cu speranța că de data asta lecția îi va „prinde bine”. Descoperim în piesa ionesciană un fel de violență care este subtil amestecată cu afecțiunea și asta face să fie mult mult mai greu să te revolți\, să te opui\, să te aperi. \nBobi Pricop \n  \nEugène Ionesco s-a născut pe 26 noiembrie 1909\, în Slatina. Când avea doi ani\, părinții lui au părăsit România și s-a stabilit la Paris\, unde trăia familia maternă. Întors în România\, după 1922\, a învățat limba română și s-a înscris la Liceul Sf. Sava. Examenul de bacalaureat îl susține la Colegiul Național „Carol I” din Craiova. A debutat ca poet în anul 1928\, în revista Bilete de papagal a lui Tudor Arghezi. Cartea de debut este un volum de versuri\, Elegii pentru ființe mici (1931\, Ed. Scrisul românesc).  În 1934\, a publicat primul său volum de eseuri critice\, Nu!\, care\, prin stilul acid și ireverențios\, a devenit una dintre cele mai controversate cărți ale vremii. În românește a mai publicat Englezeşte fără profesor (piesă de teatru\, 1943)\, iar în 1992 a apărut volumul de publicistică Război cu toată lumea. În 1950\, a debutat ca dramaturg\, cu piesa Cântăreața cheală\, montată la Théâtre des Noctambules\, în regia lui Nicholas Bataille\, căreia i-au urmat Lecția\, Scaunele și alte piese care au făcut din el marele dramaturg francez\, alături de Samuel Beckett. Membru al Academiei Franceze (fotoliul nr. 6). \n  \nSelecție cronici: \n\n„O explozie de culoare\, scena în roz\, şi nu\, nu este Barbie\, este Lecţialui Eugčne Ionesco. Decorul proiectat de Oana Micu incită spectatorii\, are un loc aparte în punerea în scenă gândită de Bobi Pricop. Este Pop-Art şi multă plasticitate\, piese de mobilier bidimensional\, decor de carton\, o teatralitate expusă\, o trecere de la anti-teatru la meta-teatru\, uşa care deschide spectacolul poartă inscripţia „Homeschooling”\, Ionesco. (…) Aici\, cu acest exerciţiu pedagogic suntem chez Ionesco\, în lumea lui\, lumea într-o oglindă răsturnată\, unde tensiunea dramatică se produce\, este eliberată fără ajutorul intrigii. O elevă\, un profesor\, lecţia. Un spectacol fără intrigă\, dar un spectacol în care tensiunea dramatică este integrată unui plan de acţiune care prinde publicul într-o creştere constantă\, până la paroxism\, dar mereu un paroxism amânat\, mereu amânat ca în boleroul lui Ravel. (…)\n\nO cutie magică este acest spectacol\, ca un cufăr decorat nu cu \,\,sileni” (companioni ai lui Dionysos meniţi să provoace râsul tămăduitor)\, ci cu roz şi monştri de carton\, dar şi o lecţie de (non)sens sau\, mai bine zis\, exces de sens\, \,\,un cadou de sens”\, de teatru şi teme mereu actuale\, iar când râsul şi violenţa merg mână în mână\, râsul încetează.” \nDaniela Firescu\, Pedagogie şi… teatralitate\, revista Ramuri nr. 3 / 2024 \n  \n\n„Lecția lui Eugen Ionescu\, montarea lui Bobi Pricop de la Naționalul craiovean\, înveți parcă mult mai repede că râsul devine grimasă în universul insolit și lugubru al absurdului ionescian. Pentru că asupra unui comic aparent planează\, încă din debutul spectacolului\, inconfortabilul.\n\nBobi Pricop structurează tensiunea într-un mod insolit\, îi permite să invadeze spațiul prin culori tari – cu ajutorul scenografiei semnate de Oana Micu ‒ și prin privirile hipnotice ale personajelor\, care sticlesc pe fundalul cromaticii țipătoare. (…) \nCe face Bobi Pricop cu Lecția este o așezare in decor a ideii de violență\, cu o scenografie care urlă despre oroare în timp ce mimează\, blufând\, desenele animate\, cu girul a trei actori excepționali\, care au înțeles foarte bine că în lumea absurdă a lui Ionescu personajele vorbesc cu totul\, cu ochi\, cu mâini\, cu tot corpul\, chiar și atunci când tac\, ba mai ales când tac.” \nAnda Simion\, Lecția lui Bobi Pricop sau cum așezi violența în decor\, revista Scrisul Românesc\, nr.3/2024\, pag. 21
URL:https://craiovalive.ro/eveniment/lectia-3/
LOCATION:Teatrul Național Craiova – Sala Amza Pellea\, Str. A. I. Cuza\, nr. 11\, Craiova\, Dolj\, 200585\, România
CATEGORIES:Teatru
ATTACH;FMTTYPE=image/jpeg:https://craiovalive.ro/wp-content/uploads/2024/01/Lectia-regia-Bobi-Pricop-1.jpg
ORGANIZER;CN="Teatrul Na%C8%9Bional Marin Sorescu Craiova":MAILTO:secretariat@tncms.ro
GEO:44.3186661;23.8003743
X-APPLE-STRUCTURED-LOCATION;VALUE=URI;X-ADDRESS=Teatrul Național Craiova – Sala Amza Pellea Str. A. I. Cuza nr. 11 Craiova Dolj 200585 România;X-APPLE-RADIUS=500;X-TITLE=Str. A. I. Cuza\, nr. 11:geo:23.8003743,44.3186661
END:VEVENT
BEGIN:VEVENT
DTSTART;TZID=Europe/Bucharest:20260920T160000
DTEND;TZID=Europe/Bucharest:20260920T180000
DTSTAMP:20260423T225620
CREATED:20251119T121214Z
LAST-MODIFIED:20260317T193430Z
UID:10012521-1789920000-1789927200@craiovalive.ro
SUMMARY:Vizionarii
DESCRIPTION:VIZIONARII 2026 \nTeatrul National „Marin Sorescu” Craiova\n \n20 Septembrie 2026 ora 16:00 \nAcad.Alexandru Vlad Ciurea vorbește despre „Puterea rugăciunii și miracolul vindecării prin credință”\nRugăciunea nu e doar un act de credință\, ci o energie care vindecă. Acad.Alexandru Vlad Ciurea explică cum\, în timpul rugăciunii\, creierul își schimbă frecvența: scade frica\, crește pacea\, iar corpul primește semnalul refacerii.\nSunt vindecări pe care știința nu le poate explica..Când medicina își atinge limitele\, începe domeniul lui Dumnezeu. \nProf.univ.dr.Dumitru Constantin Dulcan dezvaluie „Formula Tinereții”. Dl profesor dezvăluie că secretul tinereții nu stă în creme sau genele moștenite\, ci în modul în care gândim și simțim.\nCând trăim în iubire\, recunoștință și sens\, celulele noastre primesc semnalul vieții\, nu al degradării.\nTinerețea nu e o vârstă\, ci o stare de conștiință: o minte senină\, o inimă bună și un suflet recunoscător pot întineri chiar și materia. \nPsiholog dr.\, Gina Chiriac dezvaluie „Aurul invizibil al sufletului- Atenția!” Dna.psih.dr. vorbește despre cel mai prețios dar al omului modern: prezența!\nCeea ce privim\, crește. Ceea ce iubim prin atenție\, prinde viață.\nÎntr-o lume care ne fură privirea\, adevărata vindecare începe acolo unde ne întoarcem atenția către noi înșine\, către inimă\, către prezent.
URL:https://craiovalive.ro/eveniment/vizionarii/
LOCATION:Teatrul Național Craiova – Sala Amza Pellea\, Str. A. I. Cuza\, nr. 11\, Craiova\, Dolj\, 200585\, România
CATEGORIES:Conferință
ATTACH;FMTTYPE=image/webp:https://craiovalive.ro/wp-content/uploads/2025/11/Vizionarii-e1773776063971.webp
GEO:44.3186661;23.8003743
X-APPLE-STRUCTURED-LOCATION;VALUE=URI;X-ADDRESS=Teatrul Național Craiova – Sala Amza Pellea Str. A. I. Cuza nr. 11 Craiova Dolj 200585 România;X-APPLE-RADIUS=500;X-TITLE=Str. A. I. Cuza\, nr. 11:geo:23.8003743,44.3186661
END:VEVENT
BEGIN:VEVENT
DTSTART;TZID=Europe/Bucharest:20261012T190000
DTEND;TZID=Europe/Bucharest:20261012T210000
DTSTAMP:20260423T225620
CREATED:20260328T100901Z
LAST-MODIFIED:20260328T100901Z
UID:10014410-1791831600-1791838800@craiovalive.ro
SUMMARY:Romeo și Julieta
DESCRIPTION:🎭 ROMEO SI JULIETA – WILLIAM SHAKESPEARE \n(montare clasica) \nO poveste cât un spectacol. \n12 Octombrie 2026 ora 19:00 \nTeatrul National „Marin Sorescu” Craiova \nPovestea lui Romeo și a Julietei sale. \nCea mai cunoscută poveste de iubire din lume revine într-o montare spectaculoasă semnată de regizorul Toma Enache\, creatorul succesului „O scrisoare pierdută”\, realizat împreună cu aceeași echipă artistică si acelasi producator\, apreciată de public. \nCel mai amplu și ambițios proiect semnat până acum de regizorul Toma Enache și producătorul Pepino Popescu\, spectacolul aduce în fața publicului forța teatrului clasic autentic într-o formă vizuală impresionantă. \nPrin utilizarea a 8 ecrane de proiecție și 3 videoproiectoare\, scena se transformă într-un univers viu\, în care Verona și drumurile iubirii celor doi prind viață chiar în fața dumneavoastră. \nO fuziune între teatru și film\, în care emoția se trăiește live\, iar imaginea capătă amploarea cinematografiei. \n✨ Aproape 50 de costume de epocă \n✨ Scenografie: Alina Dincă Pușcașu \n✨ Decor: Maria Dore \n✨ Video design: Silviu Apostol \n⭐ DISTRIBUȚIE \nANDREI NEAGOE – Romeo\, fiul lui Montekiu \nIOANA BRUMAR / GIA TIȚOIU – Julieta\, fiica lui Capulet \nMONICA DAVIDESCU – Doica\, confidenta Julietei \nAURELIAN TEMIȘAN – Capulet\, tatăl Julietei \nOVIDIU CUNCEA – Părintele Lorenzo\, călugărul (și Gregorio) \nADRIAN NARTEA – Escalus\, Principele Veronei \nTEODORA CALAGIU – Lady Capulet\, mama Julietei \nMARIUS RIZEA – Montekiu\, tatăl lui Romeo \nCOSMIN VÎJEU – Peter\, slujitorul Doicii \nDAN ISTRATE – Mercuțio\, prietenul lui Romeo (și Spițerul) \nEMANUEL VARGA – Benvolio\, văr și prieten al lui Romeo \nRADU BĂNICĂ – Paris\, tânăr nobil \nȘTEFAN PÎRNUȘ – Tebaldo\, nepotul lui Capulet \nSILVIU OLTEAN – Abraham\, slujitor \nDistribuția cuprinde actori consacrați\, precum și nume importante ale Teatrului Național București\, alături de o nouă generație de artiști remarcabili. \nÎntreaga distribuție apare și în corurile spectacolului – corul familiei Capulet și corul familiei Montekiu. \n✒️ Mesajul regizorului \nRegizorul Toma Enache spune: \n„Un spectacol în care Shakespeare ne vorbea încă din anii 1594–1595 despre iubire — acea iubire de care avem nevoie și astăzi\, pentru a pune capăt urii vechi dintre neamuri care se războiesc. \nRomeo și Julieta este un exercițiu de îmblânzire a inimilor: \nale celor care au iubit\, \nale celor care iubesc\, \ndar și ale celor care așteaptă să iubească.” \n\nPovestea lui Romeo și a Julietei sale. \nO poveste cât un spectacol pe care nu trebuie să-l ratezi.
URL:https://craiovalive.ro/eveniment/romeo-si-julieta/
LOCATION:Teatrul Național Craiova – Sala Amza Pellea\, Str. A. I. Cuza\, nr. 11\, Craiova\, Dolj\, 200585\, România
CATEGORIES:Teatru
ATTACH;FMTTYPE=image/jpeg:https://craiovalive.ro/wp-content/uploads/2026/03/Romeo-si-Julieta.jpeg
GEO:44.3186661;23.8003743
X-APPLE-STRUCTURED-LOCATION;VALUE=URI;X-ADDRESS=Teatrul Național Craiova – Sala Amza Pellea Str. A. I. Cuza nr. 11 Craiova Dolj 200585 România;X-APPLE-RADIUS=500;X-TITLE=Str. A. I. Cuza\, nr. 11:geo:23.8003743,44.3186661
END:VEVENT
BEGIN:VEVENT
DTSTART;TZID=Europe/Bucharest:20261208T193000
DTEND;TZID=Europe/Bucharest:20261208T210000
DTSTAMP:20260423T225620
CREATED:20260419T210320Z
LAST-MODIFIED:20260419T210320Z
UID:10014563-1796758200-1796763600@craiovalive.ro
SUMMARY:Concert Direcția 5 - 100% Direcția 5
DESCRIPTION:Craiova: Concert Direcția 5 – „100% Direcția 5”\n\nTeatrul National Marin Sorescu\, Craiova\nStrada Alexandru Ioan Cuza 11\nmarți\, 8 decembrie\, ora 19:30 acces de la 19:00\n\n\n\nÎți dăm întâlnire în cadrul turneului „100% Direcția 5” cu un concert care aduce pe scenă atât piesele cunoscute ale trupei Direcția 5\, cât și cântece noi de pe cel mai recent disc „100% Direcția 5”.\n\n\n\n\n\nOrice muzică ați asculta\, a noastră este diferită\, Direcția 5 vă iubește! \nAccesul copiilor cu vârsta de până la 12 ani însoțiți de părinți este gratuit.
URL:https://craiovalive.ro/eveniment/concert-directia-5-100-directia-5/
LOCATION:Teatrul Național Craiova – Sala Amza Pellea\, Str. A. I. Cuza\, nr. 11\, Craiova\, Dolj\, 200585\, România
CATEGORIES:Muzică
ATTACH;FMTTYPE=image/webp:https://craiovalive.ro/wp-content/uploads/2026/04/Concert-Directia-5-100-Directia-5.webp
GEO:44.3186661;23.8003743
X-APPLE-STRUCTURED-LOCATION;VALUE=URI;X-ADDRESS=Teatrul Național Craiova – Sala Amza Pellea Str. A. I. Cuza nr. 11 Craiova Dolj 200585 România;X-APPLE-RADIUS=500;X-TITLE=Str. A. I. Cuza\, nr. 11:geo:23.8003743,44.3186661
END:VEVENT
BEGIN:VEVENT
DTSTART;TZID=Europe/Bucharest:20261216T190000
DTEND;TZID=Europe/Bucharest:20261216T203000
DTSTAMP:20260423T225620
CREATED:20260419T205444Z
LAST-MODIFIED:20260419T205444Z
UID:10014561-1797447600-1797453000@craiovalive.ro
SUMMARY:RAOUL & Balkanic Orchestra Live - Turneu Național "De dragul tău"
DESCRIPTION:RAOUL \nTurneu National \n„De dragul tau” \nBalkanic Orchestra Live \nTeatrul National „Marin Sorescu” Craiova \n16 Decembrie 2026 ora 19:00 \n✒️ TURNEUL NAȚIONAL -RAOUL-“DE DRAGUL TĂU”\, alături de BALKANIC ORCHESTRA live \nSunt seri în care muzica nu se ascultă\, ci se trăiește. Sunt întâlniri în care nu mai contează scena\, distanța sau luminile\, ci doar ceea ce se întâmplă între oameni. Acolo începe povestea acestui turneu. Pentru că „De dragul tău” nu este doar un nume\, este felul în care Raoul a ales să se apropie din nou de publicul său\, simplu\, sincer\, fără mască\, fără grabă. \nRaoul nu este doar un artist care urcă pe scenă și cântă. Este un povestitor de stări\, un om care adună în muzică emoții reale\, trăite\, și le așază\, cu grijă\, în fiecare vers. De-a lungul anilor\, a construit o relație specială cu publicul său\, una în care aplauzele nu sunt doar reacții\, ci răspunsuri. Iar această legătură se simte de fiecare dată\, încă din primele acorduri. \nAlături de Balkanic Orchestra Live\, fiecare concert capătă o forță aparte. Sunetul live aduce profunzime\, culoare și energie\, într-un echilibru între rafinament și pasiune. Orchestra nu însoțește\, ci respiră odată cu artistul\, construind un univers muzical bogat\, în care fiecare instrument are rolul lui și fiecare moment este gândit să ajungă direct la suflet. \nSpectacolul este o călătorie. Uneori liniștită\, alteori intensă\, dar mereu sinceră. De la momente intime\, în care parcă timpul stă pe loc\, până la clipe în care sala întreagă devine o singură respirație\, publicul nu este doar spectator\, ci parte din ceea ce se întâmplă. Pentru că aici\, fiecare cântec spune o poveste\, iar fiecare om o regăsește în felul lui. \n„De dragul tău” este\, în esență\, despre apropiere. Despre acel sentiment rar în care nu mai ești singur într-o sală plină\, ci te simți înțeles fără să spui nimic. Iar dacă alegi să fii acolo\, nu vii doar la un concert\, ci la o întâlnire care rămâne cu tine\, liniștit\, mult timp după ce totul se termină.
URL:https://craiovalive.ro/eveniment/raoul-balkanic-orchestra-live-turneu-national-de-dragul-tau/
LOCATION:Teatrul Național Craiova – Sala Amza Pellea\, Str. A. I. Cuza\, nr. 11\, Craiova\, Dolj\, 200585\, România
CATEGORIES:Muzică
ATTACH;FMTTYPE=image/jpeg:https://craiovalive.ro/wp-content/uploads/2026/04/RAOUL-Balkanic-Orchestra-Live-Turneu-National-De-dragul-tau.jpeg
GEO:44.3186661;23.8003743
X-APPLE-STRUCTURED-LOCATION;VALUE=URI;X-ADDRESS=Teatrul Național Craiova – Sala Amza Pellea Str. A. I. Cuza nr. 11 Craiova Dolj 200585 România;X-APPLE-RADIUS=500;X-TITLE=Str. A. I. Cuza\, nr. 11:geo:23.8003743,44.3186661
END:VEVENT
END:VCALENDAR