BEGIN:VCALENDAR
VERSION:2.0
PRODID:-//Craiova Live - ECPv6.15.18//NONSGML v1.0//EN
CALSCALE:GREGORIAN
METHOD:PUBLISH
X-ORIGINAL-URL:https://craiovalive.ro
X-WR-CALDESC:Evenimente pentru Craiova Live
REFRESH-INTERVAL;VALUE=DURATION:PT1H
X-Robots-Tag:noindex
X-PUBLISHED-TTL:PT1H
BEGIN:VTIMEZONE
TZID:Europe/Bucharest
BEGIN:DAYLIGHT
TZOFFSETFROM:+0200
TZOFFSETTO:+0300
TZNAME:EEST
DTSTART:20240331T010000
END:DAYLIGHT
BEGIN:STANDARD
TZOFFSETFROM:+0300
TZOFFSETTO:+0200
TZNAME:EET
DTSTART:20241027T010000
END:STANDARD
BEGIN:DAYLIGHT
TZOFFSETFROM:+0200
TZOFFSETTO:+0300
TZNAME:EEST
DTSTART:20250330T010000
END:DAYLIGHT
BEGIN:STANDARD
TZOFFSETFROM:+0300
TZOFFSETTO:+0200
TZNAME:EET
DTSTART:20251026T010000
END:STANDARD
BEGIN:DAYLIGHT
TZOFFSETFROM:+0200
TZOFFSETTO:+0300
TZNAME:EEST
DTSTART:20260329T010000
END:DAYLIGHT
BEGIN:STANDARD
TZOFFSETFROM:+0300
TZOFFSETTO:+0200
TZNAME:EET
DTSTART:20261025T010000
END:STANDARD
END:VTIMEZONE
BEGIN:VEVENT
DTSTART;TZID=Europe/Bucharest:20250913T163000
DTEND;TZID=Europe/Bucharest:20250915T210000
DTSTAMP:20260424T030650
CREATED:20250802T154905Z
LAST-MODIFIED:20250913T113106Z
UID:10007878-1757781000-1757970000@craiovalive.ro
SUMMARY:Craiova Grand Prix Șah Rapid 2025
DESCRIPTION:Pentru prima oară\, Craiova va găzdui Grand Prix la Șah Rapid! Craiova Grand Prix Rapid este ultima etapă Romania Grand Prix în 2025!\nPeste 300 de mari șahiști din lume vor fi prezenți la Craiova\, între 13-14 septembrie! Printre aceștia: GM Jose Eduardo Martinez Alcantara\, mare maestru mexican (de origine peruviană) și fost campion mondial U18\, și David „Ducu” Gavrilescu campionul național en-titre la șah clasic\, secțiunea open (seniori).\n\nFederația Română de Șah\, în parteneriat cu Primăria Craiova\, organizează sâmbătă și duminică\, 13 – 14 septembrie\, la Sala Polivalentă\, Craiova Grand Prix\, un turneu cu 300 de mari șahiști din 14 țări.\n–\n\n\n\n\n\n\n\n\n\n Craiova Grand Prix Rapid – Ultima etapă a circuitului Grand Prix România 2025! \n 13-14 septembrie |  Craiova – gazdă în premieră\n Fond de premiere: 25.000 Euro\n Invitat special: Viswanathan Anand de 7 ori campion mondial!\n Nu rata ultima etapă\, care se va desfășura în Sala Polivalentă!\n\n\nIntrarea este gratuită la competiția din weekend\, iar craiovenii pot urmări fiecare partidă din Grand Prix\, pe ecrane special amplasate în Sala Polivalentă!\n\nSâmbătă\, 13 septembrie\, se organizează și un concurs pentru copii\, dotat cu premii!
URL:https://craiovalive.ro/eveniment/craiova-grand-prix-sah-rapid-2025/2025-09-13/
LOCATION:Sala Polivalentă\, Bvd. Ilie Balaci\, nr.6\, Craiova\, Dolj\, România
CATEGORIES:Sport
ATTACH;FMTTYPE=image/png:https://craiovalive.ro/wp-content/uploads/2025/08/Romania-Grand-Prix-Rapid-2025.png
GEO:44.3133053;23.7867478
X-APPLE-STRUCTURED-LOCATION;VALUE=URI;X-ADDRESS=Sala Polivalentă Bvd. Ilie Balaci nr.6 Craiova Dolj România;X-APPLE-RADIUS=500;X-TITLE=Bvd. Ilie Balaci\, nr.6:geo:23.7867478,44.3133053
END:VEVENT
END:VCALENDAR