BEGIN:VCALENDAR
VERSION:2.0
PRODID:-//Craiova Live - ECPv6.15.18//NONSGML v1.0//EN
CALSCALE:GREGORIAN
METHOD:PUBLISH
X-ORIGINAL-URL:https://craiovalive.ro
X-WR-CALDESC:Evenimente pentru Craiova Live
REFRESH-INTERVAL;VALUE=DURATION:PT1H
X-Robots-Tag:noindex
X-PUBLISHED-TTL:PT1H
BEGIN:VTIMEZONE
TZID:Europe/Bucharest
BEGIN:DAYLIGHT
TZOFFSETFROM:+0200
TZOFFSETTO:+0300
TZNAME:EEST
DTSTART:20240331T010000
END:DAYLIGHT
BEGIN:STANDARD
TZOFFSETFROM:+0300
TZOFFSETTO:+0200
TZNAME:EET
DTSTART:20241027T010000
END:STANDARD
BEGIN:DAYLIGHT
TZOFFSETFROM:+0200
TZOFFSETTO:+0300
TZNAME:EEST
DTSTART:20250330T010000
END:DAYLIGHT
BEGIN:STANDARD
TZOFFSETFROM:+0300
TZOFFSETTO:+0200
TZNAME:EET
DTSTART:20251026T010000
END:STANDARD
BEGIN:DAYLIGHT
TZOFFSETFROM:+0200
TZOFFSETTO:+0300
TZNAME:EEST
DTSTART:20260329T010000
END:DAYLIGHT
BEGIN:STANDARD
TZOFFSETFROM:+0300
TZOFFSETTO:+0200
TZNAME:EET
DTSTART:20261025T010000
END:STANDARD
BEGIN:DAYLIGHT
TZOFFSETFROM:+0200
TZOFFSETTO:+0300
TZNAME:EEST
DTSTART:20270328T010000
END:DAYLIGHT
BEGIN:STANDARD
TZOFFSETFROM:+0300
TZOFFSETTO:+0200
TZNAME:EET
DTSTART:20271031T010000
END:STANDARD
END:VTIMEZONE
BEGIN:VEVENT
DTSTART;TZID=Europe/Bucharest:20251231T210000
DTEND;TZID=Europe/Bucharest:20260101T030000
DTSTAMP:20260423T212514
CREATED:20251007T210555Z
LAST-MODIFIED:20251030T221149Z
UID:10010294-1767214800-1767236400@craiovalive.ro
SUMMARY:SOLD OUT Disco Planet Party – Revelion 2026 @Ramada Plaza
DESCRIPTION: Revelionul acesta te prinde în galaxia distracției la Ellipse City Restaurant by Ramada Plaza Craiova! \n Pe 31 decembrie 2025\, de la ora 21:00\, vino la DISCO PLANET PARTY și lasă-te purtat într-o atmosferă electrizantă\, unde mixurile lui Victor Biliac vor aprinde ringul de dans!\n Ritmurile efervescente vor fi completate live de energia lui ANDOO SAX la saxofon și de vibrațiile explozive ale lui BABOO la tobe.\n Te așteaptă o noapte disco cu accente cosmice\, muzică vibrantă și un show care te va ține în mișcare până la răsărit! \n Profită de oferta Early Booking! Ai 10% reducere pentru rezervările făcute până la 31 octombrie.\n De asemenea\, ai ocazia să vizitezi al doilea cel mai frumos Târg de Crăciun din Europa 2024\, conform European Best Destinations. Anul acesta\, Craiova devine o lume de poveste sub tema Spărgătorul de nuci\, transformând orașul într-o destinație magică pentru sărbători de neuitat.\n Rezervă-ți locul chiar acum:0758 025 927 | 0351 100 200
URL:https://craiovalive.ro/eveniment/disco-planet-party-revelion-2026-ramada-plaza/
LOCATION:Ramada Plaza Craiova\, Calea Bucuresti\, nr 1\, Craiova\, Dolj\, România
CATEGORIES:Party
ATTACH;FMTTYPE=image/jpeg:https://craiovalive.ro/wp-content/uploads/2025/10/Disco-Planet-Party-Revelion-2026-Ramada-Plaza.jpg
GEO:44.3214396;23.7964694
X-APPLE-STRUCTURED-LOCATION;VALUE=URI;X-ADDRESS=Ramada Plaza Craiova Calea Bucuresti nr 1 Craiova Dolj România;X-APPLE-RADIUS=500;X-TITLE=Calea Bucuresti\, nr 1:geo:23.7964694,44.3214396
END:VEVENT
BEGIN:VEVENT
DTSTART;TZID=Europe/Bucharest:20251231T200000
DTEND;TZID=Europe/Bucharest:20260101T020000
DTSTAMP:20260423T212514
CREATED:20250910T204446Z
LAST-MODIFIED:20250910T204446Z
UID:10009714-1767211200-1767232800@craiovalive.ro
SUMMARY:Cosmic Party – Revelion 2026 @Ramada Plaza
DESCRIPTION: Pregătește-te să pornești într-o călătorie cosmică  spre 2026\, la Ramada Plaza Craiova!\n Pe 31 decembrie 2025\, de la ora 20:00\, vino la COSMIC PARTY – REVELION 2026 în Ballroom Constantin Brâncuși și bucură-te de o seară de neuitat alături de Life on Mars\, Cristian Sanda\, Marina Vlad și DJ Shofy!\n Te așteaptă muzică live spectaculoasă\, atmosferă vibrantă și o petrecere care te va ține pe ringul de dans până dimineața! \n Profită de oferta Early Booking! Ai 10% reducere pentru rezervările făcute până la 31 octombrie.\n  De asemenea\, ai ocazia să vizitezi al doilea cel mai frumos Târg de Crăciun din Europa 2024\, conform European Best Destinations. În acest an\, Târgul de Crăciun se transformă într-o adevărată lume de poveste sub tema Spărgătorul de nuci\, unde magia prinde viață și transformă orașul într-o destinație de neegalat pentru sărbători memorabile în inima Europei.\n Rezervă-ți locul chiar acum:0758 025 927 | 0351 100 200
URL:https://craiovalive.ro/eveniment/cosmic-party-revelion-2026-ramada-plaza/
LOCATION:Ramada Plaza Craiova\, Calea Bucuresti\, nr 1\, Craiova\, Dolj\, România
CATEGORIES:Party
ATTACH;FMTTYPE=image/jpeg:https://craiovalive.ro/wp-content/uploads/2025/09/Cosmic-Party-–-Revelion-2026-@Ramada-Plaza.jpg
GEO:44.3214396;23.7964694
X-APPLE-STRUCTURED-LOCATION;VALUE=URI;X-ADDRESS=Ramada Plaza Craiova Calea Bucuresti nr 1 Craiova Dolj România;X-APPLE-RADIUS=500;X-TITLE=Calea Bucuresti\, nr 1:geo:23.7964694,44.3214396
END:VEVENT
BEGIN:VEVENT
DTSTART;TZID=Europe/Bucharest:20251116T100000
DTEND;TZID=Europe/Bucharest:20251116T200000
DTSTAMP:20260423T212514
CREATED:20251007T204124Z
LAST-MODIFIED:20251110T183623Z
UID:10010289-1763287200-1763323200@craiovalive.ro
SUMMARY:Wine Tonic Festival 2025
DESCRIPTION: Wine Tonic Festival 2025 – The Fine Taste Experience\nPregătește-te pentru două zile de rafinament\, arome și emoție la Wine Tonic Festival 2025\, cel mai mare eveniment dedicat vinurilor și băuturilor premium din Oltenia!Pe 15 și 16 noiembrie\, Ramada Plaza Craiova devine epicentrul bunului gust\, al eleganței și al descoperirilor oenologice.\nDescoperă sute de vinuri\, spumante\, spirtoase și tonice artizanale din România și din lume.Fiecare pahar spune o poveste\, fiecare etichetă dezvăluie o lume. De la crame boutique la branduri internaționale consacrate\, vei găsi tot ce-ți dorești — și mai mult.\n Ce te așteaptă la festival:\n\n\nDegustări nelimitate și discuții directe cu producători și somelieri\n\nBaruri tematice cu cocktailuri exclusive și mixologi invitați\n\nMasterclass-uri\, surprize și momente muzicale live\n\nO experiență completă dedicată pasionaților de vin\, bauturi exclusive și lifestyle premium\n\n\nAtmosfera vibrantă\, energia oamenilor și gusturile spectaculoase fac din Wine Tonic Festival mai mult decât un eveniment — este o experiență de colecție.\n Trăiește Oltenia în ritmul vinului!Vino să guști\, să descoperi și să te bucuri de cea mai rafinată experiență a toamnei.\n 15–16 noiembrie 2025 | Ramada Plaza Craiova\n\n––\nMaster Class-uri în cadrul Wine Tonic Festival:\n\nMaster Class – Cocktail Art Explained – 15 noiembrie ora 14.00 – 14.50\nMaster Class Crama Collefrisio cu Amedeo De Luca – 15 noiembrie 15.00 – 15.50\nMaster Class Crama Cepari cu Ilarie Prioteasa 15 noiembrie 16.00 – 16.50\nMaster Class Crama Catleya cu Laurent Pfeffer – 15 noiembrie 17.00 – 17.50
URL:https://craiovalive.ro/eveniment/wine-tonic-festival-2025/2025-11-16/
LOCATION:Ramada Plaza Craiova\, Calea Bucuresti\, nr 1\, Craiova\, Dolj\, România
CATEGORIES:Gastronomie,Târguri
ATTACH;FMTTYPE=image/jpeg:https://craiovalive.ro/wp-content/uploads/2025/10/Wine-Tonic-Festival-2025.jpg
GEO:44.3214396;23.7964694
X-APPLE-STRUCTURED-LOCATION;VALUE=URI;X-ADDRESS=Ramada Plaza Craiova Calea Bucuresti nr 1 Craiova Dolj România;X-APPLE-RADIUS=500;X-TITLE=Calea Bucuresti\, nr 1:geo:23.7964694,44.3214396
END:VEVENT
BEGIN:VEVENT
DTSTART;TZID=Europe/Bucharest:20251013T180000
DTEND;TZID=Europe/Bucharest:20251013T193000
DTSTAMP:20260423T212514
CREATED:20251007T204845Z
LAST-MODIFIED:20251007T204845Z
UID:10010290-1760378400-1760383800@craiovalive.ro
SUMMARY:Sănătatea - noua monedă a antreprenorilor
DESCRIPTION: Club Afaceri Craiova organizează pe 13 octombrie 2025\, de la ora 18:00\, la Ramada Plaza Craiova\, un eveniment dedicat conexiunii dintre mediul de business și sănătate.\n Împreună cu Dr. Ciprian Nicolae – medic și antreprenor în domeniul sănătății\, vom discuta despre cât de mult contează sănătatea pentru performanța antreprenorilor\, care sunt riscurile la care ne expunem atunci când o neglijăm și ce soluții avem la îndemână pentru a construi un stil de viață echilibrat.\n Acces în sală:• Gratuit pentru membrii Club Afaceri Craiova• Pentru non-membri: 40 lei / persoană\, plata cash la eveniment\n Înscrieri: https://forms.gle/riZhSEhgS8dt3uea7\nVă așteptăm cu drag să descoperim împreună de ce sănătatea este cea mai valoroasă resursă a antreprenorilor!
URL:https://craiovalive.ro/eveniment/sanatatea-noua-moneda-a-antreprenorilor/
LOCATION:Ramada Plaza Craiova\, Calea Bucuresti\, nr 1\, Craiova\, Dolj\, România
CATEGORIES:Conferință,Medicină
ATTACH;FMTTYPE=image/jpeg:https://craiovalive.ro/wp-content/uploads/2025/10/Sanatatea-noua-moneda-a-antreprenorilor.jpg
GEO:44.3214396;23.7964694
X-APPLE-STRUCTURED-LOCATION;VALUE=URI;X-ADDRESS=Ramada Plaza Craiova Calea Bucuresti nr 1 Craiova Dolj România;X-APPLE-RADIUS=500;X-TITLE=Calea Bucuresti\, nr 1:geo:23.7964694,44.3214396
END:VEVENT
BEGIN:VEVENT
DTSTART;TZID=Europe/Bucharest:20250603T180000
DTEND;TZID=Europe/Bucharest:20250603T203000
DTSTAMP:20260423T212514
CREATED:20250521T105807Z
LAST-MODIFIED:20250521T105807Z
UID:10006603-1748973600-1748982600@craiovalive.ro
SUMMARY:Conferința Afaceri în siguranță – contracte comerciale
DESCRIPTION:Eveniment: Afaceri în siguranță – contracte comerciale 3 iunie 2025 18:00 – 20:30 Ramada Plaza\, Craiova Participare GRATUITĂ Înscrierea obligatorie: https://forms.gle/hTHT6B8HVNcW6VMG7\n𝐃𝐞𝐬𝐩𝐫𝐞 𝐞𝐯𝐞𝐧𝐢𝐦𝐞𝐧𝐭:Într-un context economic în continuă schimbare\, siguranța juridică a contractelor comerciale devine esențială pentru orice afacere. Vino pe 𝟑 𝐢𝐮𝐧𝐢𝐞 la Ramada Plaza Craiova și află cum poți preveni riscurile juridice în relațiile comerciale și cum poți construi contracte clare\, sigure și durabile.\nEvenimentul este dedicat antreprenorilor\, managerilor\, profesioniștilor din domeniul economic și tuturor celor implicați în luarea deciziilor de business\, oferind soluții aplicate și exemple practice din realitatea juridică a companiilor românești.\n 𝐒𝐩𝐞𝐚𝐤𝐞𝐫: 𝐅𝐥𝐨𝐫𝐢𝐧 𝐈𝐨𝐫𝐝𝐚𝐜𝐡𝐞Avocat cu peste 25 de ani de experiență în drept comercial\, Florin Iordache a lucrat exclusiv cu societăți și entități economice din multiple domenii.A activat anterior ca jurist și coordonator în companii multinaționale din domeniul financiar și oferă consultanță juridică de top în:– Drept societar\, bancar și al asigurărilor– Contracte comerciale și achiziții publice– Fiscalitate\, insolvență\, fuziuni\, divizări– Reprezentare în fața autorităților și instanțelorColaborează cu patronate și asociații din domeniul automotive\, transporturi și asigurări\, oferind servicii personalizate atât la nivel național\, cât și pentru companii internaționale active în România.\n Acces & Înscriere Locuri limitate – rezervă-ți locul completând formularul de înscriere: https://forms.gle/hTHT6B8HVNcW6VMG7\n Nu rata această oportunitate de a învăța de la un profesionist cu o carieră solidă în dreptul afacerilor și de a face networking cu alți oameni de business din Craiova!\nTe așteptăm cu drag! 
URL:https://craiovalive.ro/eveniment/conferinta-afaceri-in-siguranta-contracte-comerciale/
LOCATION:Ramada Plaza Craiova\, Calea Bucuresti\, nr 1\, Craiova\, Dolj\, România
CATEGORIES:Conferință
ATTACH;FMTTYPE=image/jpeg:https://craiovalive.ro/wp-content/uploads/2025/05/Conferinta-Afaceri-in-siguranta-–-contracte-comerciale.jpg
GEO:44.3214396;23.7964694
X-APPLE-STRUCTURED-LOCATION;VALUE=URI;X-ADDRESS=Ramada Plaza Craiova Calea Bucuresti nr 1 Craiova Dolj România;X-APPLE-RADIUS=500;X-TITLE=Calea Bucuresti\, nr 1:geo:23.7964694,44.3214396
END:VEVENT
BEGIN:VEVENT
DTSTART;TZID=Europe/Bucharest:20250601T100000
DTEND;TZID=Europe/Bucharest:20250601T170000
DTSTAMP:20260423T212514
CREATED:20250521T120926Z
LAST-MODIFIED:20250521T120926Z
UID:10006605-1748772000-1748797200@craiovalive.ro
SUMMARY:Tezaur de gusturi
DESCRIPTION: 𝐓𝐄𝐙𝐀𝐔𝐑 𝐃𝐄 𝐆𝐔𝐒𝐓𝐔𝐑𝐈 – 𝟑𝟏 𝐦𝐚𝐢 & 𝟏 𝐢𝐮𝐧𝐢𝐞 𝐥𝐚 Ramada Plaza Craiova! După succesul ediției din toamnă Craiova\, capitală gastronomică est-europeană\, vă invităm la un weekend plin de gusturi locale\, vinuri alese și experiențe de neratat! Degustări |  Conferințe despre enoturism |  Crame din toată țara | Masterclass cu Chef Ciprian Nicolescu & Cezar Ioan Intrare liberă Eveniment organizat cu sprijinul Primaria Municipiului Craiova\, Liceul de Industrie Alimentară – Craiova\, We Are Romania și Vinul.ro. Hai să celebrăm împreună gusturile autentice ale Olteniei! \n\nBUCATE OLTENEȘTI & VINURI ROMÂNEȘTI / DEGUSTĂRI ȘI CONFERINȚE GASTRONOMICE\n31 MAI – 1 IUNIE 2025 – RAMADA PLAZA CRAIOVA\n\n“Zilele Craiovei” la Ramada Plaza din localitate constituie prilejul unei noi întâlniri a publicului generalist și a profesioniștilor cu bucatele oltenești și cu vinurile românești\, în 31 mai – 1 iunie 2025\, în cadrul mai larg al proiectului “Craiova\, capitală gastronomică est-europeană”. Ca întregul proiect\, și această reuniune este organizată de Liceul de Industrie Alimentară din localitate cu sprijinul Primăriei Craiova și cu implicarea platformei de gândire și acțiune We Are Romania / YOU ARE WELCOME.\n31 mai – Prima zi a evenimentului\, între orele 12:00 și 19:00\, este rezervată degustărilor: o expoziție de bucate realizate în atelierele Liceului de Industrie Alimentară (LIA) și un Masterclass de praz & vinuri din soiuri românești susținut de Chef Ciprian Nicolescu (Ellipse City Restaurant by Ramada Plaza) și Cezar Ioan (vinul.ro).\nTot în 31 mai – în același interval orar\, oaspeții se vor întâlni cu mai multe crame din Oltenia și din țară: au confirmat până în prezent Avincis\, Banul Mărăcine\, Budureasca\, Crama de Piatră\, Crama Oprișor\, Domeniile Panciu\, Domeniile Vînju Mare\, Domeniul Drăgași\, Olterra. În expoziția cu degustare vor fi prezentate și uleiurile de măsline multimedaliate internațional Eliada – inițiativă a antreprenorului craiovean Cătălin Adam.\nÎn aceași după-amiază de sâmbătă va avea loc conferința “Turismul enogastronomic și cultural și dezvoltarea locală” – unde cei prezenți vor asista la studii de caz din Bulgaria (Anelia Hristova & Iulia Bahovski\, “North East Wine Tours Bulgaria”) și din România (Florin Opriș\, “Descoperă vinurile Olteniei”; David Sandu\, “Crama de Piatră” din Dealu Mare; Alina Podiuc\, “Domeniul Drăgași” din Drăgășani).\nDuminică\, 1 iunie\, de la orele 11:00\, va avea loc cea de-a 10-a ediție a conferințelor naționale “Gastronomia – cu bune\, cu rele”\, dedicate brandului de țară al României izvorât din patrimoniul culinar și cultural românesc – tema de etapă fiind “brandul regional oltenesc și oportunitățile în HoReCa și în retailul internațional”.\nCu participarea cadrelor didactice și a elevilor de la Liceul de Industrie Alimentară (LIA) Craiova\, pe 1 iunie va avea loc și o consfătuire cu privire la modurile în care instituția poate pregăti cât mai bine absolvenții de care ospitalitatea și industria de profil au atâta nevoie în momentul de față.
URL:https://craiovalive.ro/eveniment/tezaur-de-gusturi/2025-06-01/
LOCATION:Ramada Plaza Craiova\, Calea Bucuresti\, nr 1\, Craiova\, Dolj\, România
CATEGORIES:Gastronomie
ATTACH;FMTTYPE=image/jpeg:https://craiovalive.ro/wp-content/uploads/2025/05/Tezaur-de-gusturi.jpg
ORGANIZER;CN="Prim%C4%83ria Municipiului Craiova":MAILTO:imaginecv@primariacraiova.ro
GEO:44.3214396;23.7964694
X-APPLE-STRUCTURED-LOCATION;VALUE=URI;X-ADDRESS=Ramada Plaza Craiova Calea Bucuresti nr 1 Craiova Dolj România;X-APPLE-RADIUS=500;X-TITLE=Calea Bucuresti\, nr 1:geo:23.7964694,44.3214396
END:VEVENT
BEGIN:VEVENT
DTSTART;TZID=Europe/Bucharest:20250530T200000
DTEND;TZID=Europe/Bucharest:20250530T230000
DTSTAMP:20260423T212514
CREATED:20250331T164653Z
LAST-MODIFIED:20250331T164738Z
UID:10006044-1748635200-1748646000@craiovalive.ro
SUMMARY:Alexander Rybak VIP Tour Craiova
DESCRIPTION:Alăturați-vă nouă pentru o experiență de neuitat alături de violonistul\, cântărețul și câștigătorul Eurovision de renume internațional\, Alexander Rybak! \nAcest eveniment exclusivist Meet & Greet din Craiova\, România oferă o oportunitate unică de a-l întâlni pe Alexander Rybak și de a vă bucura de câteva perfeormance-uri live. \nIndiferent dacă sunteți fan recent sau de multă vreme al muzicii lui\, nu ratați această șansă de a intra în legătură cu el personal! \nFiecare bilet oferă acces unei persoane la: \n– O reprezentație live de Alexander Rybak\n– O oportunitate exclusivă Meet & Greet\n– Șansa de a face o fotografie împreună sau de a obține un autograf\n– Șansa de a crea amintiri de durată alături de artist
URL:https://craiovalive.ro/eveniment/alexander-rybak-vip-tour-craiova/
LOCATION:Ramada Plaza Craiova\, Calea Bucuresti\, nr 1\, Craiova\, Dolj\, România
CATEGORIES:Muzică
ATTACH;FMTTYPE=image/jpeg:https://craiovalive.ro/wp-content/uploads/2025/03/Alexander-Rybak-VIP-Tour-Craiova.jpg
GEO:44.3214396;23.7964694
X-APPLE-STRUCTURED-LOCATION;VALUE=URI;X-ADDRESS=Ramada Plaza Craiova Calea Bucuresti nr 1 Craiova Dolj România;X-APPLE-RADIUS=500;X-TITLE=Calea Bucuresti\, nr 1:geo:23.7964694,44.3214396
END:VEVENT
BEGIN:VEVENT
DTSTART;TZID=Europe/Bucharest:20250530T130000
DTEND;TZID=Europe/Bucharest:20250530T140000
DTSTAMP:20260423T212514
CREATED:20250519T091259Z
LAST-MODIFIED:20250519T091259Z
UID:10006583-1748610000-1748613600@craiovalive.ro
SUMMARY:Tactici esențiale pentru o carieră imobiliară de succes | Craiova
DESCRIPTION:Imaginează-ți o carieră imobiliară în care știi clar ce ai de făcut\, ai un plan predictibil de venit și în sfârșit înțelegi cum să-ți crești brandul personal și să atragi clienți constant.\n Când? Vineri\, 30 Mai 2025\, Ora 13:00 Unde? Craiova\, Hotel Ramada\nParticipă la evenimentul organizat de Keller Williams Craiova\, dedicat agenților imobiliari care își doresc mai mult decât tranzacții ocazionale – o carieră construită pe claritate\, performanță și rezultate.\nCe vei învăța?\n Care este realitatea pieței imobiliare din Craiova în 2025 Ce pași concreți trebuie să urmezi pentru a trece de la haos la structură și profit Cum construiești un brand personal memorabil și eficient Ce cifre și indicatori financiari trebuie să urmărești ca să fii profitabil Cum îți creezi o hartă de acțiune pentru a-ți atinge obiectivele de venit\nParticiparea este gratuită\, pe bază de înscriere prealabilă\, în limita locurilor disponibile \nÎnscrie-te aici: https://forms.gle/nEautYFEnAvHNiGs9\nObține mai multe informații: +40 735 172 000 \nTe așteptăm cu entuziasm! 
URL:https://craiovalive.ro/eveniment/tactici-esentiale-pentru-o-cariera-imobiliara-de-succes-craiova/
LOCATION:Ramada Plaza Craiova\, Calea Bucuresti\, nr 1\, Craiova\, Dolj\, România
CATEGORIES:Conferință
ATTACH;FMTTYPE=image/jpeg:https://craiovalive.ro/wp-content/uploads/2025/05/Tactici-esentiale-pentru-o-cariera-imobiliara-de-succes-Craiova.jpg
GEO:44.3214396;23.7964694
X-APPLE-STRUCTURED-LOCATION;VALUE=URI;X-ADDRESS=Ramada Plaza Craiova Calea Bucuresti nr 1 Craiova Dolj România;X-APPLE-RADIUS=500;X-TITLE=Calea Bucuresti\, nr 1:geo:23.7964694,44.3214396
END:VEVENT
BEGIN:VEVENT
DTSTART;TZID=Europe/Bucharest:20250522T090000
DTEND;TZID=Europe/Bucharest:20250522T143000
DTSTAMP:20260423T212514
CREATED:20250511T200448Z
LAST-MODIFIED:20250511T200448Z
UID:10006521-1747904400-1747924200@craiovalive.ro
SUMMARY:Digitalizarea și organizarea proceselor pentru proiecte inteligente
DESCRIPTION:Camera de Comerț și Industrie Dolj\, alături de TotalSoft și Infinity Business Center\, sprijiniți de Agenția pentru Dezvoltare Regională Sud-Vest Oltenia\, Consiliul Judetean Dolj si Patronatul Societăților din Construcții\, va adresează o invitație personalizată\, la un eveniment exclusivist\, conceput să definească conceptul de transformare digitală și organizationala al companiei. Evenimentul va avea loc la hotel Ramada Plaza Craiova\, în data de 22 mai \, într-o atmosferă de inovație și cunoaștere\, care vă vor ajuta să dobândiți perspective clare asupra direcțiilor cheie în domeniul construcțiilor\, infrastructurii sau instalatiilor. Se vor discuta provocările și beneficiile digitalizării pe baza unor studii de caz concrete. Dacă derulati proiecte extinse de construcții\, infrastructură sau instalații atunci acest eveniment vi se potrivește. Vom discuta despre:• Provocări actuale în domeniul construcțiilor\, infrastructurii și instalațiilor• Soluții software pentru industria de construcții\, infrastructură și instalații• Soluții integrate de project și risk management• Integrarea și analiza financiară a proceselor de ofertare\, planificare\, contractare și derulare• Mobilitate și raportare în timp real• Sprijinirea dezvoltării economice prin inovare\, digitalizare și tehnologii avansate• Campusul Regional Oltenia: formarea elevilor și studenților în învățământul dual• Studii de caz\n Participarea este gratuită\, in limita locurilor disponibile și doar pe baza de invitație confirmată. ! Va invităm să va asigurati locul la eveniment și să vă confirmați participarea până la data de 16 mai\, la adresa de email alina.stancioiu@infinitybiz.ro sau telefonic .\nAgendă09.00 – 09.30 – Welcome Coffee09.30 – 09.35 – Welcome speech Alina Stancioiu\, Project Development Manager\, Infinity Business Center09.35 – 09.45 – Speech Gabriel Vladut\, Preşedinte Camera de Comerț și Industrie Dolj\, Președinte Arott – Asociația Română de Transfer Tehnologic și Inovare\, Director Sucursala at IPA CIFATT Craiova09.45 – 09.55 – Speech Alexandru Stănescu\, Director General at Agenția pentru Dezvoltare Regională Sud-Vest Oltenia – sprijinirea dezvoltării economice prin inovare\, digitalizare și tehnologii avansate.09.55 – 10.05 – Cosmin Vasile\, Presedinte Consiliul Judeţean Dolj\, Campusul Regional Oltenia: Investiție de 25 de milioane de euro pentru formarea elevilor și studenților în învățământul dual10.05 – 10.25 – Soluții software pentru industria de construcții\, Radu Zanfir\, Project Manager TotalSoft10.25 – 10.50 – Soluții integrate de project și risk management\, CostOS\, Tiberiu Vulpeș\, PMP\, Director General Infinity Business Center10.50 – 11.00 – Coffee break11.00 – 12.45 – Integrarea și analiza financiară a proceselor de ofertare\, planificare\, contractare și derulare\, Tiberiu Vulpeș\, PMP\, Director General Infinity Business Center\, Marius Oprescu\, Senior Business Consultant TotalSoft12.45 – 13.00 – Mobilitate și raportare în timp real\, Radu Zanfir\, Project Manager TotalSoft13.00 – 13.10 – Charisma HCM\, soluția care să aducă ordine în gestionarea personalului\, Radu Zanfir\, Project Manager TotalSoft13.10 – 13.15 – Speech Prof.dr.ing. Dumitru Ilie\, Decan Facultatea de Mecanică – Programul tinerii talentați implicându-se în proiecte reale13.15 – 13.20 – Speech Marian Petcu\, Președinte PSC Oltenia13.20 – 13.50 – Studiu de caz\, discuții libere13.50 – 14.30 – Lunch
URL:https://craiovalive.ro/eveniment/digitalizarea-si-organizarea-proceselor-pentru-proiecte-inteligente/
LOCATION:Ramada Plaza Craiova\, Calea Bucuresti\, nr 1\, Craiova\, Dolj\, România
CATEGORIES:Conferință
ATTACH;FMTTYPE=image/jpeg:https://craiovalive.ro/wp-content/uploads/2025/05/Digitalizarea-si-organizarea-proceselor-pentru-proiecte-inteligente.jpg
GEO:44.3214396;23.7964694
X-APPLE-STRUCTURED-LOCATION;VALUE=URI;X-ADDRESS=Ramada Plaza Craiova Calea Bucuresti nr 1 Craiova Dolj România;X-APPLE-RADIUS=500;X-TITLE=Calea Bucuresti\, nr 1:geo:23.7964694,44.3214396
END:VEVENT
BEGIN:VEVENT
DTSTART;TZID=Europe/Bucharest:20250515T090000
DTEND;TZID=Europe/Bucharest:20250515T170000
DTSTAMP:20260423T212514
CREATED:20250414T131352Z
LAST-MODIFIED:20250414T131352Z
UID:10006129-1747299600-1747328400@craiovalive.ro
SUMMARY:Conferințele Forbes Kids – Craiova
DESCRIPTION: Conferințele Forbes Kids – O serie de evenimente naționale dedicate sănătății și educației\, pilonii esențiali ai performanței viitoare!\n Alătură-te comunității de părinți\, educatori și specialiști pentru discuții valoroase despre creșterea generațiilor de mâine. Împreună\, construim un viitor mai bun pentru copiii de azi!\n\nProiectul Conferințele Forbes Kids – Rădăcini sănătoase pentru viitor care a debutat la București\, pe 12 martie\, continuă pe 15 mai la Craiova! O inițiativă de mare anvergură\, cu desfășurare la nivel național\, Conferințele Forbes Kids aduc pe aceeași scenă speakeri din țară și străinătate\, experți renumiți în sănătate\, educație și parenting\, pentru a oferi perspective valoroase părinților și cadrelor didactice. \nValoarea adăugată a acestor evenimente constă în reunirea celor doi piloni fundamentali în creșterea și dezvoltarea copiilor: EDUCAȚIA și SĂNĂTATEA. Acestea sunt inseparabile! Astfel\, abordarea noastră integrează SĂNĂTATEA fizică\, mentală și emoțională a copiilor\, tratându-le ca un întreg și o prioritate pentru un start bun al copilului de astăzi\, adultul de mâine. \nAccesul la eveniment se realizează pe bază de bilet. \nBilet Conferințele Forbes Kids – Rădăcini sănătoase pentru viitor:\n– Acces la discursuri exclusive ale speakerilor naționali și internaționali\n– Analiza și evaluarea stilului de viață urmat de soluții și recomandări practice\n– Posibilități de networking \n\n Ramada Plaza\, Craiova 09:00 AM 15.05.2025
URL:https://craiovalive.ro/eveniment/conferintele-forbes-kids-craiova/
LOCATION:Ramada Plaza Craiova\, Calea Bucuresti\, nr 1\, Craiova\, Dolj\, România
CATEGORIES:Conferință
ATTACH;FMTTYPE=image/jpeg:https://craiovalive.ro/wp-content/uploads/2025/04/Conferintele-Forbes-Kids-–-Craiova.jpg
GEO:44.3214396;23.7964694
X-APPLE-STRUCTURED-LOCATION;VALUE=URI;X-ADDRESS=Ramada Plaza Craiova Calea Bucuresti nr 1 Craiova Dolj România;X-APPLE-RADIUS=500;X-TITLE=Calea Bucuresti\, nr 1:geo:23.7964694,44.3214396
END:VEVENT
BEGIN:VEVENT
DTSTART;TZID=Europe/Bucharest:20250507T180000
DTEND;TZID=Europe/Bucharest:20250507T203000
DTSTAMP:20260423T212514
CREATED:20250504T193218Z
LAST-MODIFIED:20250504T193218Z
UID:10006277-1746640800-1746649800@craiovalive.ro
SUMMARY:Îmbunătățirea relațiilor cu clienții
DESCRIPTION: Eveniment: Îmbunătățirea relațiilor cu clienții 7 mai 2025 18:00 – 20:30 Ramada Plaza\, Craiova Participare gratuită\n𝐃𝐞𝐬𝐩𝐫𝐞 𝐞𝐯𝐞𝐧𝐢𝐦𝐞𝐧𝐭:Vino pe 7 mai la Ramada Plaza Craiova pentru un eveniment interactiv și plin de insight-uri valoroase\, dedicat îmbunătățirii relațiilor cu clienții – un pilon esențial în succesul oricărei afaceri. Vei învăța cum să construiești experiențe memorabile pentru clienți\, să optimizezi comunicarea și să transformi provocările în loialitate pe termen lung.\nEvenimentul este perfect pentru antreprenori\, manageri\, profesioniști în vânzări și customer service\, dar și pentru toți cei care interacționează cu clienții în mod direct și doresc să ducă relațiile la un nou nivel.\n 𝐒𝐩𝐞𝐚𝐤𝐞𝐫: 𝐂𝐫𝐢𝐬𝐭𝐢𝐚𝐧 𝐓𝐨𝐚𝐱𝐞𝐧Consultant cu peste 15 ani de experiență în leadership\, management\, vânzări și customer service\, Cristian a coordonat proiecte complexe de dezvoltare personală și profesională pentru echipe din industrii precum telecom\, auto\, FMCG\, asigurări și bănci.\n Expert în:– Leadership & Performance Management– Definirea și atingerea KPI-ilor de vânzări– Evaluare de competențe manageriale– Customer experience & negociere\nCristian lucrează cu echipe de management și vânzări pentru a transforma potențialul în performanță reală. La acest eveniment\, vei avea ocazia să afli cum creezi un impact real în relația cu clienții tăi.\n Acces & Înscriere Locuri limitate – rezervă-ți locul gratuit completând formularul de înscriere\n Nu rata această oportunitate de a învăța de la un profesionist cu expertiză vastă în domeniu și de a face networking cu alți oameni de business din Craiova!\nTe așteptăm cu drag! 
URL:https://craiovalive.ro/eveniment/imbunatatirea-relatiilor-cu-clientii/
LOCATION:Ramada Plaza Craiova\, Calea Bucuresti\, nr 1\, Craiova\, Dolj\, România
CATEGORIES:Conferință
ATTACH;FMTTYPE=image/jpeg:https://craiovalive.ro/wp-content/uploads/2025/05/Imbunatatirea-relatiilor-cu-clientii.jpg
GEO:44.3214396;23.7964694
X-APPLE-STRUCTURED-LOCATION;VALUE=URI;X-ADDRESS=Ramada Plaza Craiova Calea Bucuresti nr 1 Craiova Dolj România;X-APPLE-RADIUS=500;X-TITLE=Calea Bucuresti\, nr 1:geo:23.7964694,44.3214396
END:VEVENT
END:VCALENDAR