BEGIN:VCALENDAR
VERSION:2.0
PRODID:-//Craiova Live - ECPv6.15.18//NONSGML v1.0//EN
CALSCALE:GREGORIAN
METHOD:PUBLISH
X-ORIGINAL-URL:https://craiovalive.ro
X-WR-CALDESC:Evenimente pentru Craiova Live
REFRESH-INTERVAL;VALUE=DURATION:PT1H
X-Robots-Tag:noindex
X-PUBLISHED-TTL:PT1H
BEGIN:VTIMEZONE
TZID:Europe/Bucharest
BEGIN:DAYLIGHT
TZOFFSETFROM:+0200
TZOFFSETTO:+0300
TZNAME:EEST
DTSTART:20240331T010000
END:DAYLIGHT
BEGIN:STANDARD
TZOFFSETFROM:+0300
TZOFFSETTO:+0200
TZNAME:EET
DTSTART:20241027T010000
END:STANDARD
BEGIN:DAYLIGHT
TZOFFSETFROM:+0200
TZOFFSETTO:+0300
TZNAME:EEST
DTSTART:20250330T010000
END:DAYLIGHT
BEGIN:STANDARD
TZOFFSETFROM:+0300
TZOFFSETTO:+0200
TZNAME:EET
DTSTART:20251026T010000
END:STANDARD
BEGIN:DAYLIGHT
TZOFFSETFROM:+0200
TZOFFSETTO:+0300
TZNAME:EEST
DTSTART:20260329T010000
END:DAYLIGHT
BEGIN:STANDARD
TZOFFSETFROM:+0300
TZOFFSETTO:+0200
TZNAME:EET
DTSTART:20261025T010000
END:STANDARD
BEGIN:DAYLIGHT
TZOFFSETFROM:+0200
TZOFFSETTO:+0300
TZNAME:EEST
DTSTART:20270328T010000
END:DAYLIGHT
BEGIN:STANDARD
TZOFFSETFROM:+0300
TZOFFSETTO:+0200
TZNAME:EET
DTSTART:20271031T010000
END:STANDARD
END:VTIMEZONE
BEGIN:VEVENT
DTSTART;TZID=Europe/Bucharest:20260331T143000
DTEND;TZID=Europe/Bucharest:20260331T200000
DTSTAMP:20260423T213253
CREATED:20260324T115526Z
LAST-MODIFIED:20260329T204729Z
UID:10014388-1774967400-1774987200@craiovalive.ro
SUMMARY:La Foire de la Francophonie – ediția a IV-a
DESCRIPTION:Pe 31 martie 2025\, între 14:30 și 20:00\, Piața „Mihai Viteazul” din Craiova prinde viață la Foire de la Francophonie – ediția a IV-a.Un eveniment dedicat limbii franceze și culturii francofone\, care aduce împreună elevi\, profesori și publicul larg într-o atmosferă creativă și dinamică. Standuri ale școlilor\, expoziții de artă\, ateliere pentru toate vârstele\, momente artistice în limba franceză\, flashmob\, parada costumelor francofone și concursuri interactive transformă centrul orașului într-un spațiu al dialogului și al expresiei culturale.Participă\, descoperă și lasă-te inspirat de energia francofoniei!\n––\nȘtii unde poți vedea lumea… într-o singură defilare?  \n La Foire de la Francophonie!\n\n\nCând? \n 31 martie\, ora 14:30\n\n\nUnde? \n ne dăm întâlnire în fața Teatrului Național „Marin Sorescu” pentru un moment cu adevărat special\, care te va purta dintr-o țară în alta\, pas cu pas: Parada costumelor francofone.\n\n\nO defilare spectaculoasă în care cultura și istoria țărilor francofone prind viață prin culori vibrante\, țesături autentice și simboluri pline de semnificație! Vei descoperi eleganța\, diversitatea și farmecul unei lumi unite prin limbă și tradiție.\n\n\nDe ce să vii? \n Pentru că nu vezi în fiecare zi lumea… defilând prin fața ta.\nNu rata!
URL:https://craiovalive.ro/eveniment/la-foire-de-la-francophonie/
LOCATION:Piața William Shakespeare\, Craiova\, Dolj\, România
CATEGORIES:Expoziție
ATTACH;FMTTYPE=image/jpeg:https://craiovalive.ro/wp-content/uploads/2026/03/La-Foire-de-la-Francophonie.jpg
GEO:44.318785855099;23.798363497388
END:VEVENT
BEGIN:VEVENT
DTSTART;TZID=Europe/Bucharest:20251026T090000
DTEND;TZID=Europe/Bucharest:20251026T220000
DTSTAMP:20260423T213253
CREATED:20251022T133908Z
LAST-MODIFIED:20251022T133908Z
UID:10012164-1761469200-1761516000@craiovalive.ro
SUMMARY:Târgul Meșterilor Populari Craiova 2025 – ediția a XLVI-a
DESCRIPTION:Târgul Meșterilor Populari – ediția a XLVI-a\n🏛️Muzeul Olteniei Craiova – Secția de Etnografie\, cu sprijinul Consiliului Județean Dolj și în parteneriat cu Primăria și Consiliul Local Municipal Craiova\, Centrul Județean de Cultură și Artă Dolj – Ansamblul de Dans Popular „Maria Tănase” și Teatrul pentru Copii și Tineret „Colibri” Craiova – Secția Folclor „Maria Tănase”\, organizează în perioada 24-26 octombrie 2025\, în Piața „William Shakespeare” din Craiova\, a XLVI-a ediție a Târgului Meșterilor Populari\, reper al tradițiilor și spiritualității populare românești\, ce aduce laolaltă\, într-un spațiu carismatic din Cetatea Băniei\, peste 50 de meșteri populari din toată țara.\n♦️Târgul Meșterilor Populari de la Craiova\, aflat la cea de-a 46-a ediție\, reprezintă un reper identitar în existența Craiovei\, ce oferă publicului craiovean\, sub forma unei manifestări culturale în aer liber\, atât posibilitatea contemplării creativității artizanilor tradițiilor populare românești\, cât și receptarea valenţelor cultural-educative\, prin admirarea obiectelor populare expuse ce poartă emblema identității\, a esenței culturale românești.\n❗️Deschiderea oficială a Târgului Meșterilor Populari\, în fapt\, o expoziţie cu vânzare în aer liber şi demonstraţii ale meşterilor populari\, va avea loc vineri\, 24 octombrie\, ora 12.00\, în Piața „William Shakespeare” din Craiova.\n❗️Festivitatea de premiere a meșterilor populari va avea loc sâmbătă\, 25 octombrie 2025\, ora 12:00\, în Piața „William Shakespeare” din Craiova.\n📌Emblematică pentru comunitatea craioveană\, organizatorii au stabilit ca programul manifestării culturale pentru zilele de vineri\, sâmbătă și duminică (24\, 25\, 26 octombrie)\, atât pentru expoziţia cu vânzare în aer liber\, cât şi pentru demonstraţiile meşterilor populari\, să se desfășoare zilnic\, în intervalul orar 09.00-22.00\, permițând publicului să perceapă târgul de artă populară ca o formă de regăsire\, de corespondență cu prezentul\, dar și cu trecutul și viitorul. Publicul craiovean va regăsi în acest spațiu cultural urban alături de ceramişti\, sculptori în os și lemn\, iconari pe lemn și sticlă\, pielari\, tricotaje\, țesători în lână și păr de capră\, bumbac\, borangic\, papură\, pănușă\, sticlari\, creatori de costume populare și țesături interioare\, producători apicoli\, de bunătăţi tradiţionale\, între care dulciuri de casă ori vestitele brânzeturi şi afumături de Sibiu.\n🔸Reprezentând tradiția în Cetatea Băniei\, matricea autenticului în Oltenia\, Târgul Meșterilor Populari\, oferă craiovenilor ocazia să își reamintească imaginile familiare ale celor peste 50 de meșteri populari din centre meşteşugăreşti active din țară\, ce vor etala publicului craiovean felurite obiecte populare cu valoare estetică sau funcţională\, produse tradiționale de la ceramică la costume populare\, obiecte casnice\, textile\, împletituri\, icoane pe lemn şi sticlă\, scoarţe ţărăneşti\, piese de port\, tablouri lucrate în tehnica goblenului\, produse alimentare tradiţionale\, cofetari cu bunătăţi tradiţionale\, cozonaci și kurtos\, plăcintă\, ciocolată\, turtă dulce\, halva\, magiun\, zacuscă\, gem si diferite dulceţuri ecologice\, acestea din urmă\, la mare căutare în ultima vreme.\n🔸În cadrul evenimentului cultural\, publicul craiovean va avea posibilitatea să admire tehnici de lucru imprimate în obiecte de artă populară\, ce se regăsesc pe Lista Reprezentativă a Patrimoniului Cultural Imaterial al Umanității – U.N.E.S.C.O.\, precum olăritul\, țesutul\, arta cămășii cu altiță\, etc.\n🌼Un Târg al Meșterilor Populari este\, până la urmă\, o prelungire a ideii de muzeu prin obiectele pe care le cuprinde. Astfel de manifestări culturale se transpun\, de fapt\, în instituții cu rol educativ\, instituții informative\, dar și formative\, instituții patrimoniale căci oricine vine în acest spațiu și pleacă de aici cu un obiect\, pe care fie îl oferă\, fie îl păstrează\, va reveni în acest spațiu al tradițiilor populare.\n🔸Ca în fiecare an\, meritele deosebite ale meşteşugarilor în conservarea şi perpetuarea tradiţiei\, calitatea şi valoarea creaţiei vor fi răsplătite cu diplome și premii\, în cadrul festivității de premiere ce va avea loc sâmbătă\, 25 octombrie\, ora 12.00\, în Piața „William Shakespeare”\, respectiv\, „Premiul Târgului”\, oferit de Consiliul Judeţean Dolj\, şi Premiul „Cetatea Băniei”\, acordat din partea Primăriei Municipiului Craiova.
URL:https://craiovalive.ro/eveniment/targul-mesterilor-populari-craiova-2025-editia-a-xlvi-a/2025-10-26/
LOCATION:Piața William Shakespeare\, Craiova\, Dolj\, România
CATEGORIES:Târguri
ATTACH;FMTTYPE=image/jpeg:https://craiovalive.ro/wp-content/uploads/2025/10/Targul-Mesterilor-Populari-Craiova-2025-–-editia-a-XLVI-a.jpg
ORGANIZER;CN="Muzeul Olteniei Craiova":MAILTO:muzeulolteniei@yahoo.com
GEO:44.318785855099;23.798363497388
END:VEVENT
BEGIN:VEVENT
DTSTART;TZID=Europe/Bucharest:20251012T100000
DTEND;TZID=Europe/Bucharest:20251012T140000
DTSTAMP:20260423T213253
CREATED:20251009T163508Z
LAST-MODIFIED:20251009T163508Z
UID:10010436-1760263200-1760277600@craiovalive.ro
SUMMARY:Retro Parada Toamnei 2025
DESCRIPTION:Duminica 12 octombrie intre orele 10.00 – 14.00\, pe esplanada din fata Teatrului National Marin Sorescu\, Retromobil Club Romania\, prin Filiala Dolj\, organizeaza Retro Parada Toamnei 2025! Va asteptam!
URL:https://craiovalive.ro/eveniment/retro-parada-toamnei-2025/
LOCATION:Piața William Shakespeare\, Craiova\, Dolj\, România
CATEGORIES:Târguri
ATTACH;FMTTYPE=image/jpeg:https://craiovalive.ro/wp-content/uploads/2025/10/Retro-Parada-Toamnei-2025.jpg
GEO:44.318785855099;23.798363497388
END:VEVENT
BEGIN:VEVENT
DTSTART;TZID=Europe/Bucharest:20250920T100000
DTEND;TZID=Europe/Bucharest:20250920T140000
DTSTAMP:20260423T213253
CREATED:20250915T074402Z
LAST-MODIFIED:20250915T074402Z
UID:10009752-1758362400-1758376800@craiovalive.ro
SUMMARY:Meet the Dogs - Târg de adopții canine în Centru
DESCRIPTION:Salubritate Craiova invită craiovenii la un nou târg de adopții canine! De data aceasta\, ne vom întâlni cu toții pe esplanada Teatrului Național „Marin Sorescu” (Piața „William Shakespeare”)\, în data de 20 septembrie\, între orele 10:00 și 14:00.\nȘase câini din adăpostul public (deparazitați\, microcipați\, sterilizați și vaccinați) vor fi prezentați publicului și vom încerca să le găsim o casă nouă\, cu ajutorul voluntarilor noștri\, dar și cu cel al oamenilor de bună credință care înțeleg că adopția este un gest dintre cele mai frumoase. Evenimentul se bucură de sprijinul sponsorilor Maxi Pet România\, care oferă pachete-cadou pentru adoptatori\, dar și de cel al Eurotehnica IT&C\, care asigură mobilitatea câinilor atât la târg\, cât și mai târziu\, pentru adoptatori\, prin lese și zgărzi.\nAlături de noi vor fi și membri ai Centrului Național de Educare Canină\, prin câinii de salvare și coordonatorii lor\, care ne vor ajuta să înțelegem mai bine psihologia canină\, dar și ofițeri din cadrul Biroului pentru Protecția Animalelor – Inspectoratul de Poliție Județean Dolj\, care ne reamintesc\, de fiecare dată\, aspecte importante legate de obligațiile noastre în ceea ce privește deținerea unui animal de companie. Evenimentul se desfășoară cu sprijinul Primăriei Municipiului Craiova și al Poliției Locale a Municipiului Craiova.\nNu uitați: adopția unui câine din adăpostul public este gratuită conform legii și se face în baza actului de identitate valabil.\nVă așteptăm!
URL:https://craiovalive.ro/eveniment/meet-the-dogs-targ-de-adoptii-canine-in-centru/
LOCATION:Piața William Shakespeare\, Craiova\, Dolj\, România
CATEGORIES:Târguri
ATTACH;FMTTYPE=image/jpeg:https://craiovalive.ro/wp-content/uploads/2025/09/Meet-the-Dogs-Targ-de-adoptii-canine-in-Centru.jpg
GEO:44.318785855099;23.798363497388
END:VEVENT
BEGIN:VEVENT
DTSTART;TZID=Europe/Bucharest:20250510T100000
DTEND;TZID=Europe/Bucharest:20250510T140000
DTSTAMP:20260423T213253
CREATED:20250505T195644Z
LAST-MODIFIED:20250505T195644Z
UID:10006360-1746871200-1746885600@craiovalive.ro
SUMMARY:Retro Parada Primăverii 2025
DESCRIPTION:Sâmbătă\, 10 mai\, între orele 10.00 și 14.00\, pe esplanada din fața Teatrului Național Marin Sorescu\, Retromobil Club România prin Filiala Dolj organizează Retro Parada Primăverii 2025!
URL:https://craiovalive.ro/eveniment/retro-parada-primaverii-2025/
LOCATION:Piața William Shakespeare\, Craiova\, Dolj\, România
CATEGORIES:Expoziție
ATTACH;FMTTYPE=image/jpeg:https://craiovalive.ro/wp-content/uploads/2025/05/Retro-Parada-Primaverii-2025.jpg
GEO:44.318785855099;23.798363497388
END:VEVENT
BEGIN:VEVENT
DTSTART;TZID=Europe/Bucharest:20250427T100000
DTEND;TZID=Europe/Bucharest:20250427T130000
DTSTAMP:20260423T213253
CREATED:20250418T191534Z
LAST-MODIFIED:20250418T191534Z
UID:10006173-1745748000-1745758800@craiovalive.ro
SUMMARY:Paradă pentru conștientizarea motocicliștilor în trafic
DESCRIPTION: PARADĂ PENTRU CONȘTIENTIZAREA MOTOCICLIȘTILOR ÎN TRAFIC \nOltenia Bikers\, alături de Ride&Ride Dolj și Blue Knights\, te invită la un eveniment special dedicat siguranței și vizibilității motocicliștilor în trafic!Hai să arătăm împreună că suntem prezenți și merităm respect pe șosele!\n Locație: Esplanada Teatrului Național „Marin Sorescu” – Craiova Întâlnirea: ora 10:00 Plecarea paradei: ora 11:00\n Data: 27.04.2025 Scop: Creșterea conștientizării prezenței motocicliștilor în trafic și promovarea unui comportament responsabil.\nVino cu gașca ta\, cu motorul sau cu inima deschisă!Împreună facem diferența!
URL:https://craiovalive.ro/eveniment/parada-pentru-constientizarea-motociclistilor-in-trafic/
LOCATION:Piața William Shakespeare\, Craiova\, Dolj\, România
ATTACH;FMTTYPE=image/jpeg:https://craiovalive.ro/wp-content/uploads/2025/04/Parada-pentru-constientizarea-motociclistilor-in-trafic.jpg
GEO:44.318785855099;23.798363497388
END:VEVENT
END:VCALENDAR