BEGIN:VCALENDAR
VERSION:2.0
PRODID:-//Craiova Live - ECPv6.15.18//NONSGML v1.0//EN
CALSCALE:GREGORIAN
METHOD:PUBLISH
X-ORIGINAL-URL:https://craiovalive.ro
X-WR-CALDESC:Evenimente pentru Craiova Live
REFRESH-INTERVAL;VALUE=DURATION:PT1H
X-Robots-Tag:noindex
X-PUBLISHED-TTL:PT1H
BEGIN:VTIMEZONE
TZID:Europe/Bucharest
BEGIN:DAYLIGHT
TZOFFSETFROM:+0200
TZOFFSETTO:+0300
TZNAME:EEST
DTSTART:20240331T010000
END:DAYLIGHT
BEGIN:STANDARD
TZOFFSETFROM:+0300
TZOFFSETTO:+0200
TZNAME:EET
DTSTART:20241027T010000
END:STANDARD
BEGIN:DAYLIGHT
TZOFFSETFROM:+0200
TZOFFSETTO:+0300
TZNAME:EEST
DTSTART:20250330T010000
END:DAYLIGHT
BEGIN:STANDARD
TZOFFSETFROM:+0300
TZOFFSETTO:+0200
TZNAME:EET
DTSTART:20251026T010000
END:STANDARD
BEGIN:DAYLIGHT
TZOFFSETFROM:+0200
TZOFFSETTO:+0300
TZNAME:EEST
DTSTART:20260329T010000
END:DAYLIGHT
BEGIN:STANDARD
TZOFFSETFROM:+0300
TZOFFSETTO:+0200
TZNAME:EET
DTSTART:20261025T010000
END:STANDARD
BEGIN:DAYLIGHT
TZOFFSETFROM:+0200
TZOFFSETTO:+0300
TZNAME:EEST
DTSTART:20270328T010000
END:DAYLIGHT
BEGIN:STANDARD
TZOFFSETFROM:+0300
TZOFFSETTO:+0200
TZNAME:EET
DTSTART:20271031T010000
END:STANDARD
END:VTIMEZONE
BEGIN:VEVENT
DTSTART;TZID=Europe/Bucharest:20260413T154500
DTEND;TZID=Europe/Bucharest:20260413T230000
DTSTAMP:20260423T213337
CREATED:20260324T191032Z
LAST-MODIFIED:20260413T132104Z
UID:10014535-1776095100-1776121200@craiovalive.ro
SUMMARY:Festivalul Petre Magdin - Întâlnirea de la miezul nopții
DESCRIPTION:Craiova devine pentru două zile Capitala Rock-ului Românesc prin Festivalul Petre Magdin  -Întâlnirea de la miezul nopții – 70 de ani de activitate artistică. Evenimentul va avea loc pe 12 și 13 aprilie\, în prima și a doua zi de Paște\, în Parcul Romanescu\, la Craiova!Vă așteptăm pe toți la Craiova! Intrarea este liberă! \n\nLuni\, 13 aprilie\, Festivalul Petre Magdin – 70 de ani de activitate artistică aduce pe scena din poieniță unele dintre cele mai iubite trupe rock din România. Pregătește-te pentru o zi plină de energie\, muzică live și atmosferă de sărbătoare!\n\n\n Main Stage – scena din poieniță\n 15:45 – 16:45 – Celelalte Cuvinte\n 17:15 – 18:15 – Timpuri Noi\n 18:45 – 19:45 – Riff\n 20:15 – 21:15 – Antract\n 21:45 – 23:00 – Iris\n\n\n Lac – Debarcader\n 20:30 – Fairytale on the Lake\, spectacol muzical pe lac\, organizat de Opera Română Craiova și Teatrul Colibri\n Proiecții holografice pe lac\n\n\n Acces gratuit\n Parcul Nicolae Romanescu\, Craiova
URL:https://craiovalive.ro/eveniment/festivalul-petre-magdin-intalnirea-de-la-miezul-noptii/2026-04-13/
LOCATION:Parcul Nicolae Romanescu – Teatrul de Vară\, Craiova\, Dolj\, România
CATEGORIES:Muzică
ATTACH;FMTTYPE=image/jpeg:https://craiovalive.ro/wp-content/uploads/2026/03/Festivalul-Petre-Magdin-Intalnirea-de-la-miezul-noptii.jpg
GEO:44.298975729899;23.803581461806
END:VEVENT
BEGIN:VEVENT
DTSTART;TZID=Europe/Bucharest:20250724T200000
DTEND;TZID=Europe/Bucharest:20250724T213000
DTSTAMP:20260423T213337
CREATED:20250715T115729Z
LAST-MODIFIED:20250715T115729Z
UID:10007732-1753387200-1753392600@craiovalive.ro
SUMMARY:Joia populară - Să petrecem oltenește
DESCRIPTION:24 iulie\, ora 20:00 \nTeatrul de Vară\, Parcul Nicolae Romanescu din Craiova.\n„Să petrecem oltenește” este titlul spectacolului folcloric ce-i va aduce în fața dumneavoastră pe: Mariana Ionescu Căpitănescu\, Marius Măgureanu\, Aneta Șișu\, Cristian Bănățeanu\, Luiza Turcu\, Ovidiu Prunoiu\, alături de Orchestra Secției Folclor „Maria Tănase”. Conducerea muzicală: Munteanu Ionuț-Cristian.\nAccesul la spectacol este gratuit\, în limita locurilor disponibile.\nVă așteptăm cu drag!
URL:https://craiovalive.ro/eveniment/joia-populara-sa-petrecem-olteneste/
LOCATION:Parcul Nicolae Romanescu – Teatrul de Vară\, Craiova\, Dolj\, România
CATEGORIES:Muzică
ATTACH;FMTTYPE=image/jpeg:https://craiovalive.ro/wp-content/uploads/2025/07/Joia-populara.jpg
ORGANIZER;CN="Sec%C8%9Bia Folclor Maria T%C4%83nase Craiova":MAILTO:ansamblulmariatanase@yahoo.com
GEO:44.298975729899;23.803581461806
END:VEVENT
BEGIN:VEVENT
DTSTART;TZID=Europe/Bucharest:20250719T110000
DTEND;TZID=Europe/Bucharest:20250719T130000
DTSTAMP:20260423T213337
CREATED:20250717T080418Z
LAST-MODIFIED:20250717T080418Z
UID:10007734-1752922800-1752930000@craiovalive.ro
SUMMARY:Festivalul „Tradițiile Verii”\, ediția a XIII-a
DESCRIPTION:Festivalul „TRADIŢIILE VERII“ – Ediţia a XIII-a \nCraiova\, 2025 \nCelebrăm împreună obiceiurile și tradițiile care spun de sute de ani povestea verilor în plaiurile oltenești\, sâmbătă\, 19 iulie 2025\, pe scena Festivalului „Tradiţiile verii“ – ediţia a XIII-a\, la Teatrul de vară din Parcul „Nicolae Romanescu“. \nEvenimentul este organizat de Consiliul Judeţean Dolj şi Centrul Judeţean de Cultură și Artă Dolj – Secția pentru Conservarea şi Promovarea Culturii Tradiţionale\, cu sprijinul Operei Române Craiova\, Primăriei şi al Consiliului Local Municipal Craiova. \nSâmbătă\, 19 iulie 2025\, cu începere de la ora 11:00\, Festivalul „Tradiţiile verii“ – ediţia a XIII-a reunește ansambluri și soliști din judeţele Dolj și Olt\, care ne bucură cu obiceiuri precum: Sânzienele sau Drăgaica\, Paparudele sau Primul colac\, obiceiuri de Sf. Ilie și de seceriș\, într-o atmosferă de sărbătoare însuflețită de cântecul și jocul popular. \nFestivalul „Tradițiile verii“ readuce la Craiova Grupul vocal „Mândruțele de la Olt“\, alături de ansamblurile folclorice din Dolj: „Bordeiașul“ din Bechet\, „Hora Desnăţuiului“ al Casei de Cultură „Adrian Păunescu“ din comuna Bârca\, „Trandafirul“ al Casei de Cultură din orașul Dăbuleni\, „Dor călător“ din Craiova și „Doina Mischiului“ din comuna Mischii. \nCântecul popular va răsuna în interpretarea soliștilor laureați ai Festivalului Național „Maria Tănase“: Luiza Turcu\, Larisa Cârlugea\, Alexandru Lilea\, Alex Golfin\, Marius Gheorghe (care va interpreta la nai\, caval\, cobză și acordeon cântece culese din bătrâni). \nAccesul la eveniment este gratuit și se face în limita locurilor disponibile.
URL:https://craiovalive.ro/eveniment/festivalul-traditiile-verii-editia-a-xiii-a/
LOCATION:Parcul Nicolae Romanescu – Teatrul de Vară\, Craiova\, Dolj\, România
CATEGORIES:Dans,Muzică
ORGANIZER;CN="Centrul Jude%C8%9Bean de Cultur%C4%83 %C8%99i Art%C4%83 Dolj - Sec%C8%9Bia pentru Conservarea %C5%9Fi Promovarea Culturii Tradi%C8%9Bionale Dolj":MAILTO:ccpdolj@yahoo.com
GEO:44.298975729899;23.803581461806
END:VEVENT
BEGIN:VEVENT
DTSTART;TZID=Europe/Bucharest:20250717T200000
DTEND;TZID=Europe/Bucharest:20250717T213000
DTSTAMP:20260423T213337
CREATED:20250715T115108Z
LAST-MODIFIED:20250715T115843Z
UID:10007731-1752782400-1752787800@craiovalive.ro
SUMMARY:Joia populară - Vară cu cântec
DESCRIPTION:17 iulie\, ora 20:00 \nTeatrul de Vară\, Parcul Nicolae Romanescu din Craiova.\n„Vară cu cântec” este titlul spectacolului folcloric ce-i va aduce în fața dumneavoastră pe: Constantin Enceanu\, Liliana Popa\, Liviu Dică\, Lavinia Bîrsoghe\, Manuela Motocu\, Alex Golfin\, Ioniță Giulia-Ștefania alături de Orchestra Secției Folclor „Maria Tănase”. Conducerea muzicală: Munteanu Ionuț-Cristian.\nAccesul la spectacol este gratuit\, în limita locurilor disponibile.\nVă așteptăm cu drag!
URL:https://craiovalive.ro/eveniment/joia-populara-vara-cu-cantec/
LOCATION:Parcul Nicolae Romanescu – Teatrul de Vară\, Craiova\, Dolj\, România
CATEGORIES:Muzică
ATTACH;FMTTYPE=image/jpeg:https://craiovalive.ro/wp-content/uploads/2025/07/Joia-populara.jpg
ORGANIZER;CN="Sec%C8%9Bia Folclor Maria T%C4%83nase Craiova":MAILTO:ansamblulmariatanase@yahoo.com
GEO:44.298975729899;23.803581461806
END:VEVENT
BEGIN:VEVENT
DTSTART;TZID=Europe/Bucharest:20250522T180000
DTEND;TZID=Europe/Bucharest:20250522T200000
DTSTAMP:20260423T213337
CREATED:20250507T090355Z
LAST-MODIFIED:20250521T110048Z
UID:10006513-1747936800-1747944000@craiovalive.ro
SUMMARY:Ziua Școlii Cornetti
DESCRIPTION:Centrul Județean de Cultură și Artă Dolj organizează joi\, 22 mai în Parcul Nicolae Romanescu prima ediție a Spectacolului Eveniment susținut cu ocazia Zilei Școlii Populare de Arte și Meserii „Cornetti”!\nVă așteptăm să sărbătorim împreună 114 de ani de la înființarea școlii noastre!
URL:https://craiovalive.ro/eveniment/ziua-scolii-cornetti/
LOCATION:Parcul Nicolae Romanescu – Teatrul de Vară\, Craiova\, Dolj\, România
CATEGORIES:Muzică
ATTACH;FMTTYPE=image/jpeg:https://craiovalive.ro/wp-content/uploads/2025/05/Ziua-Scolii-Cornetti.jpg
GEO:44.298975729899;23.803581461806
END:VEVENT
END:VCALENDAR