BEGIN:VCALENDAR
VERSION:2.0
PRODID:-//Craiova Live - ECPv6.15.18//NONSGML v1.0//EN
CALSCALE:GREGORIAN
METHOD:PUBLISH
X-WR-CALNAME:Craiova Live
X-ORIGINAL-URL:https://craiovalive.ro
X-WR-CALDESC:Evenimente pentru Craiova Live
REFRESH-INTERVAL;VALUE=DURATION:PT1H
X-Robots-Tag:noindex
X-PUBLISHED-TTL:PT1H
BEGIN:VTIMEZONE
TZID:Europe/Bucharest
BEGIN:DAYLIGHT
TZOFFSETFROM:+0200
TZOFFSETTO:+0300
TZNAME:EEST
DTSTART:20240331T010000
END:DAYLIGHT
BEGIN:STANDARD
TZOFFSETFROM:+0300
TZOFFSETTO:+0200
TZNAME:EET
DTSTART:20241027T010000
END:STANDARD
BEGIN:DAYLIGHT
TZOFFSETFROM:+0200
TZOFFSETTO:+0300
TZNAME:EEST
DTSTART:20250330T010000
END:DAYLIGHT
BEGIN:STANDARD
TZOFFSETFROM:+0300
TZOFFSETTO:+0200
TZNAME:EET
DTSTART:20251026T010000
END:STANDARD
BEGIN:DAYLIGHT
TZOFFSETFROM:+0200
TZOFFSETTO:+0300
TZNAME:EEST
DTSTART:20260329T010000
END:DAYLIGHT
BEGIN:STANDARD
TZOFFSETFROM:+0300
TZOFFSETTO:+0200
TZNAME:EET
DTSTART:20261025T010000
END:STANDARD
END:VTIMEZONE
BEGIN:VEVENT
DTSTART;TZID=Europe/Bucharest:20250615T100000
DTEND;TZID=Europe/Bucharest:20250615T210000
DTSTAMP:20260424T021756
CREATED:20250506T154332Z
LAST-MODIFIED:20250506T154332Z
UID:10006488-1749981600-1750021200@craiovalive.ro
SUMMARY:COSMOS - Descoperim tainele universului @MINA Pop-Up Craiova
DESCRIPTION:🌌 MINA Pop-Up Craiova te invită într-o călătorie în COSMOS – Descoperim tainele universului. \n🌠 COSMOS este un spectacol imersiv care îți aprinde curiozitatea și imaginația. Vei explora Sistemul Solar\, vei auzi sunetele produse de găurile negre și vei retrăi momente legendare din aventura cosmică a omenirii 🚀. \n🎥 Show-ul include secvențe inedite din documentarul „Opt zile în cosmos”\, despre misiunea istorică a lui Dumitru Prunariu\, primul român ajuns în spațiu. Este o experiență care îmbină spectacolul vizual cu știința\, pentru toate vârstele – captivantă\, educativă și total out of this world 🌌✨ \nShow-ul este prezentat de @kauflandromania \n📍 Craiova\, Bulevardul Ilie Balaci 6 (lângă Sala Polivalentă)\n📅 Începând cu 10 mai\, până pe 15 iunie\n🕛 Program: Luni–Vineri 12:00–21:00 | Weekend 10:00–21:00\n🎟 Bilete: 45 lei adulți | 35 lei copii – sunt disponibile pe site-ul popup.minamuseum.com și pe link-ul din BIO sau la recepția muzeului.
URL:https://craiovalive.ro/eveniment/cosmos-descoperim-tainele-universului-mina-pop-up-craiova/2025-06-15/
LOCATION:MINA Pop-Up Craiova\, Bulevard Ilie Balaci nr. 6 (lângă Sala Polivalentă)\, Craiova\, Dolj\, 200920\, România
CATEGORIES:Evenimente pentru copii,Expoziție,Film
ATTACH;FMTTYPE=image/jpeg:https://craiovalive.ro/wp-content/uploads/2025/05/COSMOS-Descoperim-tainele-universului-@MINA-Pop-Up-Craiova.jpg
GEO:44.313128875204;23.787296767497
X-APPLE-STRUCTURED-LOCATION;VALUE=URI;X-ADDRESS=MINA Pop-Up Craiova Bulevard Ilie Balaci nr. 6 (lângă Sala Polivalentă) Craiova Dolj 200920 România;X-APPLE-RADIUS=500;X-TITLE=Bulevard Ilie Balaci nr. 6 (lângă Sala Polivalentă):geo:23.787296767497,44.313128875204
END:VEVENT
BEGIN:VEVENT
DTSTART;TZID=Europe/Bucharest:20250524T100000
DTEND;TZID=Europe/Bucharest:20250524T113000
DTSTAMP:20260424T021756
CREATED:20250512T164503Z
LAST-MODIFIED:20250512T164503Z
UID:10006533-1748080800-1748086200@craiovalive.ro
SUMMARY:Ciuf și Ciuf în spațiu
DESCRIPTION:🎭 Ciuf și Ciuf – Premiera unui spectacol de teatru imersiv la Craiova! 🌌 \nPe 24 mai\, de la ora 10:00\, MINA Pop-up vă invită la „Ciuf și Ciuf în spațiu”\, o premieră teatrală imersivă\, cu proiecții 360°\, dedicată copiilor și familiilor. \nTransformăm teatrul clasic într-o călătorie spectaculoasă printre planete\, într-un spațiu inovator și interactiv\, unde educația se îmbină cu magia vizuală. Un spectacol educativ\, jucăuș și spectaculos\, care aduce cosmosul mai aproape ca niciodată. \nRegia: Vlad Drăgulescu \nCu: Alina Mangra și Ștefan Cepoi \nCostume & Make-up: Minela Popa \nProiecții video: Remus Vlăsceanu\, Cătălin Corneanu \nAudienta generala
URL:https://craiovalive.ro/eveniment/ciuf-si-ciuf-in-spatiu/
LOCATION:MINA Pop-Up Craiova\, Bulevard Ilie Balaci nr. 6 (lângă Sala Polivalentă)\, Craiova\, Dolj\, 200920\, România
CATEGORIES:Evenimente pentru copii
ATTACH;FMTTYPE=image/jpeg:https://craiovalive.ro/wp-content/uploads/2025/05/Ciuf-si-Ciuf-in-spatiu.jpg
GEO:44.313128875204;23.787296767497
X-APPLE-STRUCTURED-LOCATION;VALUE=URI;X-ADDRESS=MINA Pop-Up Craiova Bulevard Ilie Balaci nr. 6 (lângă Sala Polivalentă) Craiova Dolj 200920 România;X-APPLE-RADIUS=500;X-TITLE=Bulevard Ilie Balaci nr. 6 (lângă Sala Polivalentă):geo:23.787296767497,44.313128875204
END:VEVENT
BEGIN:VEVENT
DTSTART;TZID=Europe/Bucharest:20250517T203000
DTEND;TZID=Europe/Bucharest:20250518T013000
DTSTAMP:20260424T021756
CREATED:20250514T094829Z
LAST-MODIFIED:20250514T095832Z
UID:10006565-1747513800-1747531800@craiovalive.ro
SUMMARY:Noaptea Muzeelor Craiova 2025 - MINA Pop-Up Craiova
DESCRIPTION:Noaptea Muzeelor la MINA Pop-Up Craiova\n 17 mai |  20:30 – 01:30\n\n\nDe Noaptea Muzeelor\, MINA aduce la Craiova un spectacol unic:\n „Galeria celor mai faimoase picturi din istoria omenirii”\nUn show imersiv de artă clasică\, cu proiecții 360°\, în care opere semnate de Leonardo da Vinci\, Michelangelo\, Rembrandt\, Monet\, Van Gogh\, Klimt și alți maeștri te vor înconjura complet.\n\n\nShow-urile care vor completa seara:\n „Cei mai faimoși pictori clasici români”\n „Van Gogh – The Immersive Show”\n\n\n Biletele vor fi la 50% reducere – 25 lei\n Rezervă online pe popup.minamuseum.com sau cumpără de la intrare\, în limita locurilor disponibile\n Bld. Ilie Bălăci\, nr. 6 (lângă Sala Polivalentă)\n\n\n MINA Pop-Up rămâne în Craiova până pe 15 iunie – dar această galerie va fi prezentă o singură dată: pe 17 mai!
URL:https://craiovalive.ro/eveniment/noaptea-muzeelor-craiova-2025-mina-pop-up-craiova/
LOCATION:MINA Pop-Up Craiova\, Bulevard Ilie Balaci nr. 6 (lângă Sala Polivalentă)\, Craiova\, Dolj\, 200920\, România
CATEGORIES:Expoziție
ATTACH;FMTTYPE=image/jpeg:https://craiovalive.ro/wp-content/uploads/2025/05/Noaptea-Muzeelor-Craiova-2025-MINA-Pop-Up-Craiova.jpg
GEO:44.313128875204;23.787296767497
X-APPLE-STRUCTURED-LOCATION;VALUE=URI;X-ADDRESS=MINA Pop-Up Craiova Bulevard Ilie Balaci nr. 6 (lângă Sala Polivalentă) Craiova Dolj 200920 România;X-APPLE-RADIUS=500;X-TITLE=Bulevard Ilie Balaci nr. 6 (lângă Sala Polivalentă):geo:23.787296767497,44.313128875204
END:VEVENT
END:VCALENDAR