BEGIN:VCALENDAR
VERSION:2.0
PRODID:-//Craiova Live - ECPv6.15.18//NONSGML v1.0//EN
CALSCALE:GREGORIAN
METHOD:PUBLISH
X-WR-CALNAME:Craiova Live
X-ORIGINAL-URL:https://craiovalive.ro
X-WR-CALDESC:Evenimente pentru Craiova Live
REFRESH-INTERVAL;VALUE=DURATION:PT1H
X-Robots-Tag:noindex
X-PUBLISHED-TTL:PT1H
BEGIN:VTIMEZONE
TZID:Europe/Bucharest
BEGIN:DAYLIGHT
TZOFFSETFROM:+0200
TZOFFSETTO:+0300
TZNAME:EEST
DTSTART:20250330T010000
END:DAYLIGHT
BEGIN:STANDARD
TZOFFSETFROM:+0300
TZOFFSETTO:+0200
TZNAME:EET
DTSTART:20251026T010000
END:STANDARD
BEGIN:DAYLIGHT
TZOFFSETFROM:+0200
TZOFFSETTO:+0300
TZNAME:EEST
DTSTART:20260329T010000
END:DAYLIGHT
BEGIN:STANDARD
TZOFFSETFROM:+0300
TZOFFSETTO:+0200
TZNAME:EET
DTSTART:20261025T010000
END:STANDARD
BEGIN:DAYLIGHT
TZOFFSETFROM:+0200
TZOFFSETTO:+0300
TZNAME:EEST
DTSTART:20270328T010000
END:DAYLIGHT
BEGIN:STANDARD
TZOFFSETFROM:+0300
TZOFFSETTO:+0200
TZNAME:EET
DTSTART:20271031T010000
END:STANDARD
END:VTIMEZONE
BEGIN:VEVENT
DTSTART;TZID=Europe/Bucharest:20260424T120000
DTEND;TZID=Europe/Bucharest:20260424T160000
DTSTAMP:20260423T211522
CREATED:20260224T131225Z
LAST-MODIFIED:20260224T131225Z
UID:10014086-1777032000-1777046400@craiovalive.ro
SUMMARY:Expoziție personală Petru Lucaci - ”Sortir du noir”
DESCRIPTION:Gloriae Art Gallery vă invită vineri\, 6 martie\, ora 18:00\, la GLORIÆ Art Gallery\, pentru deschiderea ”Sortir du noir”\, expoziția personală a lui Petru Lucaci. Vernisajul va avea loc în prezența artistului și a curatoarei\, doamna profesor universitar Ruxandra Demetrescu.\n\nProiectul stă sub semnul revizitării și al sintezei: revizitare\, deoarece Petru Lucaci reia o temă esențială ce a marcat un parcurs început în urmă cu mai bine de trei decenii\, în care negrul era culoarea dominantă\, vizibilă în mai multe cicluri („Noctumbre”\, „Alb/Negru”\, „Night Shadows”\, „Clarobscur”\, „Black-based Cocktail”). Preocupat de posibilitățile și limitele picturii\, Lucaci a luat mereu „în răspăr” tradiționalele „părți ale picturii”: desenul\, clarobscurul\, culoarea\, construcția spațiului și\, nu în ultimul rând\, istoria din tablou.\n\nPotrivit curatoarei Ruxandra Demetrescu\, „spectacolul vizual propus de Petru Lucaci în această expoziție marchează un moment emblematic al activității sale artistice\, mi-am amintit o frază din Sortir du noir: comentând Fiul lui Saul\, filmul lui Lázsló Nemes\, Georges Didi-Huberman afirma că: «imaginea care țâșnește din negru își are propriile limite tactile». Problema limitei dintre vizual și tactil\, dintre negru și exuberanța cromatică — care «iese din negru» —\, are și pentru Petru Lucaci o profundă semnificație spirituală\, care se cuvine regăsită/descifrată cu atenția privirii scormonitoare și răbdătoare a spectatorului.”\n\nExpoziția va fi deschisă din 6 martie până la 8 mai 2026.\n\nGLORIÆ Art Gallery este situată în centrul istoric al Craiovei\, pe str. Alexandru Macedonski nr. 49 și poate fi vizitată în zilele de joi\, vineri și sâmbătă între orele 12:00 și 16:00.\n–-\nPetru Lucaci (n. 1956\, Arad) este artist vizual\, profesor universitar doctor la Universitatea Națională de Arte București\, curator și o figură centrală a managementului cultural din România\, ocupând din 2010 funcțiile de președinte al Uniunii Artiștilor Plastici din România și director al Revistei Arta. Este absolvent al Institutului de Arte Plastice Nicolae Grigorescu din București\, la Departamentul Pictură\, în anul 1982. Are un Doctorat în Arte Vizuale cu tema „Despre Negru” susținut în 2006\, iar activitatea sa expozițională cuprinde participări la peste 250 de expoziții de grup în țară și în străinătate\, precum și peste 45 de expoziții personale. Practica artistică include pictură\, grafică\, fotografie\, obiect/instalaţie\, happening şi noile media. În 2004 a primit Ordinul Meritul Cultural în rang de ofiţer categoria C\, iar în 2006\, Uniunea Artiştilor Plastici i-a decernat Premiul pentru Excelență.
URL:https://craiovalive.ro/eveniment/expozitie-personala-petru-lucaci-sortir-du-noir/2026-04-24/
LOCATION:Gloriæ Art Gallery\, Str. Alexandru Macedonski\, Nr. 49\, Craiova\, Dolj\, România
CATEGORIES:Expoziție
ATTACH;FMTTYPE=image/jpeg:https://craiovalive.ro/wp-content/uploads/2026/02/Expozitie-personala-Petru-Lucaci-Sortir-du-noir.jpg
ORGANIZER;CN="Glori%C3%A6 Art Gallery":MAILTO:office@gloriae.ro
GEO:44.312189;23.8001597
X-APPLE-STRUCTURED-LOCATION;VALUE=URI;X-ADDRESS=Gloriæ Art Gallery Str. Alexandru Macedonski Nr. 49 Craiova Dolj România;X-APPLE-RADIUS=500;X-TITLE=Str. Alexandru Macedonski\, Nr. 49:geo:23.8001597,44.312189
END:VEVENT
BEGIN:VEVENT
DTSTART;TZID=Europe/Bucharest:20260429T180000
DTEND;TZID=Europe/Bucharest:20260429T193000
DTSTAMP:20260423T211522
CREATED:20260420T162001Z
LAST-MODIFIED:20260420T162001Z
UID:10014580-1777485600-1777491000@craiovalive.ro
SUMMARY:Finisaj și lansare catalog | Expoziția ”Sortir du noir”
DESCRIPTION:Vă așteptăm miercuri\, 29 aprilie 2026\, la ora 18:00\, la finisajul expoziției personale a artistului Petru Lucaci\, „Sortir du noir”. Evenimentul va avea loc în prezența artistului și a curatoarei\, doamna profesor universitar Ruxandra Demetrescu.\nCu ocazia finisajului\, va fi lansat și catalogul expoziției cu un concept grafic semnat de Serioja Bocsok. Publicația cuprinde reproduceri ale lucrărilor prezentate\, alături de textul critic al curatoarei Ruxandra Demetrescu.\nExpoziția\, care a putut fi vizitată începând cu data de 6 martie\, marchează un moment de sinteză și revizitare în cariera unuia dintre cei mai influenți artiști vizuali contemporani din România.Finisajul din 29 aprilie reprezintă ultima ocazie de a parcurge această retrospectivă a seriilor „Clarobscur” și a experimentelor recente.\nÎn viziunea curatoarei\, parcursul expozițional urmărește simbolic drumul de la negru către culoare\, o „ieșire din negru” care nu este doar formală\, ci și spirituală. Această tranziție este marcată de trecerea de la polipticele monumentale dominate de negrul absolut\, către noile pânze în care culoarea și lumina se desprind din materie\, definind atât o nouă relație între vizual și tactil\, cât și un nou capitol în practica artistică a lui Petru Lucaci.\nGLORIÆ Art Gallery este situată în centrul istoric al Craiovei\, pe str. Alexandru Macedonski nr. 49 și poate fi vizitată în zilele de joi\, vineri și sâmbătă între orele 12:00 și 16:00.\n–-\nPetru Lucaci (n. 1956\, Arad) este artist vizual\, profesor universitar doctor la Universitatea Națională de Arte București\, curator și o figură centrală a managementului cultural din România\, ocupând din 2010 funcțiile de președinte al Uniunii Artiștilor Plastici din România și director al Revistei Arta. Este absolvent al Institutului de Arte Plastice Nicolae Grigorescu din București\, la Departamentul Pictură\, în anul 1982. Are un Doctorat în Arte Vizuale cu tema „Despre Negru” susținut în 2006\, iar activitatea sa expozițională cuprinde participări la peste 250 de expoziții de grup în țară și în străinătate\, precum și peste 45 de expoziții personale. Practica artistică include pictură\, grafică\, fotografie\, obiect/instalaţie\, happening şi noile media. În 2004 a primit Ordinul Meritul Cultural în rang de ofiţer categoria C\, iar în 2006\, Uniunea Artiştilor Plastici i-a decernat Premiul pentru Excelență.
URL:https://craiovalive.ro/eveniment/finisaj-si-lansare-catalog-expozitia-sortir-du-noir/
LOCATION:Gloriæ Art Gallery\, Str. Alexandru Macedonski\, Nr. 49\, Craiova\, Dolj\, România
CATEGORIES:Expoziție
ATTACH;FMTTYPE=image/jpeg:https://craiovalive.ro/wp-content/uploads/2026/04/Finisaj-si-lansare-catalog-Expozitia-Sortir-du-noir.jpg
ORGANIZER;CN="Glori%C3%A6 Art Gallery":MAILTO:office@gloriae.ro
GEO:44.312189;23.8001597
X-APPLE-STRUCTURED-LOCATION;VALUE=URI;X-ADDRESS=Gloriæ Art Gallery Str. Alexandru Macedonski Nr. 49 Craiova Dolj România;X-APPLE-RADIUS=500;X-TITLE=Str. Alexandru Macedonski\, Nr. 49:geo:23.8001597,44.312189
END:VEVENT
BEGIN:VEVENT
DTSTART;TZID=Europe/Bucharest:20260430T183000
DTEND;TZID=Europe/Bucharest:20260430T203000
DTSTAMP:20260423T211522
CREATED:20260423T114331Z
LAST-MODIFIED:20260423T114331Z
UID:10014587-1777573800-1777581000@craiovalive.ro
SUMMARY:serArte – prezentări despre artă modernă și contemporană
DESCRIPTION:SerArtele revin la Gloriæ Art Gallery cu un nou modul de inițiere!\n\nOrganizăm un set de opt „SerArte” – prezentări și dezbateri menite să ofere o introducere accesibilă în istoria artei și în conceptele fundamentale ale artei moderne și contemporane. Este o inițiativă care îmbină educația cu plăcerea\, intelectul cu esteticul și informația cu dezbaterea. Sesiuni vor avea un caracter critic\, informativ și interactiv\, incluzând exemple relevante din arta europeană și americană. Cadrul explicativ va fi livrat de către Valentin Boiangiu\, lector principal în Fine Art\, cu o vastă experiență internațională.\n\nÎntâlnirile vor avea loc la GLORIÆ Art Gallery (str. Macedonski\, nr. 49)\, în zilele de joi\, între orele 18:30–20:30 (cu o scurtă pauză)\, după următorul calendar: 30 aprilie\, 7\, 14\, 28 mai\, 4\, 11\, 18\, 25 iunie\, între orele 18:30-20:30 (incluzând o scurtă pauză).\n\nSubiectele fiecărui curs SerArte:1. O poveste a artei vestice de la pictura rupestră la secolul al XX-lea (30 aprilie)2. Limbajul vizual – Cum să ne uităm la arta modernă și contemporană (7 mai)3. Desenul ca și metodă de expresie și căutare (14 mai)4. Modernism\, modernitate și impactul în societate (28 mai)5. Spiritul revoluționar 1 (4 iunie)6. Spiritul revoluționar 2 (11 iunie)7. Post-Modernism (18 iunie)8. Palimpsest contemporan în arta vizuală (25 iunie)\n\nTaxa de participare: 150 lei/persoană/sesiune. *Ofertă specială pentru toate cele 8 sesiuni: 1000 lei/persoană. Locurile sunt limitate.\nPentru mai multe informații și înscrieri\, ne puteți trimite un mesaj.
URL:https://craiovalive.ro/eveniment/serarte-prezentari-despre-arta-moderna-contemporana/2026-04-30/
LOCATION:Gloriæ Art Gallery\, Str. Alexandru Macedonski\, Nr. 49\, Craiova\, Dolj\, România
CATEGORIES:Conferință
ATTACH;FMTTYPE=image/jpeg:https://craiovalive.ro/wp-content/uploads/2026/04/serArte-–-prezentari-despre-arta-moderna-si-contemporana.jpg
ORGANIZER;CN="Glori%C3%A6 Art Gallery":MAILTO:office@gloriae.ro
GEO:44.312189;23.8001597
X-APPLE-STRUCTURED-LOCATION;VALUE=URI;X-ADDRESS=Gloriæ Art Gallery Str. Alexandru Macedonski Nr. 49 Craiova Dolj România;X-APPLE-RADIUS=500;X-TITLE=Str. Alexandru Macedonski\, Nr. 49:geo:23.8001597,44.312189
END:VEVENT
END:VCALENDAR