BEGIN:VCALENDAR
VERSION:2.0
PRODID:-//Craiova Live - ECPv6.15.18//NONSGML v1.0//EN
CALSCALE:GREGORIAN
METHOD:PUBLISH
X-WR-CALNAME:Craiova Live
X-ORIGINAL-URL:https://craiovalive.ro
X-WR-CALDESC:Evenimente pentru Craiova Live
REFRESH-INTERVAL;VALUE=DURATION:PT1H
X-Robots-Tag:noindex
X-PUBLISHED-TTL:PT1H
BEGIN:VTIMEZONE
TZID:Europe/Bucharest
BEGIN:DAYLIGHT
TZOFFSETFROM:+0200
TZOFFSETTO:+0300
TZNAME:EEST
DTSTART:20240331T010000
END:DAYLIGHT
BEGIN:STANDARD
TZOFFSETFROM:+0300
TZOFFSETTO:+0200
TZNAME:EET
DTSTART:20241027T010000
END:STANDARD
BEGIN:DAYLIGHT
TZOFFSETFROM:+0200
TZOFFSETTO:+0300
TZNAME:EEST
DTSTART:20250330T010000
END:DAYLIGHT
BEGIN:STANDARD
TZOFFSETFROM:+0300
TZOFFSETTO:+0200
TZNAME:EET
DTSTART:20251026T010000
END:STANDARD
BEGIN:DAYLIGHT
TZOFFSETFROM:+0200
TZOFFSETTO:+0300
TZNAME:EEST
DTSTART:20260329T010000
END:DAYLIGHT
BEGIN:STANDARD
TZOFFSETFROM:+0300
TZOFFSETTO:+0200
TZNAME:EET
DTSTART:20261025T010000
END:STANDARD
BEGIN:DAYLIGHT
TZOFFSETFROM:+0200
TZOFFSETTO:+0300
TZNAME:EEST
DTSTART:20270328T010000
END:DAYLIGHT
BEGIN:STANDARD
TZOFFSETFROM:+0300
TZOFFSETTO:+0200
TZNAME:EET
DTSTART:20271031T010000
END:STANDARD
END:VTIMEZONE
BEGIN:VEVENT
DTSTART;TZID=Europe/Bucharest:20260314T090000
DTEND;TZID=Europe/Bucharest:20260314T200000
DTSTAMP:20260424T015635
CREATED:20260217T171200Z
LAST-MODIFIED:20260218T115943Z
UID:10014008-1773478800-1773518400@craiovalive.ro
SUMMARY:Expoziție de artă vizuală „Portal“
DESCRIPTION:Portal prin artă pentru Brâncuși\, la Galeriile „Cromatic“Centrul Judeţean de Cultură și Artă Dolj – Secția pentru Conservarea şi Promovarea Culturii Tradiţionale și Asociația Seniori Art Craiova vernisează joi\, 19 februarie 2026\, ora 16:00\, la Galeriile „Cromatic“\, expoziția de artă vizuală „Portal“ dedicată sculptorului Constantin Brâncuși\, cel mai bun mesager al României\, la 150 de ani de la nașterea sa.Deschid „Portal“ prin artă pe simezele „Cromatic“ 66 de creatori de frumos din 11 orașe din România\, Republica Moldova\, Bulgaria\, Spania și Gabon. Expoziția reunește pe simeze peste 80 lucrări de pictură în vopsele de acril și ulei\, lucrări de sculptură\, grafică\, tapiserie\, fotografie și experimente cu rășini bicomponente și pigmenți metalici.Curatorul expoziției este artistul plastic Daniel Guță. Participă la eveniment: dr. în arte vizuale Emilian Popescu\, Nicolae Marinescu\, directorul Editurii Aius și violoncelistul Mircea Suchici.Expoziția de artă vizuală „Portal“ va fi deschisă la Galeriile „Cromatic“ din str. Al. Macedonski\, nr. 28\, în perioada 19 februarie – 14 martie 2026.Aceasta este cea de-a doua expoziție de artă vizuală dedicată lui Brâncuși de Centrul Judeţean de Cultură și Artă Dolj – Secția pentru Conservarea şi Promovarea Culturii Tradiţionale și Asociația Seniori Art Craiova. Prima\, „Brâncușiana Junior“ – ediția a V-a a fost deschisă vineri\, 13 februarie 2026\, în foyer-ul Filarmonicii Oltenia Craiova.
URL:https://craiovalive.ro/eveniment/expozitie-de-arta-vizuala-portal/2026-03-14/
LOCATION:Galeriile Cromatic\, str. Al. Macedonski\, nr. 28\, Craiova\, Dolj\, România
CATEGORIES:Expoziție
ATTACH;FMTTYPE=image/jpeg:https://craiovalive.ro/wp-content/uploads/2026/02/Expozitie-de-arta-vizuala-„Portal.jpg
ORGANIZER;CN="Centrul Jude%C8%9Bean de Cultur%C4%83 %C8%99i Art%C4%83 Dolj - Sec%C8%9Bia pentru Conservarea %C5%9Fi Promovarea Culturii Tradi%C8%9Bionale Dolj":MAILTO:ccpdolj@yahoo.com
GEO:44.312816218541;23.800203213591
X-APPLE-STRUCTURED-LOCATION;VALUE=URI;X-ADDRESS=Galeriile Cromatic str. Al. Macedonski nr. 28 Craiova Dolj România;X-APPLE-RADIUS=500;X-TITLE=str. Al. Macedonski\, nr. 28:geo:23.800203213591,44.312816218541
END:VEVENT
BEGIN:VEVENT
DTSTART;TZID=Europe/Bucharest:20251015T090000
DTEND;TZID=Europe/Bucharest:20251015T160000
DTSTAMP:20260424T015635
CREATED:20250919T100412Z
LAST-MODIFIED:20250930T170625Z
UID:10010245-1760518800-1760544000@craiovalive.ro
SUMMARY:Expoziție „Cromatic Show II“
DESCRIPTION:Centrul Judeţean de Cultură și Artă Dolj – Secția pentru Conservarea şi Promovarea Culturii Tradiţionale invită iubitorii artei plastice să se bucure de expoziția „Cromatic Show II“\, deschisă pe simezele Galeriilor „Cromatic“ în perioada 30 septembrie – 15 octombrie 2025. \nEvenimentul este inclus în programul proiectului Noaptea Albă a Galeriilor și este realizat împreună cu Daniel Guță\, curatorul expoziției și reprezentantul Uniunii Artiștilor Plastici\, precum și cu Asociația Seniori Art Craiova. \nVizitatorii vor putea admira creații semnate de 70 de artiști din opt orașe ale țării: București\, Constanța\, Sebeș\, Arad\, Botoșani\, Calafat\, Drăgășani și Balș. \nVernisajul expoziției „Cromatic Show II“ va avea loc marți\, 30 septembrie 2025\, la ora 16.00\, la Galeriile „Cromatic“\, strada Alexandru Macedonski\, nr. 28. \nExpoziția va fi deschisă pentru public până pe 15 octombrie inclusiv\, de luni până vineri\, în intervalul orar 09:00 – 16:00\, cu excepția zilelor de 03 – 04 octombrie  când va putea fi vizitată între orele 18:00 – 24:00\, iar duminică\, 5 octombrie de la ora 18:00 până la 22:00.
URL:https://craiovalive.ro/eveniment/expozitie-cromatic-show-ii/2025-10-15/
LOCATION:Galeriile Cromatic\, str. Al. Macedonski\, nr. 28\, Craiova\, Dolj\, România
CATEGORIES:Expoziție,Pictura
ATTACH;FMTTYPE=image/jpeg:https://craiovalive.ro/wp-content/uploads/2025/09/Expozitie-„Cromatic-Show-II.jpeg
ORGANIZER;CN="Centrul Jude%C8%9Bean de Cultur%C4%83 %C8%99i Art%C4%83 Dolj - Sec%C8%9Bia pentru Conservarea %C5%9Fi Promovarea Culturii Tradi%C8%9Bionale Dolj":MAILTO:ccpdolj@yahoo.com
GEO:44.312816218541;23.800203213591
X-APPLE-STRUCTURED-LOCATION;VALUE=URI;X-ADDRESS=Galeriile Cromatic str. Al. Macedonski nr. 28 Craiova Dolj România;X-APPLE-RADIUS=500;X-TITLE=str. Al. Macedonski\, nr. 28:geo:23.800203213591,44.312816218541
END:VEVENT
END:VCALENDAR