BEGIN:VCALENDAR
VERSION:2.0
PRODID:-//Craiova Live - ECPv6.15.18//NONSGML v1.0//EN
CALSCALE:GREGORIAN
METHOD:PUBLISH
X-WR-CALNAME:Craiova Live
X-ORIGINAL-URL:https://craiovalive.ro
X-WR-CALDESC:Evenimente pentru Craiova Live
REFRESH-INTERVAL;VALUE=DURATION:PT1H
X-Robots-Tag:noindex
X-PUBLISHED-TTL:PT1H
BEGIN:VTIMEZONE
TZID:Europe/Bucharest
BEGIN:DAYLIGHT
TZOFFSETFROM:+0200
TZOFFSETTO:+0300
TZNAME:EEST
DTSTART:20240331T010000
END:DAYLIGHT
BEGIN:STANDARD
TZOFFSETFROM:+0300
TZOFFSETTO:+0200
TZNAME:EET
DTSTART:20241027T010000
END:STANDARD
BEGIN:DAYLIGHT
TZOFFSETFROM:+0200
TZOFFSETTO:+0300
TZNAME:EEST
DTSTART:20250330T010000
END:DAYLIGHT
BEGIN:STANDARD
TZOFFSETFROM:+0300
TZOFFSETTO:+0200
TZNAME:EET
DTSTART:20251026T010000
END:STANDARD
BEGIN:DAYLIGHT
TZOFFSETFROM:+0200
TZOFFSETTO:+0300
TZNAME:EEST
DTSTART:20260329T010000
END:DAYLIGHT
BEGIN:STANDARD
TZOFFSETFROM:+0300
TZOFFSETTO:+0200
TZNAME:EET
DTSTART:20261025T010000
END:STANDARD
END:VTIMEZONE
BEGIN:VEVENT
DTSTART;TZID=Europe/Bucharest:20250613T180000
DTEND;TZID=Europe/Bucharest:20250613T233000
DTSTAMP:20260424T015646
CREATED:20250601T190920Z
LAST-MODIFIED:20250601T190920Z
UID:10006965-1749837600-1749857400@craiovalive.ro
SUMMARY:UNDERGROUND X - ABGallery 2nd Anniversary
DESCRIPTION:Vă invităm să sărbătoriți alături de noi cea de-a doua aniversare a deschiderii ArtBeesGallery!\nLista completă a artiștilor expozanți va fi anunțată.\nÎn parteneriat cu ON:R MOVEMENT \nCurator: NONE32X32\n INTRARE LIBERĂ
URL:https://craiovalive.ro/eveniment/underground-x-abgallery-2nd-anniversary/
LOCATION:Galeria Arta 2\, Str. Știrbei Vodă\, nr. 9\, Craiova\, Dolj\, 200653\, România
CATEGORIES:Expoziție
ATTACH;FMTTYPE=image/jpeg:https://craiovalive.ro/wp-content/uploads/2025/06/UNDERGROUND-X-ABGallery-2nd-Anniversary.jpg
ORGANIZER;CN="Uniunea Arti%C8%99tilor Plastici din Rom%C3%A2nia - Filiala Craiova":MAILTO:emil_banuti@yahoo.com
GEO:44.3129313;23.7920599
X-APPLE-STRUCTURED-LOCATION;VALUE=URI;X-ADDRESS=Galeria Arta 2 Str. Știrbei Vodă nr. 9 Craiova Dolj 200653 România;X-APPLE-RADIUS=500;X-TITLE=Str. Știrbei Vodă\, nr. 9:geo:23.7920599,44.3129313
END:VEVENT
BEGIN:VEVENT
DTSTART;TZID=Europe/Bucharest:20250530T200000
DTEND;TZID=Europe/Bucharest:20250530T235900
DTSTAMP:20260424T015646
CREATED:20250530T092551Z
LAST-MODIFIED:20250530T092551Z
UID:10006917-1748635200-1748649540@craiovalive.ro
SUMMARY:UNDERGROUND IX
DESCRIPTION:UNDERGROUND IX – 30 / 31 May 20:00 00:00\n UNDERGROUND FACTORY \nA Poet is joining the revolution.\nA Bboy will have a performance.\nA Dark Trap artist is presenting his genesis collection and promote his upcoming musical drop.\nA marketing brand and an iconic Meme coin will be presented to the public too!\nGlitch art / post-photography / digital paintings.\nUNDERGROUND IX\, we are not the same \n4448 DIGITAL ARTAIN’T NOTHINALTLIERANASTASIA NFT ARTBBOY VIKY DLT FAMILYDESULTORETIENIE BROUZESGRIMSKYRMONDO PARISNASTY STZNONE32X32OWN THE DOGESCAMARTSTINA JONES
URL:https://craiovalive.ro/eveniment/underground-ix/
LOCATION:Galeria Arta 2\, Str. Știrbei Vodă\, nr. 9\, Craiova\, Dolj\, 200653\, România
CATEGORIES:Expoziție
ATTACH;FMTTYPE=image/jpeg:https://craiovalive.ro/wp-content/uploads/2025/05/UNDERGROUND-IX.jpg
ORGANIZER;CN="Uniunea Arti%C8%99tilor Plastici din Rom%C3%A2nia - Filiala Craiova":MAILTO:emil_banuti@yahoo.com
GEO:44.3129313;23.7920599
X-APPLE-STRUCTURED-LOCATION;VALUE=URI;X-ADDRESS=Galeria Arta 2 Str. Știrbei Vodă nr. 9 Craiova Dolj 200653 România;X-APPLE-RADIUS=500;X-TITLE=Str. Știrbei Vodă\, nr. 9:geo:23.7920599,44.3129313
END:VEVENT
END:VCALENDAR