BEGIN:VCALENDAR
VERSION:2.0
PRODID:-//Craiova Live - ECPv6.15.18//NONSGML v1.0//EN
CALSCALE:GREGORIAN
METHOD:PUBLISH
X-ORIGINAL-URL:https://craiovalive.ro
X-WR-CALDESC:Evenimente pentru Craiova Live
REFRESH-INTERVAL;VALUE=DURATION:PT1H
X-Robots-Tag:noindex
X-PUBLISHED-TTL:PT1H
BEGIN:VTIMEZONE
TZID:Europe/Bucharest
BEGIN:DAYLIGHT
TZOFFSETFROM:+0200
TZOFFSETTO:+0300
TZNAME:EEST
DTSTART:20240331T010000
END:DAYLIGHT
BEGIN:STANDARD
TZOFFSETFROM:+0300
TZOFFSETTO:+0200
TZNAME:EET
DTSTART:20241027T010000
END:STANDARD
BEGIN:DAYLIGHT
TZOFFSETFROM:+0200
TZOFFSETTO:+0300
TZNAME:EEST
DTSTART:20250330T010000
END:DAYLIGHT
BEGIN:STANDARD
TZOFFSETFROM:+0300
TZOFFSETTO:+0200
TZNAME:EET
DTSTART:20251026T010000
END:STANDARD
BEGIN:DAYLIGHT
TZOFFSETFROM:+0200
TZOFFSETTO:+0300
TZNAME:EEST
DTSTART:20260329T010000
END:DAYLIGHT
BEGIN:STANDARD
TZOFFSETFROM:+0300
TZOFFSETTO:+0200
TZNAME:EET
DTSTART:20261025T010000
END:STANDARD
END:VTIMEZONE
BEGIN:VEVENT
DTSTART;TZID=Europe/Bucharest:20250523T190000
DTEND;TZID=Europe/Bucharest:20250523T203000
DTSTAMP:20260424T091612
CREATED:20250406T212043Z
LAST-MODIFIED:20250428T174600Z
UID:10006123-1748026800-1748032200@craiovalive.ro
SUMMARY:Roots Season: DIRIJOR: RADU ZAHARIA
DESCRIPTION:Roots Season: DIRIJOR: RADU ZAHARIA\nVINERI 23 MAI 2025 – 19:00 Sala Filarmonicii Oltenia \nORCHESTRA SIMFONICă A FILARMONICII OLTENIA\nCORALA ACADEMICă A FILARMONICII OLTENIA \nDirijor\nRADU ZAHARIA\nBOGDAN RADU BOTEZATU – Maestru de cor \nSolişti\nONDIN BREZEANU – vioară\nMĂDĂLINA PAȘOL – pian\nRUT IOVESCU – soprană \nProgram\nFelix Mendelssohn-Bartholdy Dublul concert în Re minor pentru vioară\, pian și orchestră\nJohn Rutter Magnificat pentru soprană\, cor și orchestră
URL:https://craiovalive.ro/eveniment/roots-season-dirijor-radu-zaharia-3/
LOCATION:Filarmonica Oltenia\, Calea Unirii\, nr. 16\, Craiova\, Dolj\, 200585\, România
CATEGORIES:Muzică
ATTACH;FMTTYPE=image/jpeg:https://craiovalive.ro/wp-content/uploads/2025/04/Roots-Season-2025-dirijor-Radu-Zaharia.jpg
ORGANIZER;CN="Filarmonica Oltenia Craiova":MAILTO:secretariat@filarmonica-oltenia.ro
GEO:44.3172308;23.7944364
X-APPLE-STRUCTURED-LOCATION;VALUE=URI;X-ADDRESS=Filarmonica Oltenia Calea Unirii nr. 16 Craiova Dolj 200585 România;X-APPLE-RADIUS=500;X-TITLE=Calea Unirii\, nr. 16:geo:23.7944364,44.3172308
END:VEVENT
BEGIN:VEVENT
DTSTART;TZID=Europe/Bucharest:20250522T190000
DTEND;TZID=Europe/Bucharest:20250522T203000
DTSTAMP:20260424T091612
CREATED:20250307T075250Z
LAST-MODIFIED:20250307T075250Z
UID:10005679-1747940400-1747945800@craiovalive.ro
SUMMARY:Întoarcere la Origini - Tribut Maria Tănase - Marius Mihalache - invitată: Nico
DESCRIPTION:Întoarcere la Origini\, un concert unic ce aduce în prim plan acea muzică care face parte din ADN-ul nostru și care învăluie conștiința colectivă a românilor.\nEste muzica cu care ne-am născut și de la care am început să ne construim valorile. În acest proiect\, îmi doresc să invit artiști care au creat în jurul identității românești\, indiferent de fuziunile muzicale pe care le-au adoptat în carierele lor. \nVom sărbători o voce inegalabilă\, print-un tribut dedicat Mariei Tănase\, cu una dintre cele mai iubite voci ale României : NICO \nAccesul este gratuit pentru copiii cu varsta sub 7 ani.
URL:https://craiovalive.ro/eveniment/intoarcere-la-origini-tribut-maria-tanase-marius-mihalache-invitata-nico/
LOCATION:Filarmonica Oltenia\, Calea Unirii\, nr. 16\, Craiova\, Dolj\, 200585\, România
CATEGORIES:Muzică
ATTACH;FMTTYPE=image/png:https://craiovalive.ro/wp-content/uploads/2025/03/Intoarcere-la-Origini-Tribut-Maria-Tanase-Marius-Mihalache-invitata-Nico.png
GEO:44.3172308;23.7944364
X-APPLE-STRUCTURED-LOCATION;VALUE=URI;X-ADDRESS=Filarmonica Oltenia Calea Unirii nr. 16 Craiova Dolj 200585 România;X-APPLE-RADIUS=500;X-TITLE=Calea Unirii\, nr. 16:geo:23.7944364,44.3172308
END:VEVENT
BEGIN:VEVENT
DTSTART;TZID=Europe/Bucharest:20250521T190000
DTEND;TZID=Europe/Bucharest:20250521T203000
DTSTAMP:20260424T091612
CREATED:20250503T094733Z
LAST-MODIFIED:20250503T094733Z
UID:10006271-1747854000-1747859400@craiovalive.ro
SUMMARY:Ceruri de mai: Eugen Petre Sandu și Mentorii săi – Portret componistic
DESCRIPTION: MIERCURI\, 21 MAI 2025\, ORA 19:00Săptămâna Internațională a Muzicii Noi 2025CERURI DE MAI Eugen Petre Sandu și Mentorii săi – Portret componistic– CORALA ACADEMICĂ A FILARMONICII „OLTENIA”– DIRIJOR: EUGEN PETRE SANDU– La pian: CORINA STĂNESCU———-În program:Lucrări de Eugen Petre Sandu și mentorii săi: Sorin Vulcu\, Dan Buciu\, Dan Dediu——— Rezervați locurile online sau la agenția Filarmonicii. \nBilete: 40 lei | 15 lei (elevi\, studenți\, seniori) Info bilete: 0251 414 698 | Luni-vineri\, 10:00-18:00 Concertul este inclus în Abonamentul Melomanului.
URL:https://craiovalive.ro/eveniment/ceruri-de-mai-eugen-petre-sandu-si-mentorii-sai-portret-componistic/
LOCATION:Filarmonica Oltenia\, Calea Unirii\, nr. 16\, Craiova\, Dolj\, 200585\, România
CATEGORIES:Muzică
ATTACH;FMTTYPE=image/jpeg:https://craiovalive.ro/wp-content/uploads/2025/05/Ceruri-de-mai-Eugen-Petre-Sandu-si-Mentorii-sai-–-Portret-componistic.jpg
ORGANIZER;CN="Filarmonica Oltenia Craiova":MAILTO:secretariat@filarmonica-oltenia.ro
GEO:44.3172308;23.7944364
X-APPLE-STRUCTURED-LOCATION;VALUE=URI;X-ADDRESS=Filarmonica Oltenia Calea Unirii nr. 16 Craiova Dolj 200585 România;X-APPLE-RADIUS=500;X-TITLE=Calea Unirii\, nr. 16:geo:23.7944364,44.3172308
END:VEVENT
BEGIN:VEVENT
DTSTART;TZID=Europe/Bucharest:20250516T190000
DTEND;TZID=Europe/Bucharest:20250516T203000
DTSTAMP:20260424T091612
CREATED:20250406T211812Z
LAST-MODIFIED:20250428T174319Z
UID:10006122-1747422000-1747427400@craiovalive.ro
SUMMARY:Roots Season: DIRIJOR: ALEXANDRU ILIE
DESCRIPTION:Roots Season: DIRIJOR: ALEXANDRU ILIE\nVINERI 16 MAI 2025 – 19:00 Sala Filarmonicii Oltenia \nORCHESTRA SIMFONICă A FILARMONICII OLTENIA \nDirijor\nALEXANDRU ILIE \nSolişti\nIRINA RĂDULESCU – marimbă \nProgram\nMihaela Vosganian Marimbasissima pentru marimbă și orchestră de soliști (primă audiție absolută)\nFelix Mendelssohn-Bartholdy Simfonia nr. 4 în La major\, op. 90\, „Italiana”
URL:https://craiovalive.ro/eveniment/roots-season-dirijor-alexandru-ilie/
LOCATION:Filarmonica Oltenia\, Calea Unirii\, nr. 16\, Craiova\, Dolj\, 200585\, România
CATEGORIES:Muzică
ATTACH;FMTTYPE=image/jpeg:https://craiovalive.ro/wp-content/uploads/2025/04/Roost-Season-2025-dirijor-Alexandru-Ilie.jpg
ORGANIZER;CN="Filarmonica Oltenia Craiova":MAILTO:secretariat@filarmonica-oltenia.ro
GEO:44.3172308;23.7944364
X-APPLE-STRUCTURED-LOCATION;VALUE=URI;X-ADDRESS=Filarmonica Oltenia Calea Unirii nr. 16 Craiova Dolj 200585 România;X-APPLE-RADIUS=500;X-TITLE=Calea Unirii\, nr. 16:geo:23.7944364,44.3172308
END:VEVENT
BEGIN:VEVENT
DTSTART;TZID=Europe/Bucharest:20250509T190000
DTEND;TZID=Europe/Bucharest:20250509T203000
DTSTAMP:20260424T091612
CREATED:20250406T211613Z
LAST-MODIFIED:20250503T093813Z
UID:10006121-1746817200-1746822600@craiovalive.ro
SUMMARY:Roots Season - DIRIJOR: TIBERIU SOARE - Concert Brahms
DESCRIPTION:Roots Season: DIRIJOR: TIBERIU SOARE\nVINERI 09 MAI 2025 – 19:00 Sala Filarmonicii Oltenia \nConcert BRAHMS\nORCHESTRA SIMFONICĂ A FILARMONICII „OLTENIA”\nDIRIJOR: TIBERIU SOARE\nSOLIST: ANTONIO-NICHOLAS PICULEAȚĂ (vioară) \nProgram\nJohannes Brahms Concertul în Re major pentru vioară și orchestră\, op. 77\nJohannes Brahms Simfonia nr. 3 în Fa major\, op. 90
URL:https://craiovalive.ro/eveniment/roots-season-dirijor-tiberiu-soare/
LOCATION:Filarmonica Oltenia\, Calea Unirii\, nr. 16\, Craiova\, Dolj\, 200585\, România
CATEGORIES:Muzică
ATTACH;FMTTYPE=image/jpeg:https://craiovalive.ro/wp-content/uploads/2025/04/Roots-Season-DIRIJOR-TIBERIU-SOARE-Concert-Brahms.jpg
ORGANIZER;CN="Filarmonica Oltenia Craiova":MAILTO:secretariat@filarmonica-oltenia.ro
GEO:44.3172308;23.7944364
X-APPLE-STRUCTURED-LOCATION;VALUE=URI;X-ADDRESS=Filarmonica Oltenia Calea Unirii nr. 16 Craiova Dolj 200585 România;X-APPLE-RADIUS=500;X-TITLE=Calea Unirii\, nr. 16:geo:23.7944364,44.3172308
END:VEVENT
BEGIN:VEVENT
DTSTART;TZID=Europe/Bucharest:20250502T190000
DTEND;TZID=Europe/Bucharest:20250502T203000
DTSTAMP:20260424T091612
CREATED:20250406T211157Z
LAST-MODIFIED:20250429T081841Z
UID:10006120-1746212400-1746217800@craiovalive.ro
SUMMARY:Roots Season - DIRIJOR: DAVID SCHLAGER - Tablouri dintr-o expoziție
DESCRIPTION:Roots Season: DIRIJOR: DAVID SCHLAGER\nVINERI 02 MAI 2025 – 19:00 Sala Filarmonicii Oltenia \nORCHESTRA SIMFONICă A FILARMONICII OLTENIA \nDirijor\nDAVID SCHLAGER – AUSTRIA \nSolişti\nȘTEFAN PRETULEAC – pian \nProgram\nFrédéric Chopin Concertul nr. 1 în Mi minor pentru pian și orchestră\, op. 11\nModest Musorgski / Maurice Ravel Tablouri dintr-o expoziție
URL:https://craiovalive.ro/eveniment/roots-season-dirijor-david-schlager/
LOCATION:Filarmonica Oltenia\, Calea Unirii\, nr. 16\, Craiova\, Dolj\, 200585\, România
CATEGORIES:Muzică
ATTACH;FMTTYPE=image/jpeg:https://craiovalive.ro/wp-content/uploads/2025/04/Roots-Season-DIRIJOR-DaVID-SCHLAGER.jpg
ORGANIZER;CN="Filarmonica Oltenia Craiova":MAILTO:secretariat@filarmonica-oltenia.ro
GEO:44.3172308;23.7944364
X-APPLE-STRUCTURED-LOCATION;VALUE=URI;X-ADDRESS=Filarmonica Oltenia Calea Unirii nr. 16 Craiova Dolj 200585 România;X-APPLE-RADIUS=500;X-TITLE=Calea Unirii\, nr. 16:geo:23.7944364,44.3172308
END:VEVENT
BEGIN:VEVENT
DTSTART;TZID=Europe/Bucharest:20250430T190000
DTEND;TZID=Europe/Bucharest:20250430T203000
DTSTAMP:20260424T091612
CREATED:20250429T081314Z
LAST-MODIFIED:20250429T081314Z
UID:10006269-1746039600-1746045000@craiovalive.ro
SUMMARY:Ian Crist - jazz sinthesizer
DESCRIPTION:CONCERT PENTRU JAZZ DAY 30 APRILIE 2025
URL:https://craiovalive.ro/eveniment/ian-crist-jazz-sinthesizer/
LOCATION:Filarmonica Oltenia\, Calea Unirii\, nr. 16\, Craiova\, Dolj\, 200585\, România
CATEGORIES:Muzică
ATTACH;FMTTYPE=image/jpeg:https://craiovalive.ro/wp-content/uploads/2025/04/Ian-Crist-jazz-sinthesizer.jpg
GEO:44.3172308;23.7944364
X-APPLE-STRUCTURED-LOCATION;VALUE=URI;X-ADDRESS=Filarmonica Oltenia Calea Unirii nr. 16 Craiova Dolj 200585 România;X-APPLE-RADIUS=500;X-TITLE=Calea Unirii\, nr. 16:geo:23.7944364,44.3172308
END:VEVENT
BEGIN:VEVENT
DTSTART;TZID=Europe/Bucharest:20250428T190000
DTEND;TZID=Europe/Bucharest:20250428T203000
DTSTAMP:20260424T091612
CREATED:20250301T135730Z
LAST-MODIFIED:20250304T081830Z
UID:10005607-1745866800-1745872200@craiovalive.ro
SUMMARY:Fidelitate
DESCRIPTION:Piesa lui Chazz Palminteri\, scenarist\, regizor\, actor și producător de origine italiană\, poate fi integrată teatrului bulevardier modern. A fost jucată cu succes pe alte meridiane\, s-a realizat și un film în care autorul a jucat\, este amuzant scrisă ca situații cu lovituri spectaculoase de teatru\, cu replici pline de umor și personaje bine construite. \nÎn relația unui cuplu de oameni avuți – Maggie (Adelaida Zamfira) și Jack (Florin Busuioc) ajunsă într-un impact\, cu ironie analizată psihologic\, intervine un ucigaș plătit\, Tony (Gheorghe Ifrim)\, nu se știe de cine\, și el cu probleme psihologice; acțiunea\, conflictele\, sunt dibaci expuse dramatic cu savoare comică. Autorul se dovedește că știe a scrie comedii cu motivare psihologică în relații și subtile trimiterii spre actualitatea curentă. \nÎntâlnim din nou pe Gheorghe Ifrim într-un rol cu bază comică – Tony\, interpretat cu intenția logică de a arăta că trăirea dramatică a unor situații poate evidenția exploziv scopul scrierii ironic\, satiric. Excelent actorul definește personajul\, un ucigaș plătit\, un posibil mafiot care își are problemele sale personale și drept ajutor un psiholog. Gheorghe Ifrim speculează cu măsură în expresie stările personajului și relațiile sale cu Maggie\, interpretarea sa având drept rezultat un umor rafinat\, cuceritor\, actorul demonstrând din nou\, capacitățile sale speciale pentru comedie. \nMaggie\, femeia plictisită de viața casnică\, dar care a adus fondurile necesare afacerilor soțului este caracterizată sugestiv de Adelaida Zamfira. Actrița dezvoltă ambiguitatea lui Maggie mai ales când aceasta devine o doamnă elegantă care își afirmă dorința de aventură și răzbunare. Este un rol de referință realizarea credibilă a personajului pentru această talentată actriță independentă. \nO surpriză plăcută produce apariția în teatru a lui Florin Busuioc. Actorul se pliază la nuanță pentru definirea esenței profilului și atitudinilor soțului infidel al lui Maggie\, om de afaceri. Florin Busuioc transmite verosimil atenționarea că imoralitatea poate fi specifică\, firească și multora din cei avuți. Cei trei sunt minunați prin modul în care relatând situații dramatice cu sinceritate interioară\, produc comicul scopului satiric al textului și umorul aplaudat de public. \n„Fidelitate” este un spectacol de la care nimeni nu poate pleca dezamăgit. De la regizor\, scenograf până la cei trei interpreți de excepție\, „Fidelitate” ne arată că teatrul independent activează consecvent cultural\, fără sofisticări derizorii de imagine\, fiind direct în comunicarea cu haz a unor „fotografii” desprinse din actualitatea zilelor noastre. \n  \nDistributie:  Adelaida Zamfira\, Florin Busuioc\, Gheorghe Ifrim
URL:https://craiovalive.ro/eveniment/fidelitate/
LOCATION:Filarmonica Oltenia\, Calea Unirii\, nr. 16\, Craiova\, Dolj\, 200585\, România
CATEGORIES:Teatru
ATTACH;FMTTYPE=image/jpeg:https://craiovalive.ro/wp-content/uploads/2025/03/Fidelitate-Craiova.jpg
GEO:44.3172308;23.7944364
X-APPLE-STRUCTURED-LOCATION;VALUE=URI;X-ADDRESS=Filarmonica Oltenia Calea Unirii nr. 16 Craiova Dolj 200585 România;X-APPLE-RADIUS=500;X-TITLE=Calea Unirii\, nr. 16:geo:23.7944364,44.3172308
END:VEVENT
BEGIN:VEVENT
DTSTART;TZID=Europe/Bucharest:20250425T190000
DTEND;TZID=Europe/Bucharest:20250425T210000
DTSTAMP:20260424T091612
CREATED:20250329T190654Z
LAST-MODIFIED:20250329T190654Z
UID:10006036-1745607600-1745614800@craiovalive.ro
SUMMARY:Roots Season: Stabar Mater / Pergolesi
DESCRIPTION:VINERI\, 25 APRILIE 2025\, ORA l19:00STABAT MATER – PERGOLESIORCHESTRA SIMFONICĂ A FILARMONICII „OLTENIA”DIRIJOR: ANDREI STĂNCULESCUSOLIȘTI:CRISTINA FIERARU sopranăVICTORIA GHIRVU mezzosopranăCONSTANTIN SANDU pianOLIVIA IANCU arciliutoCLAUDIU LOBONȚ arciliuto———-În program:– Giovanni Battista Pergolesi: „Stabat Mater” pentru soliști\, orchestră de coarde și orgă– Johann Sebastian Bach: Concertul nr. 1 în Re minor pentru pian și orchestră\, BWV 1052– Jean-Philippe Rameau: „Indiile galante” (selecțiuni)\n*Concert în abonament*Prețuri: 50; 15 lei
URL:https://craiovalive.ro/eveniment/roots-season-stabar-mater-pergolesi/
LOCATION:Filarmonica Oltenia\, Calea Unirii\, nr. 16\, Craiova\, Dolj\, 200585\, România
CATEGORIES:Muzică
ATTACH;FMTTYPE=image/jpeg:https://craiovalive.ro/wp-content/uploads/2025/03/Roots-Season-Stabat-Mater-Pergolesi.jpg
ORGANIZER;CN="Filarmonica Oltenia Craiova":MAILTO:secretariat@filarmonica-oltenia.ro
GEO:44.3172308;23.7944364
X-APPLE-STRUCTURED-LOCATION;VALUE=URI;X-ADDRESS=Filarmonica Oltenia Calea Unirii nr. 16 Craiova Dolj 200585 România;X-APPLE-RADIUS=500;X-TITLE=Calea Unirii\, nr. 16:geo:23.7944364,44.3172308
END:VEVENT
BEGIN:VEVENT
DTSTART;TZID=Europe/Bucharest:20250423T190000
DTEND;TZID=Europe/Bucharest:20250423T203000
DTSTAMP:20260424T091612
CREATED:20250406T210700Z
LAST-MODIFIED:20250418T161611Z
UID:10006119-1745434800-1745440200@craiovalive.ro
SUMMARY:4te PIANO | Dansuri la 4\, 6 și 8 mâini
DESCRIPTION:4te PIANO | Dansuri la 4\, 6 și 8 mâini\nMIERCURI 23 APR 2025 – 19:00 Sala Filarmonicii Oltenia\nSolişti\nDRAGOȘ MIHĂILESCU – pian\nMANUELA MIHĂILESCU – pian\nDINU MIHĂILESCU – pian\nIOAN MIHĂILESCU – pian \nProgram\nConstantin Silvestri Dansuri românești (pian la patru mâini)\nJohannes Brahms Dansurile ungare nr. 4 (pian la patru mâini)\nJohannes Brahms Dansurile ungare nr. 5 (pian la patru mâini)\nSamuel Barber Pas de deux și Tango din suita „Souvenirs”\, op. 28 (pian la patru mâini)\nEdvard Grieg Dansurile norvegiene op. 35\, nr. 2 (pian la patru mâini)\nEdvard Grieg Dansurile norvegiene op. 35\, nr. 3 (pian la patru mâini)\nBéla Bartók Piese din Microcosmos (patru mâini la 2 piane)\nSerghei Rahmaninov Romanța (6 mâini la 2 piane)\nSerghei Rahmaninov Vals\, op. 11 (pian la patru mâini)\nAntonín Dvořák Dans slav\, op. 72\, nr. 2 (pian la patru mâini)\nAntonín Dvořák Dans slav\, op. 46\, nr. 6 (8 mâini la 2 piane)\nEmmanuel Chabrier España (8 mâini la 2 piane)
URL:https://craiovalive.ro/eveniment/4te-piano-dansuri-la-4-6-si-8-maini/
LOCATION:Filarmonica Oltenia\, Calea Unirii\, nr. 16\, Craiova\, Dolj\, 200585\, România
CATEGORIES:Muzică
ATTACH;FMTTYPE=image/jpeg:https://craiovalive.ro/wp-content/uploads/2025/04/4tePiano.jpg
ORGANIZER;CN="Filarmonica Oltenia Craiova":MAILTO:secretariat@filarmonica-oltenia.ro
GEO:44.3172308;23.7944364
X-APPLE-STRUCTURED-LOCATION;VALUE=URI;X-ADDRESS=Filarmonica Oltenia Calea Unirii nr. 16 Craiova Dolj 200585 România;X-APPLE-RADIUS=500;X-TITLE=Calea Unirii\, nr. 16:geo:23.7944364,44.3172308
END:VEVENT
END:VCALENDAR