BEGIN:VCALENDAR
VERSION:2.0
PRODID:-//Craiova Live - ECPv6.15.18//NONSGML v1.0//EN
CALSCALE:GREGORIAN
METHOD:PUBLISH
X-ORIGINAL-URL:https://craiovalive.ro
X-WR-CALDESC:Evenimente pentru Craiova Live
REFRESH-INTERVAL;VALUE=DURATION:PT1H
X-Robots-Tag:noindex
X-PUBLISHED-TTL:PT1H
BEGIN:VTIMEZONE
TZID:Europe/Bucharest
BEGIN:DAYLIGHT
TZOFFSETFROM:+0200
TZOFFSETTO:+0300
TZNAME:EEST
DTSTART:20240331T010000
END:DAYLIGHT
BEGIN:STANDARD
TZOFFSETFROM:+0300
TZOFFSETTO:+0200
TZNAME:EET
DTSTART:20241027T010000
END:STANDARD
BEGIN:DAYLIGHT
TZOFFSETFROM:+0200
TZOFFSETTO:+0300
TZNAME:EEST
DTSTART:20250330T010000
END:DAYLIGHT
BEGIN:STANDARD
TZOFFSETFROM:+0300
TZOFFSETTO:+0200
TZNAME:EET
DTSTART:20251026T010000
END:STANDARD
BEGIN:DAYLIGHT
TZOFFSETFROM:+0200
TZOFFSETTO:+0300
TZNAME:EEST
DTSTART:20260329T010000
END:DAYLIGHT
BEGIN:STANDARD
TZOFFSETFROM:+0300
TZOFFSETTO:+0200
TZNAME:EET
DTSTART:20261025T010000
END:STANDARD
BEGIN:DAYLIGHT
TZOFFSETFROM:+0200
TZOFFSETTO:+0300
TZNAME:EEST
DTSTART:20270328T010000
END:DAYLIGHT
BEGIN:STANDARD
TZOFFSETFROM:+0300
TZOFFSETTO:+0200
TZNAME:EET
DTSTART:20271031T010000
END:STANDARD
END:VTIMEZONE
BEGIN:VEVENT
DTSTART;TZID=Europe/Bucharest:20260326T210000
DTEND;TZID=Europe/Bucharest:20260326T223000
DTSTAMP:20260424T002353
CREATED:20260324T141642Z
LAST-MODIFIED:20260324T141642Z
UID:10014390-1774558800-1774564200@craiovalive.ro
SUMMARY:FeelTrue – Throwback Improv Show
DESCRIPTION:FeelTrue– Throwback Improv Show\nJoia asta (doar săptămâna asta!)\, FeelTrue mută show-ul și aduce pe scenă un line-up special:Radu Tudor\, Bogdan Oprănescu\, Lucian Vlăsceanu\, Cătălin Mîculeasa\, Petri Ștefănescu și Adrian Tudor.\nUn spectacol de improvizație live\, fără scenariu\, unde comedia se creează pe loc\, din ideile voastre.\nTu propui. Ei joacă. Totul se întâmplă aici și acum.\nVino la unul dintre cele mai tari show-uri de improvizație.
URL:https://craiovalive.ro/eveniment/feeltrue-throwback-improv-show/
LOCATION:Fado Irish Pub\, Str. Traian Demetrescu\, nr. 8\, Craiova\, Dolj\, România
CATEGORIES:Teatru
ATTACH;FMTTYPE=image/jpeg:https://craiovalive.ro/wp-content/uploads/2023/11/FeelTrue.jpg
GEO:44.3166637;23.7997315
X-APPLE-STRUCTURED-LOCATION;VALUE=URI;X-ADDRESS=Fado Irish Pub Str. Traian Demetrescu nr. 8 Craiova Dolj România;X-APPLE-RADIUS=500;X-TITLE=Str. Traian Demetrescu\, nr. 8:geo:23.7997315,44.3166637
END:VEVENT
BEGIN:VEVENT
DTSTART;TZID=Europe/Bucharest:20260306T203000
DTEND;TZID=Europe/Bucharest:20260306T220000
DTSTAMP:20260424T002353
CREATED:20260215T193120Z
LAST-MODIFIED:20260215T193120Z
UID:10013472-1772829000-1772834400@craiovalive.ro
SUMMARY:Te pup\, te alea! cu Radu Guran & Comaroni
DESCRIPTION:Pe Radu Guran și pe Comaroni nu i-au născut mamele lor\, ei au venit singuri pe lume de nebuni\, iar cu ocazia asta vin vineri\, pe 6 martie\, de la 20:30 și în fața dumneavoastră cu un număr de muzică și stand-up.Nu mai face nimeni în România așa ceva.\nJurăm.
URL:https://craiovalive.ro/eveniment/te-pup-te-alea-cu-radu-guran-comaroni/
LOCATION:Fado Irish Pub\, Str. Traian Demetrescu\, nr. 8\, Craiova\, Dolj\, România
CATEGORIES:Stand up
ATTACH;FMTTYPE=image/webp:https://craiovalive.ro/wp-content/uploads/2026/02/Te-pup-te-alea-cu-Radu-Guran-Comaroni.webp
GEO:44.3166637;23.7997315
X-APPLE-STRUCTURED-LOCATION;VALUE=URI;X-ADDRESS=Fado Irish Pub Str. Traian Demetrescu nr. 8 Craiova Dolj România;X-APPLE-RADIUS=500;X-TITLE=Str. Traian Demetrescu\, nr. 8:geo:23.7997315,44.3166637
END:VEVENT
BEGIN:VEVENT
DTSTART;TZID=Europe/Bucharest:20251123T200000
DTEND;TZID=Europe/Bucharest:20251123T213000
DTSTAMP:20260424T002353
CREATED:20251117T203410Z
LAST-MODIFIED:20251117T203410Z
UID:10012504-1763928000-1763933400@craiovalive.ro
SUMMARY:Stand-up Comedy „Un Show Imposibil 7” cu Dima\, Dinu\, Trică și Havriciuc
DESCRIPTION:Craiova: Stand-up Comedy „Un Show Imposibil 7” cu Dima\, Dinu\, Trică și Havriciuc\nFado Irish Pub\, Craiova (Strada Traian Demetrescu 8)\nduminică\, 23 noiembrie\, ora 20:00 \nDupă succesul seriei „Un Show Imposibil” 1\, 2\, 3\, 5 și 6 (ne pare sincer rău pentru 4)\, Dima\, Dinu\, Trică și Havriciuc se întorc a 7-a oară\, cu o nouă misiune: Să dezamorseze sala prin râsete.\nCu material nou\, costume la patru ace și o chimie pe scenă greu de egalat\, băieții revin mai în formă ca niciodată. Iar dacă nu ai auzit de ei încă… e doar pentru că sunt agenți secreți\, nu pentru că n-ar fi amuzanți. Ia-ți biletele\, vino la show și susține noua generație de stand-up din România. \nLocație: Fado Irish Pub\nData: 23.11\nOra: 20:00 \nDupă achiziționarea biletului\, rezervările se fac la numărul de telefon: 0751 913 895
URL:https://craiovalive.ro/eveniment/stand-up-comedy-un-show-imposibil-7-cu-dima-dinu-trica-si-havriciuc/
LOCATION:Fado Irish Pub\, Str. Traian Demetrescu\, nr. 8\, Craiova\, Dolj\, România
CATEGORIES:Stand up
ATTACH;FMTTYPE=image/webp:https://craiovalive.ro/wp-content/uploads/2025/11/Stand-up-Comedy-„Un-Show-Imposibil-7-cu-Dima-Dinu-Trica-si-Havriciuc.webp
GEO:44.3166637;23.7997315
X-APPLE-STRUCTURED-LOCATION;VALUE=URI;X-ADDRESS=Fado Irish Pub Str. Traian Demetrescu nr. 8 Craiova Dolj România;X-APPLE-RADIUS=500;X-TITLE=Str. Traian Demetrescu\, nr. 8:geo:23.7997315,44.3166637
END:VEVENT
BEGIN:VEVENT
DTSTART;TZID=Europe/Bucharest:20251031T170000
DTEND;TZID=Europe/Bucharest:20251031T235900
DTSTAMP:20260424T002353
CREATED:20251007T211654Z
LAST-MODIFIED:20251007T211654Z
UID:10010297-1761930000-1761955140@craiovalive.ro
SUMMARY:Halloween @Fado
DESCRIPTION: CONCURS de Lip Sync & Costume de Halloween la Fado Pub! Data: 31 OCT. Locație: Fado Pub\, Craiova\n Regulament Concurs Lip Sync & Costume – Halloween la Fado\nConcursul are loc în cadrul petrecerii de Halloween de la Fado Pub –\nFiecare participant (sau echipă) va pregăti un moment artistic ce combină interpretarea prin Lip Sync și costumul de Halloween.\nDurata momentului nu trebuie să depășească 5 minute.\nMuzica trebuie anunțată la înscriere și adaugata in playlistul HOLLOW FADO CRAIOVA (spotify) https://open.spotify.com/playlist/10EzRG2EHNhMVRGS5uzJM1….\nCostumul este parte integrantă a momentului și va fi luat în considerare la jurizare.\nCâștigătorul va fi desemnat pe baza impactului artistic al momentului (energie\, creativitate\, sincronizare\, costum).\nOrganizatorii își rezervă dreptul de a ajusta ordinea intrărilor și de a respinge înscrieri nepotrivite cu tematica.\nPremiul se acordă pentru “Cel mai bun moment” al serii.\nINSCRIERILE SE FAC ONLINE PE FORMULARUL:\nhttps://docs.google.com/…/1q2kxDZ…/edit
URL:https://craiovalive.ro/eveniment/halloween-fado/
LOCATION:Fado Irish Pub\, Str. Traian Demetrescu\, nr. 8\, Craiova\, Dolj\, România
CATEGORIES:Party
ATTACH;FMTTYPE=image/jpeg:https://craiovalive.ro/wp-content/uploads/2025/10/Halloween-@Fado.jpg
GEO:44.3166637;23.7997315
X-APPLE-STRUCTURED-LOCATION;VALUE=URI;X-ADDRESS=Fado Irish Pub Str. Traian Demetrescu nr. 8 Craiova Dolj România;X-APPLE-RADIUS=500;X-TITLE=Str. Traian Demetrescu\, nr. 8:geo:23.7997315,44.3166637
END:VEVENT
BEGIN:VEVENT
DTSTART;TZID=Europe/Bucharest:20250921T213000
DTEND;TZID=Europe/Bucharest:20250921T223000
DTSTAMP:20260424T002353
CREATED:20250909T192356Z
LAST-MODIFIED:20250909T192356Z
UID:10009707-1758490200-1758493800@craiovalive.ro
SUMMARY:Stand-up Comedy: Restanțe la râs
DESCRIPTION:Craiova\, vino la un show de stand-up comedy complet nou\, proaspăt scos din cele mai fresh creiere ale comediei! \nIrina Marinescu\, Kiara Firan\, Larisa Bănuță & Iulia Nica vin în premieră la Craiova cu umor colorat\, glume pe care nu le-ai mai auzit și multă caterincă. \nAcesta nu este doar cel mai nou show de stand-up din Craiova\, e mai mult: vino să descoperi o nouă dimensiune a comediei și fii primul care le povestește prietenilor… sau\, mai bine\, adu-i direct cu tine! \nAccesul persoanelor sub 16 ani nu este permis.
URL:https://craiovalive.ro/eveniment/stand-up-comedy-restante-la-ras/
LOCATION:Fado Irish Pub\, Str. Traian Demetrescu\, nr. 8\, Craiova\, Dolj\, România
CATEGORIES:Stand up
ATTACH;FMTTYPE=image/webp:https://craiovalive.ro/wp-content/uploads/2025/09/Stand-up-Comedy-Restante-la-ras.webp
GEO:44.3166637;23.7997315
X-APPLE-STRUCTURED-LOCATION;VALUE=URI;X-ADDRESS=Fado Irish Pub Str. Traian Demetrescu nr. 8 Craiova Dolj România;X-APPLE-RADIUS=500;X-TITLE=Str. Traian Demetrescu\, nr. 8:geo:23.7997315,44.3166637
END:VEVENT
END:VCALENDAR