BEGIN:VCALENDAR
VERSION:2.0
PRODID:-//Craiova Live - ECPv6.15.18//NONSGML v1.0//EN
CALSCALE:GREGORIAN
METHOD:PUBLISH
X-ORIGINAL-URL:https://craiovalive.ro
X-WR-CALDESC:Evenimente pentru Craiova Live
REFRESH-INTERVAL;VALUE=DURATION:PT1H
X-Robots-Tag:noindex
X-PUBLISHED-TTL:PT1H
BEGIN:VTIMEZONE
TZID:Europe/Bucharest
BEGIN:DAYLIGHT
TZOFFSETFROM:+0200
TZOFFSETTO:+0300
TZNAME:EEST
DTSTART:20240331T010000
END:DAYLIGHT
BEGIN:STANDARD
TZOFFSETFROM:+0300
TZOFFSETTO:+0200
TZNAME:EET
DTSTART:20241027T010000
END:STANDARD
BEGIN:DAYLIGHT
TZOFFSETFROM:+0200
TZOFFSETTO:+0300
TZNAME:EEST
DTSTART:20250330T010000
END:DAYLIGHT
BEGIN:STANDARD
TZOFFSETFROM:+0300
TZOFFSETTO:+0200
TZNAME:EET
DTSTART:20251026T010000
END:STANDARD
BEGIN:DAYLIGHT
TZOFFSETFROM:+0200
TZOFFSETTO:+0300
TZNAME:EEST
DTSTART:20260329T010000
END:DAYLIGHT
BEGIN:STANDARD
TZOFFSETFROM:+0300
TZOFFSETTO:+0200
TZNAME:EET
DTSTART:20261025T010000
END:STANDARD
BEGIN:DAYLIGHT
TZOFFSETFROM:+0200
TZOFFSETTO:+0300
TZNAME:EEST
DTSTART:20270328T010000
END:DAYLIGHT
BEGIN:STANDARD
TZOFFSETFROM:+0300
TZOFFSETTO:+0200
TZNAME:EET
DTSTART:20271031T010000
END:STANDARD
END:VTIMEZONE
BEGIN:VEVENT
DTSTART;TZID=Europe/Bucharest:20260322T190000
DTEND;TZID=Europe/Bucharest:20260322T210000
DTSTAMP:20260423T230852
CREATED:20260225T140503Z
LAST-MODIFIED:20260225T140503Z
UID:10014096-1774206000-1774213200@craiovalive.ro
SUMMARY:Stand-up Comedy cu Sergiu Mirică\, Ioana Luiza\, Virgil Ciulin și Dragoș Mitran | Niște Oameni | Cât încă e legal
DESCRIPTION:Craiova: Stand-up Comedy cu Sergiu Mirică\, Ioana Luiza\, Virgil Ciulin și Dragoș Mitran | Niște Oameni | Cât încă e legal\nEnoteca Social Bar\, Craiova \nduminică\, 22 martie\, ora 19:00 \nÎntr-o perioadă incertă\, cu schimbări de legi\, taxe și alte nebunii\, nici râsul nu mai este o garanție. Dar după o viață trăită la granița dintre bine și amuzant\, Sergiu Mirică\, Ioana Luiza\, Virgil Ciulin și Dragoș Mitran fac o haiducie și vin în turneu cu un show de Stand-up Comedy periculos de funny! \nHai și tu să-i vezi LIVE cât încă e legal! Ei sunt câștigători de iUmor și Stand-up Revolution\, participă constant la Una Scurtă și Râzi cu Prostu’ pe Comedy Box\, iar pe canalul lor de Youtube “Niște Oameni” poți vedea bucăți de stand-up\, podcastul lor săptămânal și emisiunea Nu Știu\, Zic! \nNe vedem la show!
URL:https://craiovalive.ro/eveniment/stand-up-comedy-cu-sergiu-mirica-ioana-luiza-virgil-ciulin-si-dragos-mitran-niste-oameni-cat-inca-e-legal/
LOCATION:Enoteca Social Bar\, Calea Bucuresti 78a\, Cladire de birouri Electroputere Parc\, Craiova\, Dolj\, România
CATEGORIES:Stand up
ATTACH;FMTTYPE=image/webp:https://craiovalive.ro/wp-content/uploads/2026/02/Stand-up-Comedy-cu-Sergiu-Mirica-Ioana-Luiza-Virgil-Ciulin-si-Dragos-Mitran-Niste-Oameni-Cat-inca-e-legal.webp
GEO:44.313600215854;23.828352709902
X-APPLE-STRUCTURED-LOCATION;VALUE=URI;X-ADDRESS=Enoteca Social Bar Calea Bucuresti 78a Cladire de birouri Electroputere Parc Craiova Dolj România;X-APPLE-RADIUS=500;X-TITLE=Calea Bucuresti 78a\, Cladire de birouri Electroputere Parc:geo:23.828352709902,44.313600215854
END:VEVENT
BEGIN:VEVENT
DTSTART;TZID=Europe/Bucharest:20260222T200000
DTEND;TZID=Europe/Bucharest:20260222T213000
DTSTAMP:20260423T230852
CREATED:20251227T171251Z
LAST-MODIFIED:20251227T171251Z
UID:10012692-1771790400-1771795800@craiovalive.ro
SUMMARY:Stand-Up politic cu Serghei - "Blugi\, banane\, comentarii"
DESCRIPTION:Craiova: Stand-Up politic cu SERGHEI – „Blugi\, banane\, comentarii”\nEnoteca Social Bar\, Craiova \nduminică\, 22 februarie ’26\, ora 20:00 acces de la 19:00 \nEști gata pentru o porție zdravănă de realitate nefiltrată? Serghei scoate la tablă clasa politică într-un show de stand-up care combină poveștile din „epoca de aur” cu gafele epocii de acum. \nDe ce ne-au rămas bananele un etalon al bunăstării? De ce blugii sunt o propagandă vestică în România și\, mai ales\, de ce mai sunt relevante comentariile de pe Facebook? Serghei transformă frustrarea zilnică în comedie pură. Fără cenzură\, fără menajamente\, doar umor politic de calitate. \nLocuri limitate. Opinia e gratuită\, biletul e investiție în sănătatea ta mintală.
URL:https://craiovalive.ro/eveniment/stand-up-politic-cu-serghei-blugi-banane-comentarii/
LOCATION:Enoteca Social Bar\, Calea Bucuresti 78a\, Cladire de birouri Electroputere Parc\, Craiova\, Dolj\, România
CATEGORIES:Stand up
ATTACH;FMTTYPE=image/webp:https://craiovalive.ro/wp-content/uploads/2025/12/Stand-Up-politic-cu-Serghei-Blugi-banane-comentarii.webp
GEO:44.313600215854;23.828352709902
X-APPLE-STRUCTURED-LOCATION;VALUE=URI;X-ADDRESS=Enoteca Social Bar Calea Bucuresti 78a Cladire de birouri Electroputere Parc Craiova Dolj România;X-APPLE-RADIUS=500;X-TITLE=Calea Bucuresti 78a\, Cladire de birouri Electroputere Parc:geo:23.828352709902,44.313600215854
END:VEVENT
BEGIN:VEVENT
DTSTART;TZID=Europe/Bucharest:20260208T200000
DTEND;TZID=Europe/Bucharest:20260208T220000
DTSTAMP:20260423T230852
CREATED:20260130T222759Z
LAST-MODIFIED:20260130T222759Z
UID:10012979-1770580800-1770588000@craiovalive.ro
SUMMARY:Stand Up & Crowd Work | Gabriel Gherghe și Edi Vacariu
DESCRIPTION:Craiova: Stand Up & Crowd Work | Gabriel Gherghe și Edi Vacariu\n\nEnoteca Social Bar\, Craiova\nCalea București\nduminică\, 8 februarie\, ora 20:00\n\n\n\nHai la un show 2in1! Ai parte de un show de stand-up si dupa de inca un specatcol de crowd work.\nI-ai văzut la iUmor\, StandUpRevolution\, ComedyCentral sau pe Youtube iar acum îi poți vedea într-un show live! Gabriel Gherghe si Edi Vacariu vin de la clubul de comedie The Fool si ti-au pregatit o seară cu râs și voie bună!\n\n\nIn partea a doua a showului vei vedea: Gherghe + Publicul = Crowd work\, un spectacol la care aflăm despre ce e vorba pe parcursul lui.\n\nVrei sa vorbești si tu in timpul spectacolului? Ti se pare ca ai o gluma mai buna? Vrei sa ne contrazici sau ai probleme si nu ai gasit inca un terapeut care sa te asculte? Singura conditie e sa stii de glumă.\nPrin participarea la acest spectacol\, vă exprimați acordul de a fi filmat și de a apărea în materialele video realizate în timpul evenimentului.\n\nUnde? Enoteca Social BarCand? Duminica 08 februarie\, ora 20:00Cum? Bilete la local sau online pe iaBilet | 60 lei
URL:https://craiovalive.ro/eveniment/stand-up-crowd-work-gabriel-gherghe-si-edi-vacariu/
LOCATION:Enoteca Social Bar\, Calea Bucuresti 78a\, Cladire de birouri Electroputere Parc\, Craiova\, Dolj\, România
CATEGORIES:Stand up
ATTACH;FMTTYPE=image/webp:https://craiovalive.ro/wp-content/uploads/2026/01/Stand-Up-Crowd-Work-Gabriel-Gherghe-si-Edi-Vacariu.webp
GEO:44.313600215854;23.828352709902
X-APPLE-STRUCTURED-LOCATION;VALUE=URI;X-ADDRESS=Enoteca Social Bar Calea Bucuresti 78a Cladire de birouri Electroputere Parc Craiova Dolj România;X-APPLE-RADIUS=500;X-TITLE=Calea Bucuresti 78a\, Cladire de birouri Electroputere Parc:geo:23.828352709902,44.313600215854
END:VEVENT
BEGIN:VEVENT
DTSTART;TZID=Europe/Bucharest:20251118T190000
DTEND;TZID=Europe/Bucharest:20251118T203000
DTSTAMP:20260423T230852
CREATED:20250919T072745Z
LAST-MODIFIED:20250919T072745Z
UID:10010228-1763492400-1763497800@craiovalive.ro
SUMMARY:Stand-Up de austeritate cu SERGHEI - "Eu cu ce mai râd?"
DESCRIPTION:Stand-Up de austeritate cu SERGHEI – „Eu cu ce mai râd?”\nEnoteca Social Bar\, Craiova\nCalea București\nmarți\, 18 noiembrie\, ora 19:00 acces de la 18:00 \nAcum\, când simțim cu toții cum se strânge cureaua și „austeritate” a devenit cuvântul de ordine\, apare o singură întrebare cu adevărat importantă: „Eu cu ce mai râd?”. Serghei vine cu propria sa Ordonanță de Urgență Comică\, iar prima citire a serii îi va aparține lui Călin Gheorghiu care va avea o deschidere austeritară. Pregătiți-vă pentru un spectacol de stand-up comedy în care se aplică un nou pachet de măsuri: se taie din glumele proaste\, se măresc premizele absurde și se majorează punchline-urile\, ca să facă față inflației de motive de îngrijorare.
URL:https://craiovalive.ro/eveniment/stand-up-de-austeritate-cu-serghei-eu-cu-ce-mai-rad/
LOCATION:Enoteca Social Bar\, Calea Bucuresti 78a\, Cladire de birouri Electroputere Parc\, Craiova\, Dolj\, România
CATEGORIES:Stand up
ATTACH;FMTTYPE=image/webp:https://craiovalive.ro/wp-content/uploads/2025/09/Stand-Up-de-austeritate-cu-SERGHEI-Eu-cu-ce-mai-rad.webp
GEO:44.313600215854;23.828352709902
X-APPLE-STRUCTURED-LOCATION;VALUE=URI;X-ADDRESS=Enoteca Social Bar Calea Bucuresti 78a Cladire de birouri Electroputere Parc Craiova Dolj România;X-APPLE-RADIUS=500;X-TITLE=Calea Bucuresti 78a\, Cladire de birouri Electroputere Parc:geo:23.828352709902,44.313600215854
END:VEVENT
BEGIN:VEVENT
DTSTART;TZID=Europe/Bucharest:20251017T213000
DTEND;TZID=Europe/Bucharest:20251017T230000
DTSTAMP:20260423T230852
CREATED:20250730T152956Z
LAST-MODIFIED:20250919T071832Z
UID:10007798-1760736600-1760742000@craiovalive.ro
SUMMARY:Stand-up Comedy cu Anisia Gafton\, Serghei\, Nonic și Opreanu - „Mrs & Mr 007” (Late Show)
DESCRIPTION:Pregătește-te pentru o misiune de comedie explozivă: „Mrs & Mr 007”! \nAnisia Gafton și Serghei\, „agenții secreți” ai umorului românesc\, sunt headlinerii serii\, gata să te dezarmeze cu glume tăioase și o chimie contagioasă.\nLi se alătură Bogdan Nonic\, cu stilul său unic\, și Vlad Oprea\, care va deschide seara cu energia sa proaspătă. Inspirat de eleganța spionilor\, acest turneu aduce pe scenă umor inteligent și o atmosferă de acțiune.
URL:https://craiovalive.ro/eveniment/stand-up-comedy-cu-anisia-gafton-serghei-nonic-si-opreanu-mrs-mr-007/
LOCATION:Enoteca Social Bar\, Calea Bucuresti 78a\, Cladire de birouri Electroputere Parc\, Craiova\, Dolj\, România
CATEGORIES:Stand up
ATTACH;FMTTYPE=image/png:https://craiovalive.ro/wp-content/uploads/2025/07/Stand-up-Comedy-cu-Anisia-Gafton-Serghei-Nonic-si-Opreanu-„Mrs-Mr-007.png
GEO:44.313600215854;23.828352709902
X-APPLE-STRUCTURED-LOCATION;VALUE=URI;X-ADDRESS=Enoteca Social Bar Calea Bucuresti 78a Cladire de birouri Electroputere Parc Craiova Dolj România;X-APPLE-RADIUS=500;X-TITLE=Calea Bucuresti 78a\, Cladire de birouri Electroputere Parc:geo:23.828352709902,44.313600215854
END:VEVENT
BEGIN:VEVENT
DTSTART;TZID=Europe/Bucharest:20251017T180000
DTEND;TZID=Europe/Bucharest:20251017T193000
DTSTAMP:20260423T230852
CREATED:20250919T071951Z
LAST-MODIFIED:20250919T071951Z
UID:10010225-1760724000-1760729400@craiovalive.ro
SUMMARY:Stand-up Comedy cu Anisia Gafton\, Serghei\, Nonic și Opreanu - „Mrs & Mr 007” (Early Show)
DESCRIPTION:Pregătește-te pentru o misiune de comedie explozivă: „Mrs & Mr 007”! \nAnisia Gafton și Serghei\, „agenții secreți” ai umorului românesc\, sunt headlinerii serii\, gata să te dezarmeze cu glume tăioase și o chimie contagioasă.\nLi se alătură Bogdan Nonic\, cu stilul său unic\, și Vlad Oprea\, care va deschide seara cu energia sa proaspătă. Inspirat de eleganța spionilor\, acest turneu aduce pe scenă umor inteligent și o atmosferă de acțiune.
URL:https://craiovalive.ro/eveniment/stand-up-comedy-cu-anisia-gafton-serghei-nonic-si-opreanu-mrs-mr-007-early-show/
LOCATION:Enoteca Social Bar\, Calea Bucuresti 78a\, Cladire de birouri Electroputere Parc\, Craiova\, Dolj\, România
CATEGORIES:Stand up
ATTACH;FMTTYPE=image/png:https://craiovalive.ro/wp-content/uploads/2025/07/Stand-up-Comedy-cu-Anisia-Gafton-Serghei-Nonic-si-Opreanu-„Mrs-Mr-007.png
GEO:44.313600215854;23.828352709902
X-APPLE-STRUCTURED-LOCATION;VALUE=URI;X-ADDRESS=Enoteca Social Bar Calea Bucuresti 78a Cladire de birouri Electroputere Parc Craiova Dolj România;X-APPLE-RADIUS=500;X-TITLE=Calea Bucuresti 78a\, Cladire de birouri Electroputere Parc:geo:23.828352709902,44.313600215854
END:VEVENT
BEGIN:VEVENT
DTSTART;TZID=Europe/Bucharest:20250607T123000
DTEND;TZID=Europe/Bucharest:20250607T160000
DTSTAMP:20260423T230852
CREATED:20250603T191806Z
LAST-MODIFIED:20250603T192857Z
UID:10006985-1749299400-1749312000@craiovalive.ro
SUMMARY:Brunch & Party @Enoteca
DESCRIPTION:BRUNCH & PARTY Sâmbătă\, 7 iunie. 🥂 \nTe așteptăm la un nou brunch cu ritm și savoare! \n🍽️ Bufet generos\n🍷 Vinuri delicioase și cocktail-uri savuroase\n🎶 Muzică bună asigurată all day de @mindcage.official \n– Sâmbătă\, 7 iunie\n– brunch bufet între 12:30 – 16:00\, dar la râsete și 🥂 ne place să ne întindem până târziu\n– 65 lei/persoană (băuturile se achită separat) \nRezervă-ți masa la 0722 102 400!
URL:https://craiovalive.ro/eveniment/brunch-party-enoteca/
LOCATION:Enoteca Social Bar\, Calea Bucuresti 78a\, Cladire de birouri Electroputere Parc\, Craiova\, Dolj\, România
CATEGORIES:Gastronomie,Party
ATTACH;FMTTYPE=image/jpeg:https://craiovalive.ro/wp-content/uploads/2025/06/Brunch-Party-@Enoteca.jpg
GEO:44.313600215854;23.828352709902
X-APPLE-STRUCTURED-LOCATION;VALUE=URI;X-ADDRESS=Enoteca Social Bar Calea Bucuresti 78a Cladire de birouri Electroputere Parc Craiova Dolj România;X-APPLE-RADIUS=500;X-TITLE=Calea Bucuresti 78a\, Cladire de birouri Electroputere Parc:geo:23.828352709902,44.313600215854
END:VEVENT
END:VCALENDAR