BEGIN:VCALENDAR
VERSION:2.0
PRODID:-//Craiova Live - ECPv6.15.18//NONSGML v1.0//EN
CALSCALE:GREGORIAN
METHOD:PUBLISH
X-WR-CALNAME:Craiova Live
X-ORIGINAL-URL:https://craiovalive.ro
X-WR-CALDESC:Evenimente pentru Craiova Live
REFRESH-INTERVAL;VALUE=DURATION:PT1H
X-Robots-Tag:noindex
X-PUBLISHED-TTL:PT1H
BEGIN:VTIMEZONE
TZID:Europe/Bucharest
BEGIN:DAYLIGHT
TZOFFSETFROM:+0200
TZOFFSETTO:+0300
TZNAME:EEST
DTSTART:20250330T010000
END:DAYLIGHT
BEGIN:STANDARD
TZOFFSETFROM:+0300
TZOFFSETTO:+0200
TZNAME:EET
DTSTART:20251026T010000
END:STANDARD
BEGIN:DAYLIGHT
TZOFFSETFROM:+0200
TZOFFSETTO:+0300
TZNAME:EEST
DTSTART:20260329T010000
END:DAYLIGHT
BEGIN:STANDARD
TZOFFSETFROM:+0300
TZOFFSETTO:+0200
TZNAME:EET
DTSTART:20261025T010000
END:STANDARD
BEGIN:DAYLIGHT
TZOFFSETFROM:+0200
TZOFFSETTO:+0300
TZNAME:EEST
DTSTART:20270328T010000
END:DAYLIGHT
BEGIN:STANDARD
TZOFFSETFROM:+0300
TZOFFSETTO:+0200
TZNAME:EET
DTSTART:20271031T010000
END:STANDARD
END:VTIMEZONE
BEGIN:VEVENT
DTSTART;TZID=Europe/Bucharest:20261205T190000
DTEND;TZID=Europe/Bucharest:20261205T210000
DTSTAMP:20260424T174923
CREATED:20260424T144501Z
LAST-MODIFIED:20260424T144513Z
UID:10014630-1796497200-1796504400@craiovalive.ro
SUMMARY:Loredana - show-eveniment „LIBERTATE”
DESCRIPTION:LOREDANA – show-eveniment din cadrul turneului: „LIBERTATE”. \n Sala Polivalenta Craiova  \n5 Decembrie 2026 ora 19.00 \nPe 5 decembrie\, barierele cad într-un spectacol despre muzică\, spirit și curajul de a fi tu însuți. Loredana ne invită la „Libertate” – un show-manifest despre curajul de a nu te lăsa încadrat în norme rigide.\nLoredana\, artista care a reinventat constant scena muzicală din România\, anunță cel mai nou concept de spectacol: „LIBERTATE”. Evenimentul va avea loc pe 5 decembrie \, la Sala Polivalentă din Craiova\, și promite să fie o adevărată aventură muzicală – o experiență fără filtre\, fără limite și fără prejudecăți. \nConceptul „LIBERTATE” pornește de la ideea că muzica nu are granițe\, religie sau gen. Este o celebrare a Spiritului\, singura dimensiune care rămâne eternă într-o lume în continuă schimbare. Loredana propune o experiență fluidă\, în care genurile muzicale se contopesc\, iar spectatorii sunt invitați să trăiască dincolo de frici și tipare predefinite. \n„Libertate e atunci când toate barierele cad\,” spune Loredana. „Când nu te mai identifici cu un gen sau cu o limbă\, ci ești pur și simplu infinit. Libertatea e viață\, e sunet pur\, e muzică.” \nSpre deosebire de un concert clasic\, „LIBERTATE” este construit ca o forță care încalcă regulile. Show-ul refuză repetarea unor rețete vechi și alege să iasă din tipare\, oferind o producție vizuală și sonoră complexă. Este o invitație la a lăsa în urmă conflictele și prejudecățile pentru a experimenta un haos în perfectă armonie. \nCu o carieră longevivă care a definit și redefinit muzica pop din România\, Loredana rămâne cel mai cameleonic artist al scenei naționale. De la debutul fulminant și până la spectacolele conceptuale de astăzi\, ea continuă să inoveze\, fiind o voce a curajului și a reinventării constante.
URL:https://craiovalive.ro/eveniment/loredana-show-eveniment-libertate/
LOCATION:Sala Polivalentă\, Bvd. Ilie Balaci\, nr.6\, Craiova\, Dolj\, România
CATEGORIES:Muzică
ATTACH;FMTTYPE=image/jpeg:https://craiovalive.ro/wp-content/uploads/2026/04/Loredana-show-eveniment-„LIBERTATE.jpeg
GEO:44.3133053;23.7867478
X-APPLE-STRUCTURED-LOCATION;VALUE=URI;X-ADDRESS=Sala Polivalentă Bvd. Ilie Balaci nr.6 Craiova Dolj România;X-APPLE-RADIUS=500;X-TITLE=Bvd. Ilie Balaci\, nr.6:geo:23.7867478,44.3133053
END:VEVENT
END:VCALENDAR