BEGIN:VCALENDAR
VERSION:2.0
PRODID:-//Craiova Live - ECPv6.15.18//NONSGML v1.0//EN
CALSCALE:GREGORIAN
METHOD:PUBLISH
X-ORIGINAL-URL:https://craiovalive.ro
X-WR-CALDESC:Evenimente pentru Craiova Live
REFRESH-INTERVAL;VALUE=DURATION:PT1H
X-Robots-Tag:noindex
X-PUBLISHED-TTL:PT1H
BEGIN:VTIMEZONE
TZID:Europe/Bucharest
BEGIN:DAYLIGHT
TZOFFSETFROM:+0200
TZOFFSETTO:+0300
TZNAME:EEST
DTSTART:20240331T010000
END:DAYLIGHT
BEGIN:STANDARD
TZOFFSETFROM:+0300
TZOFFSETTO:+0200
TZNAME:EET
DTSTART:20241027T010000
END:STANDARD
BEGIN:DAYLIGHT
TZOFFSETFROM:+0200
TZOFFSETTO:+0300
TZNAME:EEST
DTSTART:20250330T010000
END:DAYLIGHT
BEGIN:STANDARD
TZOFFSETFROM:+0300
TZOFFSETTO:+0200
TZNAME:EET
DTSTART:20251026T010000
END:STANDARD
BEGIN:DAYLIGHT
TZOFFSETFROM:+0200
TZOFFSETTO:+0300
TZNAME:EEST
DTSTART:20260329T010000
END:DAYLIGHT
BEGIN:STANDARD
TZOFFSETFROM:+0300
TZOFFSETTO:+0200
TZNAME:EET
DTSTART:20261025T010000
END:STANDARD
END:VTIMEZONE
BEGIN:VEVENT
DTSTART;TZID=Europe/Bucharest:20250424T090000
DTEND;TZID=Europe/Bucharest:20250424T180000
DTSTAMP:20260424T185421
CREATED:20250406T200935Z
LAST-MODIFIED:20250406T200935Z
UID:10006101-1745485200-1745517600@craiovalive.ro
SUMMARY:Expoziția Polska
DESCRIPTION:Vă invităm să descoperiți Polonia\nCare este numele celui care a descoperit că Pământul se învârte în jurul Soarelui\nCine a fost singura femeie care a câștigat două premii Nobel\,\nCine a devenit „părintele electronicii mondiale” după ce a inventat metoda creșterii monocristalelor\,\nCum se numește inventatorul care a pus bazele industriei petroliere mondiale\,\nCine a fost prima femeie care a urcat pe vârful K2\, cel mai periculos munte de pe planetă\,\nCare sunt unele dintre cele mai importante date din istoria Poloniei și ce s-a întâmplat atunci\,\nCe fel de peisaje are Polonia\nRăspunsurile la toate aceste întrebări pot fi găsite în cadrul expoziției noastre.\nEste nevoie doar de puțină curiozitate pentru a porni într-o călătorie fără să te deplasezi prea mult!
URL:https://craiovalive.ro/eveniment/expozitia-polska/2025-04-24/
LOCATION:Universitatea din Craiova\, Str. A. I. Cuza\, nr. 13\, Craiova\, Dolj\, România
CATEGORIES:Expoziție
ATTACH;FMTTYPE=image/jpeg:https://craiovalive.ro/wp-content/uploads/2025/04/Expozitia-Polska.jpg
ORGANIZER;CN="Centrul de Limb%C4%83 %C8%99i Cultur%C4%83 Polonez%C4%83 Craiova":MAILTO:clcp.craiova@gmail.com
GEO:44.3190838;23.8008038
X-APPLE-STRUCTURED-LOCATION;VALUE=URI;X-ADDRESS=Universitatea din Craiova Str. A. I. Cuza nr. 13 Craiova Dolj România;X-APPLE-RADIUS=500;X-TITLE=Str. A. I. Cuza\, nr. 13:geo:23.8008038,44.3190838
END:VEVENT
BEGIN:VEVENT
DTSTART;TZID=Europe/Bucharest:20250424T100000
DTEND;TZID=Europe/Bucharest:20250424T220000
DTSTAMP:20260424T185421
CREATED:20250417T201926Z
LAST-MODIFIED:20250417T201926Z
UID:10006137-1745488800-1745532000@craiovalive.ro
SUMMARY:Muzeul Figurilor de Ceară
DESCRIPTION:În perioada 18 aprilie – 25 mai\, Promenada Craiova găzduiește una dintre cele mai spectaculoase expoziții ale primăverii: Muzeul Figurilor de Ceară\, un univers unde celebritățile din sport\, muzică\, film și istorie prind viață… în ceară! 🕯️ \n📍 Te așteptăm la etajul 1\, în zona food court\, lângă Lefties. \nIndiferent dacă ești fan cinema\, sport sau istorie\, ai șansa să te fotografiezi alături de peste 20 de personalități internaționale și românești. Printre figurile expuse se numără:\n🎥 Jason Statham\, Jim Carrey\, Sean Connery\, Leonardo DiCaprio\, Robert De Niro\, Al Pacino\, Daniel Craig\n🎤 Justin Bieber\, Smiley\, Ariana Grande\, Enrique Iglesias\, Michael Jackson\n⚽ Ronaldo\, Messi\, Gheorghe Hagi\, Ilie Năstase\, Simona Halep\n👑 Regele Mihai\, Nicolae Ceaușescu\, Pablo Escobar\, Elon Musk\, Anthony Hopkins\, Mr. Bean\n👸 Și nu în ultimul rând\, o zonă specială cu figuri de ceară inspirate din personajele preferate ale celor mici – prințese și eroi de poveste! \nProgram:\n📅 Deschis zilnic\, pe toată durata programului de funcționare al centrului comercial. \n🎟️ Biletele pot fi achiziționate direct din zona expoziției. \nTarife: \n\nElevi\, Studenți\, Pensionari: 20 lei\nAdulți: 30 lei\nCopii până în 6 ani (însoțiți): gratuit\n\n\n📸 Vino să-ți faci selfie-ul cu celebritățile preferate și să explorezi o lume fascinantă în care ceara prinde viață!
URL:https://craiovalive.ro/eveniment/muzeul-figurilor-de-ceara/2025-04-24/
LOCATION:Promenada Mall\, Calea Severinului 61\, Craiova\, Dolj\, România
CATEGORIES:Expoziție
ATTACH;FMTTYPE=image/png:https://craiovalive.ro/wp-content/uploads/2025/04/Muzeul-Figurilor-de-Ceara-Promenada-Craiova.png
GEO:44.3487242;23.7559265
X-APPLE-STRUCTURED-LOCATION;VALUE=URI;X-ADDRESS=Promenada Mall Calea Severinului 61 Craiova Dolj România;X-APPLE-RADIUS=500;X-TITLE=Calea Severinului 61:geo:23.7559265,44.3487242
END:VEVENT
BEGIN:VEVENT
DTSTART;TZID=Europe/Bucharest:20250425T080000
DTEND;TZID=Europe/Bucharest:20250427T170000
DTSTAMP:20260424T185421
CREATED:20241214T185248Z
LAST-MODIFIED:20241214T185248Z
UID:10003769-1745568000-1745773200@craiovalive.ro
SUMMARY:Curs de conducere defensivă Craiova 2025
DESCRIPTION:Curs de Conducere Defensivă: Academia Titi Aur vine în Craiova!\n\n\nNu contează dacă deții sau nu permis de conducere. Cursul este ideal atât pentru începători\, cât și pentru șoferii cu experiență care vor să conducă în siguranța și să evite accidentele. Locurile se epuizează cu viteză neregulamentară – te sfătuim să-l rezervi pe al tău acum! \n\nAcest curs este soluția ideală pentru oricine dorește să devină un șofer mai sigur și să își reducă pe cât posibil riscul de accident. Indiferent de nivelul de experiență – fie că ești la începutul drumului ca șofer\, sau că ești un șofer experimentat\, sau că reprezinți o companie care dorește să-și protejeze angajații – cursul nostru de conducere defensivă vine în întâmpinarea ta. \n\nTehnici avansate: Înveti să anticipezi și să eviți pericolele\, crescând astfel siguranța personală și a celor din jur.\nÎncredere la volan: Dobândește cunoștințe practice esențiale pentru gestionarea eficientă a situațiilor dificile în trafic.\nReducerea riscurilor: Îmbunătățește-ți abilitățile de conducere\, reducând riscurile de accidente.\nDecizia corectă: Arată că îți pasă de siguranța și bunăstarea angajaților tăi\, sporind loialitatea și satisfacția în rândul echipei tale.\nExpertiză profesională: Beneficiezi de îndrumarea instructorilor noștri cu vastă experiență în domeniul siguranței rutiere.\n\nDetalii curs de conducere defensivă Craiova 2025: \n\n\n4 ore de curs intensiv\nCursul este conceput să te echipeze cu cunoștințe și abilități esențiale pentru a conduce în siguranță. Cursul este impărțit în două segmente: teorie și practică. \nPartea Teoretică (2 ore):\nÎn această secțiune\, vei dobândi cunoștințe fundamentale despre principiile condusului defensiv: \n\nNoțiuni despre deplasare: Vei înțelege dinamica vehiculului în mișcare și factorii care influențează stabilitatea acestuia.\nAderență: Află cum diferitele suprafețe de drum și condițiile meteorologice afectează aderența.\nAccelerare și frânare: Înveti tehnici pentru controlul eficient al vehiculului în timpul accelerării și frânării.\nTehnici de conducere defensivă: Descoperă strategii pentru a anticipa și evita pericolele de pe drum.\nPractici periculoase la volan: Înveți să identifici comportamente riscante și cum să le eviți.\n\nPartea Practică (2 ore):\nVei experimenta în condiții de siguranță diferite scenarii prin intermediul simulatoarelor noastre: \n\nSimulator de răsturnare 90 și 180 grade: Înțelegi ce însemna să te răstorni cu mașina\, după care îți dăm sfaturi practice cum să ieși în siguranță dintr-o asemenea situație.\nSimulator impact: Experimentezi impactul unui accident ușor într-un mediu controlat\, subliniind importanța utilizării centurii de siguranță și a poziției corecte la volan.\nSimulator viteză de reacție: Testează-ți timpul de reacție.\nSimularea intoxicaței alcoolice: Vezi cum influențează alcoolul abilitățile tale de reacție și înveți despre pericolele conducerii sub influența alcoolului.
URL:https://craiovalive.ro/eveniment/curs-de-conducere-defensiva-craiova-2025/
LOCATION:Dolj
CATEGORIES:Ateliere
ATTACH;FMTTYPE=image/jpeg:https://craiovalive.ro/wp-content/uploads/2024/12/Curs-de-conducere-defensiva-Craiova-aprilie-2025.jpg
END:VEVENT
BEGIN:VEVENT
DTSTART;TZID=Europe/Bucharest:20250425T090000
DTEND;TZID=Europe/Bucharest:20250425T180000
DTSTAMP:20260424T185421
CREATED:20250406T200935Z
LAST-MODIFIED:20250406T200935Z
UID:10006102-1745571600-1745604000@craiovalive.ro
SUMMARY:Expoziția Polska
DESCRIPTION:Vă invităm să descoperiți Polonia\nCare este numele celui care a descoperit că Pământul se învârte în jurul Soarelui\nCine a fost singura femeie care a câștigat două premii Nobel\,\nCine a devenit „părintele electronicii mondiale” după ce a inventat metoda creșterii monocristalelor\,\nCum se numește inventatorul care a pus bazele industriei petroliere mondiale\,\nCine a fost prima femeie care a urcat pe vârful K2\, cel mai periculos munte de pe planetă\,\nCare sunt unele dintre cele mai importante date din istoria Poloniei și ce s-a întâmplat atunci\,\nCe fel de peisaje are Polonia\nRăspunsurile la toate aceste întrebări pot fi găsite în cadrul expoziției noastre.\nEste nevoie doar de puțină curiozitate pentru a porni într-o călătorie fără să te deplasezi prea mult!
URL:https://craiovalive.ro/eveniment/expozitia-polska/2025-04-25/
LOCATION:Universitatea din Craiova\, Str. A. I. Cuza\, nr. 13\, Craiova\, Dolj\, România
CATEGORIES:Expoziție
ATTACH;FMTTYPE=image/jpeg:https://craiovalive.ro/wp-content/uploads/2025/04/Expozitia-Polska.jpg
ORGANIZER;CN="Centrul de Limb%C4%83 %C8%99i Cultur%C4%83 Polonez%C4%83 Craiova":MAILTO:clcp.craiova@gmail.com
GEO:44.3190838;23.8008038
X-APPLE-STRUCTURED-LOCATION;VALUE=URI;X-ADDRESS=Universitatea din Craiova Str. A. I. Cuza nr. 13 Craiova Dolj România;X-APPLE-RADIUS=500;X-TITLE=Str. A. I. Cuza\, nr. 13:geo:23.8008038,44.3190838
END:VEVENT
BEGIN:VEVENT
DTSTART;TZID=Europe/Bucharest:20250425T100000
DTEND;TZID=Europe/Bucharest:20250425T220000
DTSTAMP:20260424T185421
CREATED:20250417T201926Z
LAST-MODIFIED:20250417T201926Z
UID:10006138-1745575200-1745618400@craiovalive.ro
SUMMARY:Muzeul Figurilor de Ceară
DESCRIPTION:În perioada 18 aprilie – 25 mai\, Promenada Craiova găzduiește una dintre cele mai spectaculoase expoziții ale primăverii: Muzeul Figurilor de Ceară\, un univers unde celebritățile din sport\, muzică\, film și istorie prind viață… în ceară! 🕯️ \n📍 Te așteptăm la etajul 1\, în zona food court\, lângă Lefties. \nIndiferent dacă ești fan cinema\, sport sau istorie\, ai șansa să te fotografiezi alături de peste 20 de personalități internaționale și românești. Printre figurile expuse se numără:\n🎥 Jason Statham\, Jim Carrey\, Sean Connery\, Leonardo DiCaprio\, Robert De Niro\, Al Pacino\, Daniel Craig\n🎤 Justin Bieber\, Smiley\, Ariana Grande\, Enrique Iglesias\, Michael Jackson\n⚽ Ronaldo\, Messi\, Gheorghe Hagi\, Ilie Năstase\, Simona Halep\n👑 Regele Mihai\, Nicolae Ceaușescu\, Pablo Escobar\, Elon Musk\, Anthony Hopkins\, Mr. Bean\n👸 Și nu în ultimul rând\, o zonă specială cu figuri de ceară inspirate din personajele preferate ale celor mici – prințese și eroi de poveste! \nProgram:\n📅 Deschis zilnic\, pe toată durata programului de funcționare al centrului comercial. \n🎟️ Biletele pot fi achiziționate direct din zona expoziției. \nTarife: \n\nElevi\, Studenți\, Pensionari: 20 lei\nAdulți: 30 lei\nCopii până în 6 ani (însoțiți): gratuit\n\n\n📸 Vino să-ți faci selfie-ul cu celebritățile preferate și să explorezi o lume fascinantă în care ceara prinde viață!
URL:https://craiovalive.ro/eveniment/muzeul-figurilor-de-ceara/2025-04-25/
LOCATION:Promenada Mall\, Calea Severinului 61\, Craiova\, Dolj\, România
CATEGORIES:Expoziție
ATTACH;FMTTYPE=image/png:https://craiovalive.ro/wp-content/uploads/2025/04/Muzeul-Figurilor-de-Ceara-Promenada-Craiova.png
GEO:44.3487242;23.7559265
X-APPLE-STRUCTURED-LOCATION;VALUE=URI;X-ADDRESS=Promenada Mall Calea Severinului 61 Craiova Dolj România;X-APPLE-RADIUS=500;X-TITLE=Calea Severinului 61:geo:23.7559265,44.3487242
END:VEVENT
BEGIN:VEVENT
DTSTART;TZID=Europe/Bucharest:20250425T190000
DTEND;TZID=Europe/Bucharest:20250425T203000
DTSTAMP:20260424T185421
CREATED:20250307T075728Z
LAST-MODIFIED:20250307T075728Z
UID:10005681-1745607600-1745613000@craiovalive.ro
SUMMARY:O moștenire și doi nepoți
DESCRIPTION:Nepoții Zamboc nici nu realizează cum devin bogați peste noapte. Dar ce să facă ei cu o ditamai moștenirea? Nici nu contează\, dar le place acest nou statut și nu vor să renunțe la el nici în ruptul capului\, la propriu. \nViața de “proaspăt îmbogățit” nu e simplă\, cu atât mai mult cu cât împart același acoperiș cu bunica lor Angela Zamboc\, care nu e nici pe departe cea mai dulce bătrânică. \nÎnsă apare Specialistul\, un om bun la toate care mediază\, discret și fin\, conflictele.\nCe iese\, cu ce se alege fiecare\, de ce sunt capabili niște nepoței\, dar mai ales cât de efervescentă poate fi o bunicuță\, aflați venind la “ O moștenire și doi nepoți“ \nDistribuție: \nMariana Zamboc – Ana Odagiu \nCornel Zamboc – Sergiu Costache \nAngela – Maria Radu \nLeo – Silviu Mircescu \nDirecția scenică – Radu Gabriel \nText : Ana Odagiu \nProducător – Rotari Entertainment\nVârsta recomandată : +12 ani!
URL:https://craiovalive.ro/eveniment/o-mostenire-si-doi-nepoti/
LOCATION:Teatrul pentru copii și tineret Colibri\, Calea București\, nr. 56\, Craiova\, Dolj\, România
CATEGORIES:Teatru
ATTACH;FMTTYPE=image/jpeg:https://craiovalive.ro/wp-content/uploads/2025/03/O-mostenire-si-doi-nepoti.jpg
GEO:44.3151148;23.8215842
X-APPLE-STRUCTURED-LOCATION;VALUE=URI;X-ADDRESS=Teatrul pentru copii și tineret Colibri Calea București nr. 56 Craiova Dolj România;X-APPLE-RADIUS=500;X-TITLE=Calea București\, nr. 56:geo:23.8215842,44.3151148
END:VEVENT
BEGIN:VEVENT
DTSTART;TZID=Europe/Bucharest:20250425T190000
DTEND;TZID=Europe/Bucharest:20250425T210000
DTSTAMP:20260424T185421
CREATED:20250329T190654Z
LAST-MODIFIED:20250329T190654Z
UID:10006036-1745607600-1745614800@craiovalive.ro
SUMMARY:Roots Season: Stabar Mater / Pergolesi
DESCRIPTION:VINERI\, 25 APRILIE 2025\, ORA l19:00STABAT MATER – PERGOLESIORCHESTRA SIMFONICĂ A FILARMONICII „OLTENIA”DIRIJOR: ANDREI STĂNCULESCUSOLIȘTI:CRISTINA FIERARU sopranăVICTORIA GHIRVU mezzosopranăCONSTANTIN SANDU pianOLIVIA IANCU arciliutoCLAUDIU LOBONȚ arciliuto———-În program:– Giovanni Battista Pergolesi: „Stabat Mater” pentru soliști\, orchestră de coarde și orgă– Johann Sebastian Bach: Concertul nr. 1 în Re minor pentru pian și orchestră\, BWV 1052– Jean-Philippe Rameau: „Indiile galante” (selecțiuni)\n*Concert în abonament*Prețuri: 50; 15 lei
URL:https://craiovalive.ro/eveniment/roots-season-stabar-mater-pergolesi/
LOCATION:Filarmonica Oltenia\, Calea Unirii\, nr. 16\, Craiova\, Dolj\, 200585\, România
CATEGORIES:Muzică
ATTACH;FMTTYPE=image/jpeg:https://craiovalive.ro/wp-content/uploads/2025/03/Roots-Season-Stabat-Mater-Pergolesi.jpg
ORGANIZER;CN="Filarmonica Oltenia Craiova":MAILTO:secretariat@filarmonica-oltenia.ro
GEO:44.3172308;23.7944364
X-APPLE-STRUCTURED-LOCATION;VALUE=URI;X-ADDRESS=Filarmonica Oltenia Calea Unirii nr. 16 Craiova Dolj 200585 România;X-APPLE-RADIUS=500;X-TITLE=Calea Unirii\, nr. 16:geo:23.7944364,44.3172308
END:VEVENT
BEGIN:VEVENT
DTSTART;TZID=Europe/Bucharest:20250425T200000
DTEND;TZID=Europe/Bucharest:20250425T220000
DTSTAMP:20260424T185421
CREATED:20250331T165248Z
LAST-MODIFIED:20250331T165248Z
UID:10006046-1745611200-1745618400@craiovalive.ro
SUMMARY:Revolter | Lansare album Parte din proces
DESCRIPTION:Revolter – Lansare album ” Parte din Proces” \nAtenție\, iubitori de metal! Vi se pregătește o seară de headbanging și moshpit la Craiova ! Revolter lanseaza un nou album –  „Parte din Proces” Cu sunet exploziv și prezență scenică electrizantă\, băieții de la Revolter sunt pregătiți de un concert epic!\nIndiferent dacă ești un fan al trupei sau doar ai auzit recent de ea\, acesta este un concert pe care nu trebuie să-l ratezi! Adună-ți gașca\, pune-ți tricoul cu Revolter și pregătește-te de nebunie. \nBiletele se vând rapid\, așa că asigură-ți acum locul și pregătește-te să vezi cum sună viitorul muzicii metal.\nNe vedem la concert! \n𝐑𝐞𝐯𝐨𝐥𝐭𝐞𝐫 lansează cel de-al doilea album și vine la Craiova pentru un concert plin de energie. Vino să faci parte din proces și să te bucuri de o seară de metal adevărat\, care marchează începutul unei noi etape pentru 𝐑𝐞𝐯𝐨𝐥𝐭𝐞𝐫!\n Data: 𝟐𝟓 𝐚𝐩𝐫𝐢𝐥𝐢𝐞 𝟐𝟎𝟐𝟓 Locația: Cinema Patria\, Craiova Ora: 20:00Open doors: 19:00\n Distribuie evenimentul și invită-ți prietenii! 
URL:https://craiovalive.ro/eveniment/revolter-lansare-album-parte-din-proces/
LOCATION:Dolj
CATEGORIES:Muzică
ATTACH;FMTTYPE=image/jpeg:https://craiovalive.ro/wp-content/uploads/2025/03/Revolter-Lansare-album-Parte-din-proces.jpg
END:VEVENT
BEGIN:VEVENT
DTSTART;TZID=Europe/Bucharest:20250426T090000
DTEND;TZID=Europe/Bucharest:20250426T180000
DTSTAMP:20260424T185421
CREATED:20250406T200935Z
LAST-MODIFIED:20250406T200935Z
UID:10006103-1745658000-1745690400@craiovalive.ro
SUMMARY:Expoziția Polska
DESCRIPTION:Vă invităm să descoperiți Polonia\nCare este numele celui care a descoperit că Pământul se învârte în jurul Soarelui\nCine a fost singura femeie care a câștigat două premii Nobel\,\nCine a devenit „părintele electronicii mondiale” după ce a inventat metoda creșterii monocristalelor\,\nCum se numește inventatorul care a pus bazele industriei petroliere mondiale\,\nCine a fost prima femeie care a urcat pe vârful K2\, cel mai periculos munte de pe planetă\,\nCare sunt unele dintre cele mai importante date din istoria Poloniei și ce s-a întâmplat atunci\,\nCe fel de peisaje are Polonia\nRăspunsurile la toate aceste întrebări pot fi găsite în cadrul expoziției noastre.\nEste nevoie doar de puțină curiozitate pentru a porni într-o călătorie fără să te deplasezi prea mult!
URL:https://craiovalive.ro/eveniment/expozitia-polska/2025-04-26/
LOCATION:Universitatea din Craiova\, Str. A. I. Cuza\, nr. 13\, Craiova\, Dolj\, România
CATEGORIES:Expoziție
ATTACH;FMTTYPE=image/jpeg:https://craiovalive.ro/wp-content/uploads/2025/04/Expozitia-Polska.jpg
ORGANIZER;CN="Centrul de Limb%C4%83 %C8%99i Cultur%C4%83 Polonez%C4%83 Craiova":MAILTO:clcp.craiova@gmail.com
GEO:44.3190838;23.8008038
X-APPLE-STRUCTURED-LOCATION;VALUE=URI;X-ADDRESS=Universitatea din Craiova Str. A. I. Cuza nr. 13 Craiova Dolj România;X-APPLE-RADIUS=500;X-TITLE=Str. A. I. Cuza\, nr. 13:geo:23.8008038,44.3190838
END:VEVENT
BEGIN:VEVENT
DTSTART;TZID=Europe/Bucharest:20250426T100000
DTEND;TZID=Europe/Bucharest:20250426T220000
DTSTAMP:20260424T185421
CREATED:20250417T201926Z
LAST-MODIFIED:20250417T201926Z
UID:10006139-1745661600-1745704800@craiovalive.ro
SUMMARY:Muzeul Figurilor de Ceară
DESCRIPTION:În perioada 18 aprilie – 25 mai\, Promenada Craiova găzduiește una dintre cele mai spectaculoase expoziții ale primăverii: Muzeul Figurilor de Ceară\, un univers unde celebritățile din sport\, muzică\, film și istorie prind viață… în ceară! 🕯️ \n📍 Te așteptăm la etajul 1\, în zona food court\, lângă Lefties. \nIndiferent dacă ești fan cinema\, sport sau istorie\, ai șansa să te fotografiezi alături de peste 20 de personalități internaționale și românești. Printre figurile expuse se numără:\n🎥 Jason Statham\, Jim Carrey\, Sean Connery\, Leonardo DiCaprio\, Robert De Niro\, Al Pacino\, Daniel Craig\n🎤 Justin Bieber\, Smiley\, Ariana Grande\, Enrique Iglesias\, Michael Jackson\n⚽ Ronaldo\, Messi\, Gheorghe Hagi\, Ilie Năstase\, Simona Halep\n👑 Regele Mihai\, Nicolae Ceaușescu\, Pablo Escobar\, Elon Musk\, Anthony Hopkins\, Mr. Bean\n👸 Și nu în ultimul rând\, o zonă specială cu figuri de ceară inspirate din personajele preferate ale celor mici – prințese și eroi de poveste! \nProgram:\n📅 Deschis zilnic\, pe toată durata programului de funcționare al centrului comercial. \n🎟️ Biletele pot fi achiziționate direct din zona expoziției. \nTarife: \n\nElevi\, Studenți\, Pensionari: 20 lei\nAdulți: 30 lei\nCopii până în 6 ani (însoțiți): gratuit\n\n\n📸 Vino să-ți faci selfie-ul cu celebritățile preferate și să explorezi o lume fascinantă în care ceara prinde viață!
URL:https://craiovalive.ro/eveniment/muzeul-figurilor-de-ceara/2025-04-26/
LOCATION:Promenada Mall\, Calea Severinului 61\, Craiova\, Dolj\, România
CATEGORIES:Expoziție
ATTACH;FMTTYPE=image/png:https://craiovalive.ro/wp-content/uploads/2025/04/Muzeul-Figurilor-de-Ceara-Promenada-Craiova.png
GEO:44.3487242;23.7559265
X-APPLE-STRUCTURED-LOCATION;VALUE=URI;X-ADDRESS=Promenada Mall Calea Severinului 61 Craiova Dolj România;X-APPLE-RADIUS=500;X-TITLE=Calea Severinului 61:geo:23.7559265,44.3487242
END:VEVENT
BEGIN:VEVENT
DTSTART;TZID=Europe/Bucharest:20250426T200000
DTEND;TZID=Europe/Bucharest:20250426T220000
DTSTAMP:20260424T185421
CREATED:20250331T165512Z
LAST-MODIFIED:20250331T165512Z
UID:10006047-1745697600-1745704800@craiovalive.ro
SUMMARY:Concert Dragonu AKA 47
DESCRIPTION:Dragonu iși lansează cel de al 2 lea album solo\, o combinatie de rap clasic cu sunet experimental și lirici complexe.\nInvitat: Dj Al*bu\nOpen Act: CashFlow23\n\nCinema Patria\, Craiova\n\nSâmbătă\, 26 aprilie\nOpen Doors: 20:00
URL:https://craiovalive.ro/eveniment/concert-dragonu-aka-47/
LOCATION:Dolj
CATEGORIES:Muzică
ATTACH;FMTTYPE=image/jpeg:https://craiovalive.ro/wp-content/uploads/2025/03/Concert-Dragonu-AKA-47.jpg
END:VEVENT
BEGIN:VEVENT
DTSTART;TZID=Europe/Bucharest:20250426T220000
DTEND;TZID=Europe/Bucharest:20250427T020000
DTSTAMP:20260424T185421
CREATED:20250414T132411Z
LAST-MODIFIED:20250505T092350Z
UID:10006130-1745704800-1745719200@craiovalive.ro
SUMMARY:☆ Le Petit – Pays de Merveille ☆ MINA Pop-Up Museum Craiova
DESCRIPTION:☆ Le Petit – Pays de Merveille ☆MINA Pop-Up Museum – Craiova | 26.04.2025\nLe Petit lands in Craiova for the very first time – and it’s going to be unforgettable!\nStep into a world of pure magic where imagination knows no limits. Get ready to lose yourself in breathtaking visuals\, electrifying beats\, and an atmosphere straight out of a dream.\nThis isn’t just a party — it’s an experience you’ll never forget.\nLine-up:MARCO GENERANI | ANDREW DUM | BIG P – bringing the sound of wonder straight to your soul!\nDon’t miss your chance to be part of this epic night!\nEvent Details: Date: April 26\, 2025 Location: Mina Pop-Up Museum\, Craiova\nGather your crew\, dress to impress\, and let the magic unfold! See you in the land of wonders! 
URL:https://craiovalive.ro/eveniment/%e2%98%86-le-petit-pays-de-merveille-%e2%98%86-mina-pop-up-museum-craiova/
LOCATION:MINA Pop-Up Craiova\, Bulevard Ilie Balaci nr. 6 (lângă Sala Polivalentă)\, Craiova\, Dolj\, 200920\, România
CATEGORIES:Party
ATTACH;FMTTYPE=image/jpeg:https://craiovalive.ro/wp-content/uploads/2025/04/Le-Petit-–-Pays-de-Merveille-MINA-Pop-Up-Museum-Craiova.jpg
GEO:44.313128875204;23.787296767497
X-APPLE-STRUCTURED-LOCATION;VALUE=URI;X-ADDRESS=MINA Pop-Up Craiova Bulevard Ilie Balaci nr. 6 (lângă Sala Polivalentă) Craiova Dolj 200920 România;X-APPLE-RADIUS=500;X-TITLE=Bulevard Ilie Balaci nr. 6 (lângă Sala Polivalentă):geo:23.787296767497,44.313128875204
END:VEVENT
BEGIN:VEVENT
DTSTART;TZID=Europe/Bucharest:20250427T090000
DTEND;TZID=Europe/Bucharest:20250427T180000
DTSTAMP:20260424T185421
CREATED:20250406T200935Z
LAST-MODIFIED:20250406T200935Z
UID:10006104-1745744400-1745776800@craiovalive.ro
SUMMARY:Expoziția Polska
DESCRIPTION:Vă invităm să descoperiți Polonia\nCare este numele celui care a descoperit că Pământul se învârte în jurul Soarelui\nCine a fost singura femeie care a câștigat două premii Nobel\,\nCine a devenit „părintele electronicii mondiale” după ce a inventat metoda creșterii monocristalelor\,\nCum se numește inventatorul care a pus bazele industriei petroliere mondiale\,\nCine a fost prima femeie care a urcat pe vârful K2\, cel mai periculos munte de pe planetă\,\nCare sunt unele dintre cele mai importante date din istoria Poloniei și ce s-a întâmplat atunci\,\nCe fel de peisaje are Polonia\nRăspunsurile la toate aceste întrebări pot fi găsite în cadrul expoziției noastre.\nEste nevoie doar de puțină curiozitate pentru a porni într-o călătorie fără să te deplasezi prea mult!
URL:https://craiovalive.ro/eveniment/expozitia-polska/2025-04-27/
LOCATION:Universitatea din Craiova\, Str. A. I. Cuza\, nr. 13\, Craiova\, Dolj\, România
CATEGORIES:Expoziție
ATTACH;FMTTYPE=image/jpeg:https://craiovalive.ro/wp-content/uploads/2025/04/Expozitia-Polska.jpg
ORGANIZER;CN="Centrul de Limb%C4%83 %C8%99i Cultur%C4%83 Polonez%C4%83 Craiova":MAILTO:clcp.craiova@gmail.com
GEO:44.3190838;23.8008038
X-APPLE-STRUCTURED-LOCATION;VALUE=URI;X-ADDRESS=Universitatea din Craiova Str. A. I. Cuza nr. 13 Craiova Dolj România;X-APPLE-RADIUS=500;X-TITLE=Str. A. I. Cuza\, nr. 13:geo:23.8008038,44.3190838
END:VEVENT
BEGIN:VEVENT
DTSTART;TZID=Europe/Bucharest:20250427T100000
DTEND;TZID=Europe/Bucharest:20250427T130000
DTSTAMP:20260424T185421
CREATED:20250418T191534Z
LAST-MODIFIED:20250418T191534Z
UID:10006173-1745748000-1745758800@craiovalive.ro
SUMMARY:Paradă pentru conștientizarea motocicliștilor în trafic
DESCRIPTION: PARADĂ PENTRU CONȘTIENTIZAREA MOTOCICLIȘTILOR ÎN TRAFIC \nOltenia Bikers\, alături de Ride&Ride Dolj și Blue Knights\, te invită la un eveniment special dedicat siguranței și vizibilității motocicliștilor în trafic!Hai să arătăm împreună că suntem prezenți și merităm respect pe șosele!\n Locație: Esplanada Teatrului Național „Marin Sorescu” – Craiova Întâlnirea: ora 10:00 Plecarea paradei: ora 11:00\n Data: 27.04.2025 Scop: Creșterea conștientizării prezenței motocicliștilor în trafic și promovarea unui comportament responsabil.\nVino cu gașca ta\, cu motorul sau cu inima deschisă!Împreună facem diferența!
URL:https://craiovalive.ro/eveniment/parada-pentru-constientizarea-motociclistilor-in-trafic/
LOCATION:Piața William Shakespeare\, Craiova\, Dolj\, România
ATTACH;FMTTYPE=image/jpeg:https://craiovalive.ro/wp-content/uploads/2025/04/Parada-pentru-constientizarea-motociclistilor-in-trafic.jpg
GEO:44.318785855099;23.798363497388
END:VEVENT
BEGIN:VEVENT
DTSTART;TZID=Europe/Bucharest:20250427T100000
DTEND;TZID=Europe/Bucharest:20250427T220000
DTSTAMP:20260424T185421
CREATED:20250417T201926Z
LAST-MODIFIED:20250417T201926Z
UID:10006140-1745748000-1745791200@craiovalive.ro
SUMMARY:Muzeul Figurilor de Ceară
DESCRIPTION:În perioada 18 aprilie – 25 mai\, Promenada Craiova găzduiește una dintre cele mai spectaculoase expoziții ale primăverii: Muzeul Figurilor de Ceară\, un univers unde celebritățile din sport\, muzică\, film și istorie prind viață… în ceară! 🕯️ \n📍 Te așteptăm la etajul 1\, în zona food court\, lângă Lefties. \nIndiferent dacă ești fan cinema\, sport sau istorie\, ai șansa să te fotografiezi alături de peste 20 de personalități internaționale și românești. Printre figurile expuse se numără:\n🎥 Jason Statham\, Jim Carrey\, Sean Connery\, Leonardo DiCaprio\, Robert De Niro\, Al Pacino\, Daniel Craig\n🎤 Justin Bieber\, Smiley\, Ariana Grande\, Enrique Iglesias\, Michael Jackson\n⚽ Ronaldo\, Messi\, Gheorghe Hagi\, Ilie Năstase\, Simona Halep\n👑 Regele Mihai\, Nicolae Ceaușescu\, Pablo Escobar\, Elon Musk\, Anthony Hopkins\, Mr. Bean\n👸 Și nu în ultimul rând\, o zonă specială cu figuri de ceară inspirate din personajele preferate ale celor mici – prințese și eroi de poveste! \nProgram:\n📅 Deschis zilnic\, pe toată durata programului de funcționare al centrului comercial. \n🎟️ Biletele pot fi achiziționate direct din zona expoziției. \nTarife: \n\nElevi\, Studenți\, Pensionari: 20 lei\nAdulți: 30 lei\nCopii până în 6 ani (însoțiți): gratuit\n\n\n📸 Vino să-ți faci selfie-ul cu celebritățile preferate și să explorezi o lume fascinantă în care ceara prinde viață!
URL:https://craiovalive.ro/eveniment/muzeul-figurilor-de-ceara/2025-04-27/
LOCATION:Promenada Mall\, Calea Severinului 61\, Craiova\, Dolj\, România
CATEGORIES:Expoziție
ATTACH;FMTTYPE=image/png:https://craiovalive.ro/wp-content/uploads/2025/04/Muzeul-Figurilor-de-Ceara-Promenada-Craiova.png
GEO:44.3487242;23.7559265
X-APPLE-STRUCTURED-LOCATION;VALUE=URI;X-ADDRESS=Promenada Mall Calea Severinului 61 Craiova Dolj România;X-APPLE-RADIUS=500;X-TITLE=Calea Severinului 61:geo:23.7559265,44.3487242
END:VEVENT
END:VCALENDAR