BEGIN:VCALENDAR
VERSION:2.0
PRODID:-//Craiova Live - ECPv6.15.18//NONSGML v1.0//EN
CALSCALE:GREGORIAN
METHOD:PUBLISH
X-ORIGINAL-URL:https://craiovalive.ro
X-WR-CALDESC:Evenimente pentru Craiova Live
REFRESH-INTERVAL;VALUE=DURATION:PT1H
X-Robots-Tag:noindex
X-PUBLISHED-TTL:PT1H
BEGIN:VTIMEZONE
TZID:Europe/Bucharest
BEGIN:DAYLIGHT
TZOFFSETFROM:+0200
TZOFFSETTO:+0300
TZNAME:EEST
DTSTART:20250330T010000
END:DAYLIGHT
BEGIN:STANDARD
TZOFFSETFROM:+0300
TZOFFSETTO:+0200
TZNAME:EET
DTSTART:20251026T010000
END:STANDARD
BEGIN:DAYLIGHT
TZOFFSETFROM:+0200
TZOFFSETTO:+0300
TZNAME:EEST
DTSTART:20260329T010000
END:DAYLIGHT
BEGIN:STANDARD
TZOFFSETFROM:+0300
TZOFFSETTO:+0200
TZNAME:EET
DTSTART:20261025T010000
END:STANDARD
BEGIN:DAYLIGHT
TZOFFSETFROM:+0200
TZOFFSETTO:+0300
TZNAME:EEST
DTSTART:20270328T010000
END:DAYLIGHT
BEGIN:STANDARD
TZOFFSETFROM:+0300
TZOFFSETTO:+0200
TZNAME:EET
DTSTART:20271031T010000
END:STANDARD
END:VTIMEZONE
BEGIN:VEVENT
DTSTART;TZID=Europe/Bucharest:20260424T093000
DTEND;TZID=Europe/Bucharest:20260424T173000
DTSTAMP:20260423T193743
CREATED:20260423T121747Z
LAST-MODIFIED:20260423T121851Z
UID:10014599-1777023000-1777051800@craiovalive.ro
SUMMARY:Zilele Porților Deschise la BNR
DESCRIPTION:Banca Națională a României invită publicul la o nouă ediție a evenimentului „Zilele Porților Deschise”! \nPentru a marca împlinirea a 146 de ani de la înființare\, Banca Națională a României – sucursala Dolj deschide porțile sediului din Craiova\, Calea Unirii\, nr. 6\, în perioada 23-24 aprilie 2026\, între orele 09:30 și 17:30. Publicul vizitator va avea șansa de a admira interiorul clădirii de patrimoniu\, dar și de a admira secțiuni expoziționale dedicate începuturilor monedei naționale\, istoriei bancnotelor românești\, precum și istoriei tezaurului BNR evacuat la Moscova în timpul Primului Război Mondial. \nEvenimentul se va desfășura\, în aceeași perioadă\, atât la sediul central din București\, cât și în mai multe sucursale și agenții BNR din teritoriu\, care vor fi deschise publicului (sucursalele regionale Cluj\, Iași\, Timiș; agențiile Argeș\, Bacău\, Brăila\, Buzău\, Gorj\, Maramureș\, Mureș\, Prahova\, Sibiu\, Suceava). \nVă așteptăm! \n\nDetalii despre clădire\, aici.
URL:https://craiovalive.ro/eveniment/zilele-portilor-deschise-la-bnr/2026-04-24/
CATEGORIES:Expoziție
ATTACH;FMTTYPE=image/jpeg:https://craiovalive.ro/wp-content/uploads/2026/04/Zilele-Portilor-Deschise-la-BNR.jpg
END:VEVENT
END:VCALENDAR