BEGIN:VCALENDAR
VERSION:2.0
PRODID:-//Craiova Live - ECPv6.15.18//NONSGML v1.0//EN
CALSCALE:GREGORIAN
METHOD:PUBLISH
X-WR-CALNAME:Craiova Live
X-ORIGINAL-URL:https://craiovalive.ro
X-WR-CALDESC:Evenimente pentru Craiova Live
REFRESH-INTERVAL;VALUE=DURATION:PT1H
X-Robots-Tag:noindex
X-PUBLISHED-TTL:PT1H
BEGIN:VTIMEZONE
TZID:Europe/Bucharest
BEGIN:DAYLIGHT
TZOFFSETFROM:+0200
TZOFFSETTO:+0300
TZNAME:EEST
DTSTART:20250330T010000
END:DAYLIGHT
BEGIN:STANDARD
TZOFFSETFROM:+0300
TZOFFSETTO:+0200
TZNAME:EET
DTSTART:20251026T010000
END:STANDARD
BEGIN:DAYLIGHT
TZOFFSETFROM:+0200
TZOFFSETTO:+0300
TZNAME:EEST
DTSTART:20260329T010000
END:DAYLIGHT
BEGIN:STANDARD
TZOFFSETFROM:+0300
TZOFFSETTO:+0200
TZNAME:EET
DTSTART:20261025T010000
END:STANDARD
BEGIN:DAYLIGHT
TZOFFSETFROM:+0200
TZOFFSETTO:+0300
TZNAME:EEST
DTSTART:20270328T010000
END:DAYLIGHT
BEGIN:STANDARD
TZOFFSETFROM:+0300
TZOFFSETTO:+0200
TZNAME:EET
DTSTART:20271031T010000
END:STANDARD
END:VTIMEZONE
BEGIN:VEVENT
DTSTART;TZID=Europe/Bucharest:20260427T120000
DTEND;TZID=Europe/Bucharest:20260427T170000
DTSTAMP:20260424T222145
CREATED:20260424T143906Z
LAST-MODIFIED:20260424T143906Z
UID:10014620-1777291200-1777309200@craiovalive.ro
SUMMARY:Expoziție de pictură "Arta seniorilor"
DESCRIPTION:Centrul Judeţean de Cultură și Artă Dolj – Secția pentru Conservarea şi Promovarea Culturii Tradiţionale vernisează luni\, 27 aprilie 2026\, ora 12:00\, la Galeriile „Cromatic“\, expoziția de pictură „Arta seniorilor“\, realizată de creativii beneficiari ai Centrului pentru persoane vârstnice „Sfinții Doctori fără de arginți Cosma și Damian“ din cadrul Arhiepiscopiei Craiova. \nExpoziția „Arta seniorilor“ a prins contur în atelierul de pictură al Centrului „Sfinții Doctori fără de arginți Cosma și Damian“\, coordonat de artistul plastic Florin Grădinaru. \nFiecare lucrare în parte este dovada că visele te însoțesc până le lași să se împlinească. Pictura le-a dat libertatea să fie creativi\, să se bucure de călătoria prin lumea formelor și culorilor\, să petreacă timp împreună\, să împărtășească idei. \nPicturile seniorilor vor putea fi admirate la Galeriile „Cromatic“\, de pe strada Alexandru Macedonski 28\, până joi\, 7 mai 2026. Intrarea este liberă.
URL:https://craiovalive.ro/eveniment/expozitie-de-pictura-arta-seniorilor/2026-04-27/
LOCATION:Galeriile Cromatic\, str. Al. Macedonski\, nr. 28\, Craiova\, Dolj\, România
CATEGORIES:Expoziție,Pictura
ATTACH;FMTTYPE=image/jpeg:https://craiovalive.ro/wp-content/uploads/2026/04/Expozitia-de-pictura-Arta-seniorilor.jpg
ORGANIZER;CN="Centrul Jude%C8%9Bean de Cultur%C4%83 %C8%99i Art%C4%83 Dolj - Sec%C8%9Bia pentru Conservarea %C5%9Fi Promovarea Culturii Tradi%C8%9Bionale Dolj":MAILTO:ccpdolj@yahoo.com
GEO:44.312816218541;23.800203213591
X-APPLE-STRUCTURED-LOCATION;VALUE=URI;X-ADDRESS=Galeriile Cromatic str. Al. Macedonski nr. 28 Craiova Dolj România;X-APPLE-RADIUS=500;X-TITLE=str. Al. Macedonski\, nr. 28:geo:23.800203213591,44.312816218541
END:VEVENT
BEGIN:VEVENT
DTSTART;TZID=Europe/Bucharest:20260428T090000
DTEND;TZID=Europe/Bucharest:20260428T170000
DTSTAMP:20260424T222145
CREATED:20260424T143906Z
LAST-MODIFIED:20260424T143906Z
UID:10014621-1777366800-1777395600@craiovalive.ro
SUMMARY:Expoziție de pictură "Arta seniorilor"
DESCRIPTION:Centrul Judeţean de Cultură și Artă Dolj – Secția pentru Conservarea şi Promovarea Culturii Tradiţionale vernisează luni\, 27 aprilie 2026\, ora 12:00\, la Galeriile „Cromatic“\, expoziția de pictură „Arta seniorilor“\, realizată de creativii beneficiari ai Centrului pentru persoane vârstnice „Sfinții Doctori fără de arginți Cosma și Damian“ din cadrul Arhiepiscopiei Craiova. \nExpoziția „Arta seniorilor“ a prins contur în atelierul de pictură al Centrului „Sfinții Doctori fără de arginți Cosma și Damian“\, coordonat de artistul plastic Florin Grădinaru. \nFiecare lucrare în parte este dovada că visele te însoțesc până le lași să se împlinească. Pictura le-a dat libertatea să fie creativi\, să se bucure de călătoria prin lumea formelor și culorilor\, să petreacă timp împreună\, să împărtășească idei. \nPicturile seniorilor vor putea fi admirate la Galeriile „Cromatic“\, de pe strada Alexandru Macedonski 28\, până joi\, 7 mai 2026. Intrarea este liberă.
URL:https://craiovalive.ro/eveniment/expozitie-de-pictura-arta-seniorilor/2026-04-28/
LOCATION:Galeriile Cromatic\, str. Al. Macedonski\, nr. 28\, Craiova\, Dolj\, România
CATEGORIES:Expoziție,Pictura
ATTACH;FMTTYPE=image/jpeg:https://craiovalive.ro/wp-content/uploads/2026/04/Expozitia-de-pictura-Arta-seniorilor.jpg
ORGANIZER;CN="Centrul Jude%C8%9Bean de Cultur%C4%83 %C8%99i Art%C4%83 Dolj - Sec%C8%9Bia pentru Conservarea %C5%9Fi Promovarea Culturii Tradi%C8%9Bionale Dolj":MAILTO:ccpdolj@yahoo.com
GEO:44.312816218541;23.800203213591
X-APPLE-STRUCTURED-LOCATION;VALUE=URI;X-ADDRESS=Galeriile Cromatic str. Al. Macedonski nr. 28 Craiova Dolj România;X-APPLE-RADIUS=500;X-TITLE=str. Al. Macedonski\, nr. 28:geo:23.800203213591,44.312816218541
END:VEVENT
BEGIN:VEVENT
DTSTART;TZID=Europe/Bucharest:20260429T090000
DTEND;TZID=Europe/Bucharest:20260429T170000
DTSTAMP:20260424T222145
CREATED:20260424T143906Z
LAST-MODIFIED:20260424T143906Z
UID:10014622-1777453200-1777482000@craiovalive.ro
SUMMARY:Expoziție de pictură "Arta seniorilor"
DESCRIPTION:Centrul Judeţean de Cultură și Artă Dolj – Secția pentru Conservarea şi Promovarea Culturii Tradiţionale vernisează luni\, 27 aprilie 2026\, ora 12:00\, la Galeriile „Cromatic“\, expoziția de pictură „Arta seniorilor“\, realizată de creativii beneficiari ai Centrului pentru persoane vârstnice „Sfinții Doctori fără de arginți Cosma și Damian“ din cadrul Arhiepiscopiei Craiova. \nExpoziția „Arta seniorilor“ a prins contur în atelierul de pictură al Centrului „Sfinții Doctori fără de arginți Cosma și Damian“\, coordonat de artistul plastic Florin Grădinaru. \nFiecare lucrare în parte este dovada că visele te însoțesc până le lași să se împlinească. Pictura le-a dat libertatea să fie creativi\, să se bucure de călătoria prin lumea formelor și culorilor\, să petreacă timp împreună\, să împărtășească idei. \nPicturile seniorilor vor putea fi admirate la Galeriile „Cromatic“\, de pe strada Alexandru Macedonski 28\, până joi\, 7 mai 2026. Intrarea este liberă.
URL:https://craiovalive.ro/eveniment/expozitie-de-pictura-arta-seniorilor/2026-04-29/
LOCATION:Galeriile Cromatic\, str. Al. Macedonski\, nr. 28\, Craiova\, Dolj\, România
CATEGORIES:Expoziție,Pictura
ATTACH;FMTTYPE=image/jpeg:https://craiovalive.ro/wp-content/uploads/2026/04/Expozitia-de-pictura-Arta-seniorilor.jpg
ORGANIZER;CN="Centrul Jude%C8%9Bean de Cultur%C4%83 %C8%99i Art%C4%83 Dolj - Sec%C8%9Bia pentru Conservarea %C5%9Fi Promovarea Culturii Tradi%C8%9Bionale Dolj":MAILTO:ccpdolj@yahoo.com
GEO:44.312816218541;23.800203213591
X-APPLE-STRUCTURED-LOCATION;VALUE=URI;X-ADDRESS=Galeriile Cromatic str. Al. Macedonski nr. 28 Craiova Dolj România;X-APPLE-RADIUS=500;X-TITLE=str. Al. Macedonski\, nr. 28:geo:23.800203213591,44.312816218541
END:VEVENT
BEGIN:VEVENT
DTSTART;TZID=Europe/Bucharest:20260430T090000
DTEND;TZID=Europe/Bucharest:20260430T170000
DTSTAMP:20260424T222145
CREATED:20260424T143906Z
LAST-MODIFIED:20260424T143906Z
UID:10014623-1777539600-1777568400@craiovalive.ro
SUMMARY:Expoziție de pictură "Arta seniorilor"
DESCRIPTION:Centrul Judeţean de Cultură și Artă Dolj – Secția pentru Conservarea şi Promovarea Culturii Tradiţionale vernisează luni\, 27 aprilie 2026\, ora 12:00\, la Galeriile „Cromatic“\, expoziția de pictură „Arta seniorilor“\, realizată de creativii beneficiari ai Centrului pentru persoane vârstnice „Sfinții Doctori fără de arginți Cosma și Damian“ din cadrul Arhiepiscopiei Craiova. \nExpoziția „Arta seniorilor“ a prins contur în atelierul de pictură al Centrului „Sfinții Doctori fără de arginți Cosma și Damian“\, coordonat de artistul plastic Florin Grădinaru. \nFiecare lucrare în parte este dovada că visele te însoțesc până le lași să se împlinească. Pictura le-a dat libertatea să fie creativi\, să se bucure de călătoria prin lumea formelor și culorilor\, să petreacă timp împreună\, să împărtășească idei. \nPicturile seniorilor vor putea fi admirate la Galeriile „Cromatic“\, de pe strada Alexandru Macedonski 28\, până joi\, 7 mai 2026. Intrarea este liberă.
URL:https://craiovalive.ro/eveniment/expozitie-de-pictura-arta-seniorilor/2026-04-30/
LOCATION:Galeriile Cromatic\, str. Al. Macedonski\, nr. 28\, Craiova\, Dolj\, România
CATEGORIES:Expoziție,Pictura
ATTACH;FMTTYPE=image/jpeg:https://craiovalive.ro/wp-content/uploads/2026/04/Expozitia-de-pictura-Arta-seniorilor.jpg
ORGANIZER;CN="Centrul Jude%C8%9Bean de Cultur%C4%83 %C8%99i Art%C4%83 Dolj - Sec%C8%9Bia pentru Conservarea %C5%9Fi Promovarea Culturii Tradi%C8%9Bionale Dolj":MAILTO:ccpdolj@yahoo.com
GEO:44.312816218541;23.800203213591
X-APPLE-STRUCTURED-LOCATION;VALUE=URI;X-ADDRESS=Galeriile Cromatic str. Al. Macedonski nr. 28 Craiova Dolj România;X-APPLE-RADIUS=500;X-TITLE=str. Al. Macedonski\, nr. 28:geo:23.800203213591,44.312816218541
END:VEVENT
BEGIN:VEVENT
DTSTART;TZID=Europe/Bucharest:20260501T090000
DTEND;TZID=Europe/Bucharest:20260501T170000
DTSTAMP:20260424T222145
CREATED:20260424T143906Z
LAST-MODIFIED:20260424T143906Z
UID:10014624-1777626000-1777654800@craiovalive.ro
SUMMARY:Expoziție de pictură "Arta seniorilor"
DESCRIPTION:Centrul Judeţean de Cultură și Artă Dolj – Secția pentru Conservarea şi Promovarea Culturii Tradiţionale vernisează luni\, 27 aprilie 2026\, ora 12:00\, la Galeriile „Cromatic“\, expoziția de pictură „Arta seniorilor“\, realizată de creativii beneficiari ai Centrului pentru persoane vârstnice „Sfinții Doctori fără de arginți Cosma și Damian“ din cadrul Arhiepiscopiei Craiova. \nExpoziția „Arta seniorilor“ a prins contur în atelierul de pictură al Centrului „Sfinții Doctori fără de arginți Cosma și Damian“\, coordonat de artistul plastic Florin Grădinaru. \nFiecare lucrare în parte este dovada că visele te însoțesc până le lași să se împlinească. Pictura le-a dat libertatea să fie creativi\, să se bucure de călătoria prin lumea formelor și culorilor\, să petreacă timp împreună\, să împărtășească idei. \nPicturile seniorilor vor putea fi admirate la Galeriile „Cromatic“\, de pe strada Alexandru Macedonski 28\, până joi\, 7 mai 2026. Intrarea este liberă.
URL:https://craiovalive.ro/eveniment/expozitie-de-pictura-arta-seniorilor/2026-05-01/
LOCATION:Galeriile Cromatic\, str. Al. Macedonski\, nr. 28\, Craiova\, Dolj\, România
CATEGORIES:Expoziție,Pictura
ATTACH;FMTTYPE=image/jpeg:https://craiovalive.ro/wp-content/uploads/2026/04/Expozitia-de-pictura-Arta-seniorilor.jpg
ORGANIZER;CN="Centrul Jude%C8%9Bean de Cultur%C4%83 %C8%99i Art%C4%83 Dolj - Sec%C8%9Bia pentru Conservarea %C5%9Fi Promovarea Culturii Tradi%C8%9Bionale Dolj":MAILTO:ccpdolj@yahoo.com
GEO:44.312816218541;23.800203213591
X-APPLE-STRUCTURED-LOCATION;VALUE=URI;X-ADDRESS=Galeriile Cromatic str. Al. Macedonski nr. 28 Craiova Dolj România;X-APPLE-RADIUS=500;X-TITLE=str. Al. Macedonski\, nr. 28:geo:23.800203213591,44.312816218541
END:VEVENT
BEGIN:VEVENT
DTSTART;TZID=Europe/Bucharest:20260504T090000
DTEND;TZID=Europe/Bucharest:20260504T170000
DTSTAMP:20260424T222145
CREATED:20260424T143906Z
LAST-MODIFIED:20260424T143906Z
UID:10014625-1777885200-1777914000@craiovalive.ro
SUMMARY:Expoziție de pictură "Arta seniorilor"
DESCRIPTION:Centrul Judeţean de Cultură și Artă Dolj – Secția pentru Conservarea şi Promovarea Culturii Tradiţionale vernisează luni\, 27 aprilie 2026\, ora 12:00\, la Galeriile „Cromatic“\, expoziția de pictură „Arta seniorilor“\, realizată de creativii beneficiari ai Centrului pentru persoane vârstnice „Sfinții Doctori fără de arginți Cosma și Damian“ din cadrul Arhiepiscopiei Craiova. \nExpoziția „Arta seniorilor“ a prins contur în atelierul de pictură al Centrului „Sfinții Doctori fără de arginți Cosma și Damian“\, coordonat de artistul plastic Florin Grădinaru. \nFiecare lucrare în parte este dovada că visele te însoțesc până le lași să se împlinească. Pictura le-a dat libertatea să fie creativi\, să se bucure de călătoria prin lumea formelor și culorilor\, să petreacă timp împreună\, să împărtășească idei. \nPicturile seniorilor vor putea fi admirate la Galeriile „Cromatic“\, de pe strada Alexandru Macedonski 28\, până joi\, 7 mai 2026. Intrarea este liberă.
URL:https://craiovalive.ro/eveniment/expozitie-de-pictura-arta-seniorilor/2026-05-04/
LOCATION:Galeriile Cromatic\, str. Al. Macedonski\, nr. 28\, Craiova\, Dolj\, România
CATEGORIES:Expoziție,Pictura
ATTACH;FMTTYPE=image/jpeg:https://craiovalive.ro/wp-content/uploads/2026/04/Expozitia-de-pictura-Arta-seniorilor.jpg
ORGANIZER;CN="Centrul Jude%C8%9Bean de Cultur%C4%83 %C8%99i Art%C4%83 Dolj - Sec%C8%9Bia pentru Conservarea %C5%9Fi Promovarea Culturii Tradi%C8%9Bionale Dolj":MAILTO:ccpdolj@yahoo.com
GEO:44.312816218541;23.800203213591
X-APPLE-STRUCTURED-LOCATION;VALUE=URI;X-ADDRESS=Galeriile Cromatic str. Al. Macedonski nr. 28 Craiova Dolj România;X-APPLE-RADIUS=500;X-TITLE=str. Al. Macedonski\, nr. 28:geo:23.800203213591,44.312816218541
END:VEVENT
BEGIN:VEVENT
DTSTART;TZID=Europe/Bucharest:20260505T090000
DTEND;TZID=Europe/Bucharest:20260505T170000
DTSTAMP:20260424T222145
CREATED:20260424T143906Z
LAST-MODIFIED:20260424T143906Z
UID:10014626-1777971600-1778000400@craiovalive.ro
SUMMARY:Expoziție de pictură "Arta seniorilor"
DESCRIPTION:Centrul Judeţean de Cultură și Artă Dolj – Secția pentru Conservarea şi Promovarea Culturii Tradiţionale vernisează luni\, 27 aprilie 2026\, ora 12:00\, la Galeriile „Cromatic“\, expoziția de pictură „Arta seniorilor“\, realizată de creativii beneficiari ai Centrului pentru persoane vârstnice „Sfinții Doctori fără de arginți Cosma și Damian“ din cadrul Arhiepiscopiei Craiova. \nExpoziția „Arta seniorilor“ a prins contur în atelierul de pictură al Centrului „Sfinții Doctori fără de arginți Cosma și Damian“\, coordonat de artistul plastic Florin Grădinaru. \nFiecare lucrare în parte este dovada că visele te însoțesc până le lași să se împlinească. Pictura le-a dat libertatea să fie creativi\, să se bucure de călătoria prin lumea formelor și culorilor\, să petreacă timp împreună\, să împărtășească idei. \nPicturile seniorilor vor putea fi admirate la Galeriile „Cromatic“\, de pe strada Alexandru Macedonski 28\, până joi\, 7 mai 2026. Intrarea este liberă.
URL:https://craiovalive.ro/eveniment/expozitie-de-pictura-arta-seniorilor/2026-05-05/
LOCATION:Galeriile Cromatic\, str. Al. Macedonski\, nr. 28\, Craiova\, Dolj\, România
CATEGORIES:Expoziție,Pictura
ATTACH;FMTTYPE=image/jpeg:https://craiovalive.ro/wp-content/uploads/2026/04/Expozitia-de-pictura-Arta-seniorilor.jpg
ORGANIZER;CN="Centrul Jude%C8%9Bean de Cultur%C4%83 %C8%99i Art%C4%83 Dolj - Sec%C8%9Bia pentru Conservarea %C5%9Fi Promovarea Culturii Tradi%C8%9Bionale Dolj":MAILTO:ccpdolj@yahoo.com
GEO:44.312816218541;23.800203213591
X-APPLE-STRUCTURED-LOCATION;VALUE=URI;X-ADDRESS=Galeriile Cromatic str. Al. Macedonski nr. 28 Craiova Dolj România;X-APPLE-RADIUS=500;X-TITLE=str. Al. Macedonski\, nr. 28:geo:23.800203213591,44.312816218541
END:VEVENT
BEGIN:VEVENT
DTSTART;TZID=Europe/Bucharest:20260506T090000
DTEND;TZID=Europe/Bucharest:20260506T170000
DTSTAMP:20260424T222145
CREATED:20260424T143906Z
LAST-MODIFIED:20260424T143906Z
UID:10014627-1778058000-1778086800@craiovalive.ro
SUMMARY:Expoziție de pictură "Arta seniorilor"
DESCRIPTION:Centrul Judeţean de Cultură și Artă Dolj – Secția pentru Conservarea şi Promovarea Culturii Tradiţionale vernisează luni\, 27 aprilie 2026\, ora 12:00\, la Galeriile „Cromatic“\, expoziția de pictură „Arta seniorilor“\, realizată de creativii beneficiari ai Centrului pentru persoane vârstnice „Sfinții Doctori fără de arginți Cosma și Damian“ din cadrul Arhiepiscopiei Craiova. \nExpoziția „Arta seniorilor“ a prins contur în atelierul de pictură al Centrului „Sfinții Doctori fără de arginți Cosma și Damian“\, coordonat de artistul plastic Florin Grădinaru. \nFiecare lucrare în parte este dovada că visele te însoțesc până le lași să se împlinească. Pictura le-a dat libertatea să fie creativi\, să se bucure de călătoria prin lumea formelor și culorilor\, să petreacă timp împreună\, să împărtășească idei. \nPicturile seniorilor vor putea fi admirate la Galeriile „Cromatic“\, de pe strada Alexandru Macedonski 28\, până joi\, 7 mai 2026. Intrarea este liberă.
URL:https://craiovalive.ro/eveniment/expozitie-de-pictura-arta-seniorilor/2026-05-06/
LOCATION:Galeriile Cromatic\, str. Al. Macedonski\, nr. 28\, Craiova\, Dolj\, România
CATEGORIES:Expoziție,Pictura
ATTACH;FMTTYPE=image/jpeg:https://craiovalive.ro/wp-content/uploads/2026/04/Expozitia-de-pictura-Arta-seniorilor.jpg
ORGANIZER;CN="Centrul Jude%C8%9Bean de Cultur%C4%83 %C8%99i Art%C4%83 Dolj - Sec%C8%9Bia pentru Conservarea %C5%9Fi Promovarea Culturii Tradi%C8%9Bionale Dolj":MAILTO:ccpdolj@yahoo.com
GEO:44.312816218541;23.800203213591
X-APPLE-STRUCTURED-LOCATION;VALUE=URI;X-ADDRESS=Galeriile Cromatic str. Al. Macedonski nr. 28 Craiova Dolj România;X-APPLE-RADIUS=500;X-TITLE=str. Al. Macedonski\, nr. 28:geo:23.800203213591,44.312816218541
END:VEVENT
BEGIN:VEVENT
DTSTART;TZID=Europe/Bucharest:20260507T090000
DTEND;TZID=Europe/Bucharest:20260507T170000
DTSTAMP:20260424T222145
CREATED:20260424T143906Z
LAST-MODIFIED:20260424T143906Z
UID:10014628-1778144400-1778173200@craiovalive.ro
SUMMARY:Expoziție de pictură "Arta seniorilor"
DESCRIPTION:Centrul Judeţean de Cultură și Artă Dolj – Secția pentru Conservarea şi Promovarea Culturii Tradiţionale vernisează luni\, 27 aprilie 2026\, ora 12:00\, la Galeriile „Cromatic“\, expoziția de pictură „Arta seniorilor“\, realizată de creativii beneficiari ai Centrului pentru persoane vârstnice „Sfinții Doctori fără de arginți Cosma și Damian“ din cadrul Arhiepiscopiei Craiova. \nExpoziția „Arta seniorilor“ a prins contur în atelierul de pictură al Centrului „Sfinții Doctori fără de arginți Cosma și Damian“\, coordonat de artistul plastic Florin Grădinaru. \nFiecare lucrare în parte este dovada că visele te însoțesc până le lași să se împlinească. Pictura le-a dat libertatea să fie creativi\, să se bucure de călătoria prin lumea formelor și culorilor\, să petreacă timp împreună\, să împărtășească idei. \nPicturile seniorilor vor putea fi admirate la Galeriile „Cromatic“\, de pe strada Alexandru Macedonski 28\, până joi\, 7 mai 2026. Intrarea este liberă.
URL:https://craiovalive.ro/eveniment/expozitie-de-pictura-arta-seniorilor/2026-05-07/
LOCATION:Galeriile Cromatic\, str. Al. Macedonski\, nr. 28\, Craiova\, Dolj\, România
CATEGORIES:Expoziție,Pictura
ATTACH;FMTTYPE=image/jpeg:https://craiovalive.ro/wp-content/uploads/2026/04/Expozitia-de-pictura-Arta-seniorilor.jpg
ORGANIZER;CN="Centrul Jude%C8%9Bean de Cultur%C4%83 %C8%99i Art%C4%83 Dolj - Sec%C8%9Bia pentru Conservarea %C5%9Fi Promovarea Culturii Tradi%C8%9Bionale Dolj":MAILTO:ccpdolj@yahoo.com
GEO:44.312816218541;23.800203213591
X-APPLE-STRUCTURED-LOCATION;VALUE=URI;X-ADDRESS=Galeriile Cromatic str. Al. Macedonski nr. 28 Craiova Dolj România;X-APPLE-RADIUS=500;X-TITLE=str. Al. Macedonski\, nr. 28:geo:23.800203213591,44.312816218541
END:VEVENT
END:VCALENDAR