BEGIN:VCALENDAR
VERSION:2.0
PRODID:-//Craiova Live - ECPv6.15.18//NONSGML v1.0//EN
CALSCALE:GREGORIAN
METHOD:PUBLISH
X-WR-CALNAME:Craiova Live
X-ORIGINAL-URL:https://craiovalive.ro
X-WR-CALDESC:Evenimente pentru Craiova Live
REFRESH-INTERVAL;VALUE=DURATION:PT1H
X-Robots-Tag:noindex
X-PUBLISHED-TTL:PT1H
BEGIN:VTIMEZONE
TZID:Europe/Bucharest
BEGIN:DAYLIGHT
TZOFFSETFROM:+0200
TZOFFSETTO:+0300
TZNAME:EEST
DTSTART:20250330T010000
END:DAYLIGHT
BEGIN:STANDARD
TZOFFSETFROM:+0300
TZOFFSETTO:+0200
TZNAME:EET
DTSTART:20251026T010000
END:STANDARD
BEGIN:DAYLIGHT
TZOFFSETFROM:+0200
TZOFFSETTO:+0300
TZNAME:EEST
DTSTART:20260329T010000
END:DAYLIGHT
BEGIN:STANDARD
TZOFFSETFROM:+0300
TZOFFSETTO:+0200
TZNAME:EET
DTSTART:20261025T010000
END:STANDARD
BEGIN:DAYLIGHT
TZOFFSETFROM:+0200
TZOFFSETTO:+0300
TZNAME:EEST
DTSTART:20270328T010000
END:DAYLIGHT
BEGIN:STANDARD
TZOFFSETFROM:+0300
TZOFFSETTO:+0200
TZNAME:EET
DTSTART:20271031T010000
END:STANDARD
END:VTIMEZONE
BEGIN:VEVENT
DTSTART;TZID=Europe/Bucharest:20260517T110000
DTEND;TZID=Europe/Bucharest:20260517T130000
DTSTAMP:20260424T234053
CREATED:20260424T141207Z
LAST-MODIFIED:20260424T141207Z
UID:10014600-1779015600-1779022800@craiovalive.ro
SUMMARY:Șeful casei by Zurli
DESCRIPTION:„Șeful Casei” Craiova\n\n\nGașca Zurli pornește într-un nou turneu național și anunță o colaborare specială. Antonia Grigore se alătură oficial universului Zurli și devine gazda spectacolului „Șeful Casei”. \nArtistă HaHaHa Production și unul dintre cei mai influenți creatori de conținut ai tinerei generații\, Antonia este iubită de copii și adolescenți pentru energia\, autenticitatea și talentul său. Prezența ei pe scena Zurli aduce o punte naturală între generații și o experiență modernă\, aproape de publicul de astăzi. \n„Șeful Casei” este un spectacol interactiv\, construit în jurul ideii de leadership pozitiv în familie. Prin joc\, muzică și momente pline de umor\, personajele descoperă ce înseamnă să fii responsabil\, să încurajezi\, să îți susții prietenii și să ai curajul de a-ți face vocea auzită. \nCu cântece îndrăgite\, multă participare din partea copiilor și o poveste actuală\, „Șeful Casei” este un show educativ și plin de energie\, dedicat întregii familii.
URL:https://craiovalive.ro/eveniment/seful-casei-by-zurli/2026-05-17/1/
LOCATION:Filarmonica Oltenia\, Calea Unirii\, nr. 16\, Craiova\, Dolj\, 200585\, România
CATEGORIES:Evenimente pentru copii
ATTACH;FMTTYPE=image/png:https://craiovalive.ro/wp-content/uploads/2026/04/Seful-casei-by-Zurli.png
GEO:44.3172308;23.7944364
X-APPLE-STRUCTURED-LOCATION;VALUE=URI;X-ADDRESS=Filarmonica Oltenia Calea Unirii nr. 16 Craiova Dolj 200585 România;X-APPLE-RADIUS=500;X-TITLE=Calea Unirii\, nr. 16:geo:23.7944364,44.3172308
END:VEVENT
BEGIN:VEVENT
DTSTART;TZID=Europe/Bucharest:20260517T140000
DTEND;TZID=Europe/Bucharest:20260517T160000
DTSTAMP:20260424T234053
CREATED:20260424T141207Z
LAST-MODIFIED:20260424T141207Z
UID:10014601-1779026400-1779033600@craiovalive.ro
SUMMARY:Șeful casei by Zurli
DESCRIPTION:„Șeful Casei” Craiova\n\n\nGașca Zurli pornește într-un nou turneu național și anunță o colaborare specială. Antonia Grigore se alătură oficial universului Zurli și devine gazda spectacolului „Șeful Casei”. \nArtistă HaHaHa Production și unul dintre cei mai influenți creatori de conținut ai tinerei generații\, Antonia este iubită de copii și adolescenți pentru energia\, autenticitatea și talentul său. Prezența ei pe scena Zurli aduce o punte naturală între generații și o experiență modernă\, aproape de publicul de astăzi. \n„Șeful Casei” este un spectacol interactiv\, construit în jurul ideii de leadership pozitiv în familie. Prin joc\, muzică și momente pline de umor\, personajele descoperă ce înseamnă să fii responsabil\, să încurajezi\, să îți susții prietenii și să ai curajul de a-ți face vocea auzită. \nCu cântece îndrăgite\, multă participare din partea copiilor și o poveste actuală\, „Șeful Casei” este un show educativ și plin de energie\, dedicat întregii familii.
URL:https://craiovalive.ro/eveniment/seful-casei-by-zurli/2026-05-17/2/
LOCATION:Filarmonica Oltenia\, Calea Unirii\, nr. 16\, Craiova\, Dolj\, 200585\, România
CATEGORIES:Evenimente pentru copii
ATTACH;FMTTYPE=image/png:https://craiovalive.ro/wp-content/uploads/2026/04/Seful-casei-by-Zurli.png
GEO:44.3172308;23.7944364
X-APPLE-STRUCTURED-LOCATION;VALUE=URI;X-ADDRESS=Filarmonica Oltenia Calea Unirii nr. 16 Craiova Dolj 200585 România;X-APPLE-RADIUS=500;X-TITLE=Calea Unirii\, nr. 16:geo:23.7944364,44.3172308
END:VEVENT
END:VCALENDAR