BEGIN:VCALENDAR
VERSION:2.0
PRODID:-//Craiova Live - ECPv6.15.18//NONSGML v1.0//EN
CALSCALE:GREGORIAN
METHOD:PUBLISH
X-ORIGINAL-URL:https://craiovalive.ro
X-WR-CALDESC:Evenimente pentru Craiova Live
REFRESH-INTERVAL;VALUE=DURATION:PT1H
X-Robots-Tag:noindex
X-PUBLISHED-TTL:PT1H
BEGIN:VTIMEZONE
TZID:Europe/Bucharest
BEGIN:DAYLIGHT
TZOFFSETFROM:+0200
TZOFFSETTO:+0300
TZNAME:EEST
DTSTART:20240331T010000
END:DAYLIGHT
BEGIN:STANDARD
TZOFFSETFROM:+0300
TZOFFSETTO:+0200
TZNAME:EET
DTSTART:20241027T010000
END:STANDARD
BEGIN:DAYLIGHT
TZOFFSETFROM:+0200
TZOFFSETTO:+0300
TZNAME:EEST
DTSTART:20250330T010000
END:DAYLIGHT
BEGIN:STANDARD
TZOFFSETFROM:+0300
TZOFFSETTO:+0200
TZNAME:EET
DTSTART:20251026T010000
END:STANDARD
BEGIN:DAYLIGHT
TZOFFSETFROM:+0200
TZOFFSETTO:+0300
TZNAME:EEST
DTSTART:20260329T010000
END:DAYLIGHT
BEGIN:STANDARD
TZOFFSETFROM:+0300
TZOFFSETTO:+0200
TZNAME:EET
DTSTART:20261025T010000
END:STANDARD
END:VTIMEZONE
BEGIN:VEVENT
DTSTART;TZID=Europe/Bucharest:20250425T080000
DTEND;TZID=Europe/Bucharest:20250427T170000
DTSTAMP:20260425T181016
CREATED:20241214T185248Z
LAST-MODIFIED:20241214T185248Z
UID:10003769-1745568000-1745773200@craiovalive.ro
SUMMARY:Curs de conducere defensivă Craiova 2025
DESCRIPTION:Curs de Conducere Defensivă: Academia Titi Aur vine în Craiova!\n\n\nNu contează dacă deții sau nu permis de conducere. Cursul este ideal atât pentru începători\, cât și pentru șoferii cu experiență care vor să conducă în siguranța și să evite accidentele. Locurile se epuizează cu viteză neregulamentară – te sfătuim să-l rezervi pe al tău acum! \n\nAcest curs este soluția ideală pentru oricine dorește să devină un șofer mai sigur și să își reducă pe cât posibil riscul de accident. Indiferent de nivelul de experiență – fie că ești la începutul drumului ca șofer\, sau că ești un șofer experimentat\, sau că reprezinți o companie care dorește să-și protejeze angajații – cursul nostru de conducere defensivă vine în întâmpinarea ta. \n\nTehnici avansate: Înveti să anticipezi și să eviți pericolele\, crescând astfel siguranța personală și a celor din jur.\nÎncredere la volan: Dobândește cunoștințe practice esențiale pentru gestionarea eficientă a situațiilor dificile în trafic.\nReducerea riscurilor: Îmbunătățește-ți abilitățile de conducere\, reducând riscurile de accidente.\nDecizia corectă: Arată că îți pasă de siguranța și bunăstarea angajaților tăi\, sporind loialitatea și satisfacția în rândul echipei tale.\nExpertiză profesională: Beneficiezi de îndrumarea instructorilor noștri cu vastă experiență în domeniul siguranței rutiere.\n\nDetalii curs de conducere defensivă Craiova 2025: \n\n\n4 ore de curs intensiv\nCursul este conceput să te echipeze cu cunoștințe și abilități esențiale pentru a conduce în siguranță. Cursul este impărțit în două segmente: teorie și practică. \nPartea Teoretică (2 ore):\nÎn această secțiune\, vei dobândi cunoștințe fundamentale despre principiile condusului defensiv: \n\nNoțiuni despre deplasare: Vei înțelege dinamica vehiculului în mișcare și factorii care influențează stabilitatea acestuia.\nAderență: Află cum diferitele suprafețe de drum și condițiile meteorologice afectează aderența.\nAccelerare și frânare: Înveti tehnici pentru controlul eficient al vehiculului în timpul accelerării și frânării.\nTehnici de conducere defensivă: Descoperă strategii pentru a anticipa și evita pericolele de pe drum.\nPractici periculoase la volan: Înveți să identifici comportamente riscante și cum să le eviți.\n\nPartea Practică (2 ore):\nVei experimenta în condiții de siguranță diferite scenarii prin intermediul simulatoarelor noastre: \n\nSimulator de răsturnare 90 și 180 grade: Înțelegi ce însemna să te răstorni cu mașina\, după care îți dăm sfaturi practice cum să ieși în siguranță dintr-o asemenea situație.\nSimulator impact: Experimentezi impactul unui accident ușor într-un mediu controlat\, subliniind importanța utilizării centurii de siguranță și a poziției corecte la volan.\nSimulator viteză de reacție: Testează-ți timpul de reacție.\nSimularea intoxicaței alcoolice: Vezi cum influențează alcoolul abilitățile tale de reacție și înveți despre pericolele conducerii sub influența alcoolului.
URL:https://craiovalive.ro/eveniment/curs-de-conducere-defensiva-craiova-2025/
LOCATION:Dolj
CATEGORIES:Ateliere
ATTACH;FMTTYPE=image/jpeg:https://craiovalive.ro/wp-content/uploads/2024/12/Curs-de-conducere-defensiva-Craiova-aprilie-2025.jpg
END:VEVENT
END:VCALENDAR