BEGIN:VCALENDAR
VERSION:2.0
PRODID:-//Craiova Live - ECPv6.15.18//NONSGML v1.0//EN
CALSCALE:GREGORIAN
METHOD:PUBLISH
X-ORIGINAL-URL:https://craiovalive.ro
X-WR-CALDESC:Evenimente pentru Craiova Live
REFRESH-INTERVAL;VALUE=DURATION:PT1H
X-Robots-Tag:noindex
X-PUBLISHED-TTL:PT1H
BEGIN:VTIMEZONE
TZID:Europe/Bucharest
BEGIN:DAYLIGHT
TZOFFSETFROM:+0200
TZOFFSETTO:+0300
TZNAME:EEST
DTSTART:20250330T010000
END:DAYLIGHT
BEGIN:STANDARD
TZOFFSETFROM:+0300
TZOFFSETTO:+0200
TZNAME:EET
DTSTART:20251026T010000
END:STANDARD
BEGIN:DAYLIGHT
TZOFFSETFROM:+0200
TZOFFSETTO:+0300
TZNAME:EEST
DTSTART:20260329T010000
END:DAYLIGHT
BEGIN:STANDARD
TZOFFSETFROM:+0300
TZOFFSETTO:+0200
TZNAME:EET
DTSTART:20261025T010000
END:STANDARD
BEGIN:DAYLIGHT
TZOFFSETFROM:+0200
TZOFFSETTO:+0300
TZNAME:EEST
DTSTART:20270328T010000
END:DAYLIGHT
BEGIN:STANDARD
TZOFFSETFROM:+0300
TZOFFSETTO:+0200
TZNAME:EET
DTSTART:20271031T010000
END:STANDARD
END:VTIMEZONE
BEGIN:VEVENT
DTSTART;TZID=Europe/Bucharest:20260901T100000
DTEND;TZID=Europe/Bucharest:20260901T220000
DTSTAMP:20260424T042557
CREATED:20260312T125545Z
LAST-MODIFIED:20260312T130635Z
UID:10014188-1788256800-1788300000@craiovalive.ro
SUMMARY:Puppets Occupy Street 2026 - Stardust Edition
DESCRIPTION:Puppets Occupy Street 2026 – Stardust Edition\nPe vremuri\, într-un oraș plin de magie și creativitate\, păpușile au prins viață pentru a spune cele mai încântătoare povești…  🏰🧚‍♀️🐉 În 2026\, Teatrul Colibri vă invită la cea de-a 13-a ediție a Festivalului Puppets Occupy Street\, care se va desfășura la Craiova în perioada 25 august – 1 septembrie 2026. Tema ediției din acest an va fi STARDUST! Festivalul se va desfășura pe mai multe secțiuni (spectacole & happenings; ateliere; concerte; expoziții; arte plastice și vizuale\, instalații; scurtmetraje & animații) și va include teatru stradal\, spectacole de păpuși\, reprezentații bazate pe mișcare\, experiențe interactive sau orice poate aduce un strop de uimire în orașul Craiova! \n\n Puppets Occupy Street – Stardust Edition 2026\n––\nPuppets Occupy Street este primul festival de arta animației din România care se desfășoară exclusiv în spații neconvenționale\, creat pentru comunitate\, ce aduce la un loc companii de teatru private din țară și din străinătate\, încurajând astfel parteneriatul public-privat. Prima ediție a avut loc în anul 2014.\n\n\n\nFestivalul este  finanțat integral de Primăria și Consiliul Local Craiova și organizat de Teatrul pentru copii și tineret Colibri. \nScopul Puppets Occupy Street este de a promova arta animației în comunitate și de a genera accesibilitate la actul artistic către toate categoriile de vârstă și toate grupurile socio-profesionale.
URL:https://craiovalive.ro/eveniment/puppets-occupy-street-2026-stardust-edition/2026-09-01/
LOCATION:Locații multiple\, Craiova\, Dolj\, România
CATEGORIES:Ateliere,Evenimente pentru copii,Expoziție,Magie,Teatru
ATTACH;FMTTYPE=image/jpeg:https://craiovalive.ro/wp-content/uploads/2026/03/Puppets-Occupy-Street-Craiova-2026.jpeg
ORGANIZER;CN="Teatrul pentru copii si tineret Colibri":MAILTO:contact@teatrulcolibri.ro
GEO:44.3301785;23.7948808
END:VEVENT
BEGIN:VEVENT
DTSTART;TZID=Europe/Bucharest:20260918T190000
DTEND;TZID=Europe/Bucharest:20260918T230000
DTSTAMP:20260424T042557
CREATED:20240227T140136Z
LAST-MODIFIED:20260419T210134Z
UID:10003439-1789758000-1789772400@craiovalive.ro
SUMMARY:Concert Trooper
DESCRIPTION:Trooper va marca 30 de ani de activitate printr-un turneu major ce va ajunge în nu mai puțin de 28 de orașe.\nTrooper a lansat 12 albume de studio\, a cântat pentru mai mult de 1.000.000 de oameni\, în peste 1000 de concerte\, şi a urcat pe scenă alături de Iron Maiden\, Scorpions\, Deep Purple\, Judas Priest\, Whitesnake\, Europe\, Manowar\, Nazareth\, WASP\, Sepultura\, Prodigy etc. \nCopiii sub 7 ani au intrare gratuită. Cei peste 7 ani au nevoie de un bilet valid.
URL:https://craiovalive.ro/eveniment/concert-trooper/
LOCATION:Cinema Patria\, Str. A. I. Cuza\, nr.15\, Craiova\, Dolj\, România
CATEGORIES:Muzică
ATTACH;FMTTYPE=image/jpeg:https://craiovalive.ro/wp-content/uploads/2024/02/Concert-Trooper.jpg
GEO:44.318264312465;23.802533555164
X-APPLE-STRUCTURED-LOCATION;VALUE=URI;X-ADDRESS=Cinema Patria Str. A. I. Cuza nr.15 Craiova Dolj România;X-APPLE-RADIUS=500;X-TITLE=Str. A. I. Cuza\, nr.15:geo:23.802533555164,44.318264312465
END:VEVENT
BEGIN:VEVENT
DTSTART;TZID=Europe/Bucharest:20260920T160000
DTEND;TZID=Europe/Bucharest:20260920T180000
DTSTAMP:20260424T042557
CREATED:20251119T121214Z
LAST-MODIFIED:20260317T193430Z
UID:10012521-1789920000-1789927200@craiovalive.ro
SUMMARY:Vizionarii
DESCRIPTION:VIZIONARII 2026 \nTeatrul National „Marin Sorescu” Craiova\n \n20 Septembrie 2026 ora 16:00 \nAcad.Alexandru Vlad Ciurea vorbește despre „Puterea rugăciunii și miracolul vindecării prin credință”\nRugăciunea nu e doar un act de credință\, ci o energie care vindecă. Acad.Alexandru Vlad Ciurea explică cum\, în timpul rugăciunii\, creierul își schimbă frecvența: scade frica\, crește pacea\, iar corpul primește semnalul refacerii.\nSunt vindecări pe care știința nu le poate explica..Când medicina își atinge limitele\, începe domeniul lui Dumnezeu. \nProf.univ.dr.Dumitru Constantin Dulcan dezvaluie „Formula Tinereții”. Dl profesor dezvăluie că secretul tinereții nu stă în creme sau genele moștenite\, ci în modul în care gândim și simțim.\nCând trăim în iubire\, recunoștință și sens\, celulele noastre primesc semnalul vieții\, nu al degradării.\nTinerețea nu e o vârstă\, ci o stare de conștiință: o minte senină\, o inimă bună și un suflet recunoscător pot întineri chiar și materia. \nPsiholog dr.\, Gina Chiriac dezvaluie „Aurul invizibil al sufletului- Atenția!” Dna.psih.dr. vorbește despre cel mai prețios dar al omului modern: prezența!\nCeea ce privim\, crește. Ceea ce iubim prin atenție\, prinde viață.\nÎntr-o lume care ne fură privirea\, adevărata vindecare începe acolo unde ne întoarcem atenția către noi înșine\, către inimă\, către prezent.
URL:https://craiovalive.ro/eveniment/vizionarii/
LOCATION:Teatrul Național Craiova – Sala Amza Pellea\, Str. A. I. Cuza\, nr. 11\, Craiova\, Dolj\, 200585\, România
CATEGORIES:Conferință
ATTACH;FMTTYPE=image/webp:https://craiovalive.ro/wp-content/uploads/2025/11/Vizionarii-e1773776063971.webp
GEO:44.3186661;23.8003743
X-APPLE-STRUCTURED-LOCATION;VALUE=URI;X-ADDRESS=Teatrul Național Craiova – Sala Amza Pellea Str. A. I. Cuza nr. 11 Craiova Dolj 200585 România;X-APPLE-RADIUS=500;X-TITLE=Str. A. I. Cuza\, nr. 11:geo:23.8003743,44.3186661
END:VEVENT
END:VCALENDAR