BEGIN:VCALENDAR
VERSION:2.0
PRODID:-//Craiova Live - ECPv6.15.18//NONSGML v1.0//EN
CALSCALE:GREGORIAN
METHOD:PUBLISH
X-ORIGINAL-URL:https://craiovalive.ro
X-WR-CALDESC:Evenimente pentru Craiova Live
REFRESH-INTERVAL;VALUE=DURATION:PT1H
X-Robots-Tag:noindex
X-PUBLISHED-TTL:PT1H
BEGIN:VTIMEZONE
TZID:Europe/Bucharest
BEGIN:DAYLIGHT
TZOFFSETFROM:+0200
TZOFFSETTO:+0300
TZNAME:EEST
DTSTART:20240331T010000
END:DAYLIGHT
BEGIN:STANDARD
TZOFFSETFROM:+0300
TZOFFSETTO:+0200
TZNAME:EET
DTSTART:20241027T010000
END:STANDARD
BEGIN:DAYLIGHT
TZOFFSETFROM:+0200
TZOFFSETTO:+0300
TZNAME:EEST
DTSTART:20250330T010000
END:DAYLIGHT
BEGIN:STANDARD
TZOFFSETFROM:+0300
TZOFFSETTO:+0200
TZNAME:EET
DTSTART:20251026T010000
END:STANDARD
BEGIN:DAYLIGHT
TZOFFSETFROM:+0200
TZOFFSETTO:+0300
TZNAME:EEST
DTSTART:20260329T010000
END:DAYLIGHT
BEGIN:STANDARD
TZOFFSETFROM:+0300
TZOFFSETTO:+0200
TZNAME:EET
DTSTART:20261025T010000
END:STANDARD
END:VTIMEZONE
BEGIN:VEVENT
DTSTART;TZID=Europe/Bucharest:20250911T100000
DTEND;TZID=Europe/Bucharest:20250911T210000
DTSTAMP:20260424T171127
CREATED:20250818T103755Z
LAST-MODIFIED:20250818T103755Z
UID:10007930-1757584800-1757624400@craiovalive.ro
SUMMARY:Lavanda Fest - Craiova 2025
DESCRIPTION:Craiova\, ne întoarcem la tine! Ediția cu numărul #42 Lavanda Fest va avea loc în Piața Mihai Viteazul\, în perioada 11 – 14 septembrie 2025 \n Te așteptăm cu peste 40 de branduri creative românești venite din toate colțurile țării\, cu numeroase produse din lavandă direct din lanul proaspăt mov\, precum și cu colțuri foto instagramabile pregătite special pentru această ediție de toamnă!\nÎți pregătim și o serie de momente artistice memorabile (muzică clasică\, folk\, pop-rock)\, ateliere pentru copii și spectacole de magie!\nCând? 11 – 14 septembrie 2025\n interval orar:zilnic între orele 10.00 – 21.00\nUnde? Craiova – Piața Mihai Viteazul\nProducători de lavandă și alți artizani din domenii diverse vor veni din toată țara\, din orașe precum: Iași\, Vrancea\, Constanța\, Brașov\, București\, Timișoara\, Cluj\, Sibiu\, Brăila\, Galați\, Giurgiu\, Pitești\, Arad sau Bacău și se vor aduna într-un singur loc: Piața Mihai Viteazul din Craiova!\n Cei peste 40 de expozanți cu branduri creative din domenii diverse vor avea la standurile lor și “ceva cu lavandă” așa cum te-am obișnuit deja la fiecare ediție de până acum:\n muultă lavandă sub diverse forme delicatese culinare cu lavandă precum: înghețată\, limonadă\, macarons\, miere\, dulceață ș.a. sosuri inedite cosmetice naturale aranjamente florale flori și plante aromatice la ghiveci bijuterii și diverse accesorii unice haine din materiale naturale jucării handmade decorațiuni artistice colțuri foto instagramabileateliere pentru copii\nIntrarea este liberă \n Lavanda Fest te întâmpină cu muulte zâmbete împletite cu povești scrise cu inima de micii producători locali și cu sute de produse unice\, făurite cu suflet!\n\nLavanda Fest susține afacerile creative românești!\nEveniment organizat de Fleurane\nParteneri: Purple Lands\, Mai Kurtoskalacs\, Pretty Kitty\nSusținut de Radio Magic FM!
URL:https://craiovalive.ro/eveniment/lavanda-fest-craiova-2025/2025-09-11/
LOCATION:Piața Mihai Viteazul\, Craiova\, Dolj\, România
CATEGORIES:Expoziție,Turism
ATTACH;FMTTYPE=image/jpeg:https://craiovalive.ro/wp-content/uploads/2025/08/Lavanda-Fest-Craiova-2025.jpg
GEO:44.31805;23.79493
END:VEVENT
BEGIN:VEVENT
DTSTART;TZID=Europe/Bucharest:20250912T100000
DTEND;TZID=Europe/Bucharest:20250912T160000
DTSTAMP:20260424T171127
CREATED:20250911T105236Z
LAST-MODIFIED:20250911T122455Z
UID:10009717-1757671200-1757692800@craiovalive.ro
SUMMARY:Zilele Europene ale Patrimoniului la Biblioteca Aman și Muzeul Cărții și Exilului Românesc
DESCRIPTION:În perioada 12 – 14 septembrie 2025\, România va celebra cea de-a XXXIII-a ediție a Zilelor Europene ale Patrimoniului\, un eveniment care pune în valoare moștenirea culturală și istorică a țării noastre\, ca parte a patrimoniului european. \nZilele Europene ale Patrimoniului\, desfășurate în acest an sub tema: „Patrimoniu și Arhitectură. Ferestre către trecut\, Uși către viitor”\, sunt organizate anual în toate țările europene\, sub egida Consiliului Europei și a Uniunii Europene\, având scopul de a aduce în atenția publicului diversitatea patrimoniului cultural european și precum și importanța protejării acestuia. \nAnul acesta\, Biblioteca Județeană „Alexandru și Aristia Aman” și Muzeul Cărții și Exilului Românesc găzduiesc o serie de activități speciale. Astfel\, vineri\, în intervalul orar 10 -16\, se organizează vizitarea expoziției permanente „Elena Farago” și a depozitului general de carte – Biblioteca Județeană „Alexandru și Aristia Aman”\, prilej cu care se va desfășura și  o expoziție de carte de patrimoniu\, aflate în colecțiile instituției. \nDe asemenea\, vineri\, la orele 10.00\, 13.00 și 15.00\, va fi organizată „ruta culturală” a Bibliotecii Județene „Alexandru și Aristia Aman” și a Muzeului Cărții și Exilului Românesc. Acest demers prevede un tur ghidat care cuprinde clădirea Aman și expunerea unui scurt istoric a Casei Memoriale „Elena Farago” (edificiul se află în prezent într-un amplu proces de reabilitare\, în cadrul unui proiect cu finanțare europeană\, implementat de către Consiliul Județean Dolj)\, precum și desfășurarea unei expoziții dedicate renumitei poete. \nTotodată\, de vineri până duminică\, în intervalul orar 9 – 17 inițiativa prevede o prezentare și vizitarea Casei Dianu\, imobil în care funcționează Muzeul Cărții și Exilului Românesc\, dar și organizarea unei expoziții carte de patrimoniu\, din colecțiile Muzeului Cărții și Exilului Românesc. „«Zilele Europene ale Patrimoniului» reprezintă un nou prilej de a ne redescoperi rădăcinile\, valorile și bunurile  care ne-au modelat istoria și\, în același timp\, ne-au făcut parte a culturii europene. Invităm toți craiovenii să participe la activitățile propuse de Biblioteca Județeană și să fie parte în acest important demers de protejare a patrimoniului nostru european comun” – Radu Vințeanu\, manager Biblioteca Județeană „Alexandru și Aristia Aman”.
URL:https://craiovalive.ro/eveniment/zilele-europene-ale-patrimoniului-la-biblioteca-aman-si-muzeul-cartii-si-exilului-romanesc/2025-09-12/
LOCATION:Locații multiple\, Craiova\, Dolj\, România
CATEGORIES:Expoziție,Turism
ATTACH;FMTTYPE=image/jpeg:https://craiovalive.ro/wp-content/uploads/2025/09/Zilele-Europene-ale-Patrimoniului-la-Biblioteca-Aman-si-Muzeul-Cartii-si-Exilului-Romanesc.jpeg
ORGANIZER;CN="Biblioteca Jude%C8%9Bean%C4%83 Alexandru %C8%99i Aristia Aman":MAILTO:bib@aman.ro
GEO:44.3301785;23.7948808
END:VEVENT
BEGIN:VEVENT
DTSTART;TZID=Europe/Bucharest:20250912T100000
DTEND;TZID=Europe/Bucharest:20250912T210000
DTSTAMP:20260424T171127
CREATED:20250818T103755Z
LAST-MODIFIED:20250818T103755Z
UID:10007931-1757671200-1757710800@craiovalive.ro
SUMMARY:Lavanda Fest - Craiova 2025
DESCRIPTION:Craiova\, ne întoarcem la tine! Ediția cu numărul #42 Lavanda Fest va avea loc în Piața Mihai Viteazul\, în perioada 11 – 14 septembrie 2025 \n Te așteptăm cu peste 40 de branduri creative românești venite din toate colțurile țării\, cu numeroase produse din lavandă direct din lanul proaspăt mov\, precum și cu colțuri foto instagramabile pregătite special pentru această ediție de toamnă!\nÎți pregătim și o serie de momente artistice memorabile (muzică clasică\, folk\, pop-rock)\, ateliere pentru copii și spectacole de magie!\nCând? 11 – 14 septembrie 2025\n interval orar:zilnic între orele 10.00 – 21.00\nUnde? Craiova – Piața Mihai Viteazul\nProducători de lavandă și alți artizani din domenii diverse vor veni din toată țara\, din orașe precum: Iași\, Vrancea\, Constanța\, Brașov\, București\, Timișoara\, Cluj\, Sibiu\, Brăila\, Galați\, Giurgiu\, Pitești\, Arad sau Bacău și se vor aduna într-un singur loc: Piața Mihai Viteazul din Craiova!\n Cei peste 40 de expozanți cu branduri creative din domenii diverse vor avea la standurile lor și “ceva cu lavandă” așa cum te-am obișnuit deja la fiecare ediție de până acum:\n muultă lavandă sub diverse forme delicatese culinare cu lavandă precum: înghețată\, limonadă\, macarons\, miere\, dulceață ș.a. sosuri inedite cosmetice naturale aranjamente florale flori și plante aromatice la ghiveci bijuterii și diverse accesorii unice haine din materiale naturale jucării handmade decorațiuni artistice colțuri foto instagramabileateliere pentru copii\nIntrarea este liberă \n Lavanda Fest te întâmpină cu muulte zâmbete împletite cu povești scrise cu inima de micii producători locali și cu sute de produse unice\, făurite cu suflet!\n\nLavanda Fest susține afacerile creative românești!\nEveniment organizat de Fleurane\nParteneri: Purple Lands\, Mai Kurtoskalacs\, Pretty Kitty\nSusținut de Radio Magic FM!
URL:https://craiovalive.ro/eveniment/lavanda-fest-craiova-2025/2025-09-12/
LOCATION:Piața Mihai Viteazul\, Craiova\, Dolj\, România
CATEGORIES:Expoziție,Turism
ATTACH;FMTTYPE=image/jpeg:https://craiovalive.ro/wp-content/uploads/2025/08/Lavanda-Fest-Craiova-2025.jpg
GEO:44.31805;23.79493
END:VEVENT
BEGIN:VEVENT
DTSTART;TZID=Europe/Bucharest:20250913T100000
DTEND;TZID=Europe/Bucharest:20250913T160000
DTSTAMP:20260424T171127
CREATED:20250911T105236Z
LAST-MODIFIED:20250911T122455Z
UID:10009718-1757757600-1757779200@craiovalive.ro
SUMMARY:Zilele Europene ale Patrimoniului la Biblioteca Aman și Muzeul Cărții și Exilului Românesc
DESCRIPTION:În perioada 12 – 14 septembrie 2025\, România va celebra cea de-a XXXIII-a ediție a Zilelor Europene ale Patrimoniului\, un eveniment care pune în valoare moștenirea culturală și istorică a țării noastre\, ca parte a patrimoniului european. \nZilele Europene ale Patrimoniului\, desfășurate în acest an sub tema: „Patrimoniu și Arhitectură. Ferestre către trecut\, Uși către viitor”\, sunt organizate anual în toate țările europene\, sub egida Consiliului Europei și a Uniunii Europene\, având scopul de a aduce în atenția publicului diversitatea patrimoniului cultural european și precum și importanța protejării acestuia. \nAnul acesta\, Biblioteca Județeană „Alexandru și Aristia Aman” și Muzeul Cărții și Exilului Românesc găzduiesc o serie de activități speciale. Astfel\, vineri\, în intervalul orar 10 -16\, se organizează vizitarea expoziției permanente „Elena Farago” și a depozitului general de carte – Biblioteca Județeană „Alexandru și Aristia Aman”\, prilej cu care se va desfășura și  o expoziție de carte de patrimoniu\, aflate în colecțiile instituției. \nDe asemenea\, vineri\, la orele 10.00\, 13.00 și 15.00\, va fi organizată „ruta culturală” a Bibliotecii Județene „Alexandru și Aristia Aman” și a Muzeului Cărții și Exilului Românesc. Acest demers prevede un tur ghidat care cuprinde clădirea Aman și expunerea unui scurt istoric a Casei Memoriale „Elena Farago” (edificiul se află în prezent într-un amplu proces de reabilitare\, în cadrul unui proiect cu finanțare europeană\, implementat de către Consiliul Județean Dolj)\, precum și desfășurarea unei expoziții dedicate renumitei poete. \nTotodată\, de vineri până duminică\, în intervalul orar 9 – 17 inițiativa prevede o prezentare și vizitarea Casei Dianu\, imobil în care funcționează Muzeul Cărții și Exilului Românesc\, dar și organizarea unei expoziții carte de patrimoniu\, din colecțiile Muzeului Cărții și Exilului Românesc. „«Zilele Europene ale Patrimoniului» reprezintă un nou prilej de a ne redescoperi rădăcinile\, valorile și bunurile  care ne-au modelat istoria și\, în același timp\, ne-au făcut parte a culturii europene. Invităm toți craiovenii să participe la activitățile propuse de Biblioteca Județeană și să fie parte în acest important demers de protejare a patrimoniului nostru european comun” – Radu Vințeanu\, manager Biblioteca Județeană „Alexandru și Aristia Aman”.
URL:https://craiovalive.ro/eveniment/zilele-europene-ale-patrimoniului-la-biblioteca-aman-si-muzeul-cartii-si-exilului-romanesc/2025-09-13/
LOCATION:Locații multiple\, Craiova\, Dolj\, România
CATEGORIES:Expoziție,Turism
ATTACH;FMTTYPE=image/jpeg:https://craiovalive.ro/wp-content/uploads/2025/09/Zilele-Europene-ale-Patrimoniului-la-Biblioteca-Aman-si-Muzeul-Cartii-si-Exilului-Romanesc.jpeg
ORGANIZER;CN="Biblioteca Jude%C8%9Bean%C4%83 Alexandru %C8%99i Aristia Aman":MAILTO:bib@aman.ro
GEO:44.3301785;23.7948808
END:VEVENT
BEGIN:VEVENT
DTSTART;TZID=Europe/Bucharest:20250913T100000
DTEND;TZID=Europe/Bucharest:20250913T210000
DTSTAMP:20260424T171127
CREATED:20250818T103755Z
LAST-MODIFIED:20250818T103755Z
UID:10007932-1757757600-1757797200@craiovalive.ro
SUMMARY:Lavanda Fest - Craiova 2025
DESCRIPTION:Craiova\, ne întoarcem la tine! Ediția cu numărul #42 Lavanda Fest va avea loc în Piața Mihai Viteazul\, în perioada 11 – 14 septembrie 2025 \n Te așteptăm cu peste 40 de branduri creative românești venite din toate colțurile țării\, cu numeroase produse din lavandă direct din lanul proaspăt mov\, precum și cu colțuri foto instagramabile pregătite special pentru această ediție de toamnă!\nÎți pregătim și o serie de momente artistice memorabile (muzică clasică\, folk\, pop-rock)\, ateliere pentru copii și spectacole de magie!\nCând? 11 – 14 septembrie 2025\n interval orar:zilnic între orele 10.00 – 21.00\nUnde? Craiova – Piața Mihai Viteazul\nProducători de lavandă și alți artizani din domenii diverse vor veni din toată țara\, din orașe precum: Iași\, Vrancea\, Constanța\, Brașov\, București\, Timișoara\, Cluj\, Sibiu\, Brăila\, Galați\, Giurgiu\, Pitești\, Arad sau Bacău și se vor aduna într-un singur loc: Piața Mihai Viteazul din Craiova!\n Cei peste 40 de expozanți cu branduri creative din domenii diverse vor avea la standurile lor și “ceva cu lavandă” așa cum te-am obișnuit deja la fiecare ediție de până acum:\n muultă lavandă sub diverse forme delicatese culinare cu lavandă precum: înghețată\, limonadă\, macarons\, miere\, dulceață ș.a. sosuri inedite cosmetice naturale aranjamente florale flori și plante aromatice la ghiveci bijuterii și diverse accesorii unice haine din materiale naturale jucării handmade decorațiuni artistice colțuri foto instagramabileateliere pentru copii\nIntrarea este liberă \n Lavanda Fest te întâmpină cu muulte zâmbete împletite cu povești scrise cu inima de micii producători locali și cu sute de produse unice\, făurite cu suflet!\n\nLavanda Fest susține afacerile creative românești!\nEveniment organizat de Fleurane\nParteneri: Purple Lands\, Mai Kurtoskalacs\, Pretty Kitty\nSusținut de Radio Magic FM!
URL:https://craiovalive.ro/eveniment/lavanda-fest-craiova-2025/2025-09-13/
LOCATION:Piața Mihai Viteazul\, Craiova\, Dolj\, România
CATEGORIES:Expoziție,Turism
ATTACH;FMTTYPE=image/jpeg:https://craiovalive.ro/wp-content/uploads/2025/08/Lavanda-Fest-Craiova-2025.jpg
GEO:44.31805;23.79493
END:VEVENT
BEGIN:VEVENT
DTSTART;TZID=Europe/Bucharest:20250914T100000
DTEND;TZID=Europe/Bucharest:20250914T160000
DTSTAMP:20260424T171127
CREATED:20250911T105236Z
LAST-MODIFIED:20250911T122455Z
UID:10009719-1757844000-1757865600@craiovalive.ro
SUMMARY:Zilele Europene ale Patrimoniului la Biblioteca Aman și Muzeul Cărții și Exilului Românesc
DESCRIPTION:În perioada 12 – 14 septembrie 2025\, România va celebra cea de-a XXXIII-a ediție a Zilelor Europene ale Patrimoniului\, un eveniment care pune în valoare moștenirea culturală și istorică a țării noastre\, ca parte a patrimoniului european. \nZilele Europene ale Patrimoniului\, desfășurate în acest an sub tema: „Patrimoniu și Arhitectură. Ferestre către trecut\, Uși către viitor”\, sunt organizate anual în toate țările europene\, sub egida Consiliului Europei și a Uniunii Europene\, având scopul de a aduce în atenția publicului diversitatea patrimoniului cultural european și precum și importanța protejării acestuia. \nAnul acesta\, Biblioteca Județeană „Alexandru și Aristia Aman” și Muzeul Cărții și Exilului Românesc găzduiesc o serie de activități speciale. Astfel\, vineri\, în intervalul orar 10 -16\, se organizează vizitarea expoziției permanente „Elena Farago” și a depozitului general de carte – Biblioteca Județeană „Alexandru și Aristia Aman”\, prilej cu care se va desfășura și  o expoziție de carte de patrimoniu\, aflate în colecțiile instituției. \nDe asemenea\, vineri\, la orele 10.00\, 13.00 și 15.00\, va fi organizată „ruta culturală” a Bibliotecii Județene „Alexandru și Aristia Aman” și a Muzeului Cărții și Exilului Românesc. Acest demers prevede un tur ghidat care cuprinde clădirea Aman și expunerea unui scurt istoric a Casei Memoriale „Elena Farago” (edificiul se află în prezent într-un amplu proces de reabilitare\, în cadrul unui proiect cu finanțare europeană\, implementat de către Consiliul Județean Dolj)\, precum și desfășurarea unei expoziții dedicate renumitei poete. \nTotodată\, de vineri până duminică\, în intervalul orar 9 – 17 inițiativa prevede o prezentare și vizitarea Casei Dianu\, imobil în care funcționează Muzeul Cărții și Exilului Românesc\, dar și organizarea unei expoziții carte de patrimoniu\, din colecțiile Muzeului Cărții și Exilului Românesc. „«Zilele Europene ale Patrimoniului» reprezintă un nou prilej de a ne redescoperi rădăcinile\, valorile și bunurile  care ne-au modelat istoria și\, în același timp\, ne-au făcut parte a culturii europene. Invităm toți craiovenii să participe la activitățile propuse de Biblioteca Județeană și să fie parte în acest important demers de protejare a patrimoniului nostru european comun” – Radu Vințeanu\, manager Biblioteca Județeană „Alexandru și Aristia Aman”.
URL:https://craiovalive.ro/eveniment/zilele-europene-ale-patrimoniului-la-biblioteca-aman-si-muzeul-cartii-si-exilului-romanesc/2025-09-14/
LOCATION:Locații multiple\, Craiova\, Dolj\, România
CATEGORIES:Expoziție,Turism
ATTACH;FMTTYPE=image/jpeg:https://craiovalive.ro/wp-content/uploads/2025/09/Zilele-Europene-ale-Patrimoniului-la-Biblioteca-Aman-si-Muzeul-Cartii-si-Exilului-Romanesc.jpeg
ORGANIZER;CN="Biblioteca Jude%C8%9Bean%C4%83 Alexandru %C8%99i Aristia Aman":MAILTO:bib@aman.ro
GEO:44.3301785;23.7948808
END:VEVENT
BEGIN:VEVENT
DTSTART;TZID=Europe/Bucharest:20250914T100000
DTEND;TZID=Europe/Bucharest:20250914T210000
DTSTAMP:20260424T171127
CREATED:20250818T103755Z
LAST-MODIFIED:20250818T103755Z
UID:10007933-1757844000-1757883600@craiovalive.ro
SUMMARY:Lavanda Fest - Craiova 2025
DESCRIPTION:Craiova\, ne întoarcem la tine! Ediția cu numărul #42 Lavanda Fest va avea loc în Piața Mihai Viteazul\, în perioada 11 – 14 septembrie 2025 \n Te așteptăm cu peste 40 de branduri creative românești venite din toate colțurile țării\, cu numeroase produse din lavandă direct din lanul proaspăt mov\, precum și cu colțuri foto instagramabile pregătite special pentru această ediție de toamnă!\nÎți pregătim și o serie de momente artistice memorabile (muzică clasică\, folk\, pop-rock)\, ateliere pentru copii și spectacole de magie!\nCând? 11 – 14 septembrie 2025\n interval orar:zilnic între orele 10.00 – 21.00\nUnde? Craiova – Piața Mihai Viteazul\nProducători de lavandă și alți artizani din domenii diverse vor veni din toată țara\, din orașe precum: Iași\, Vrancea\, Constanța\, Brașov\, București\, Timișoara\, Cluj\, Sibiu\, Brăila\, Galați\, Giurgiu\, Pitești\, Arad sau Bacău și se vor aduna într-un singur loc: Piața Mihai Viteazul din Craiova!\n Cei peste 40 de expozanți cu branduri creative din domenii diverse vor avea la standurile lor și “ceva cu lavandă” așa cum te-am obișnuit deja la fiecare ediție de până acum:\n muultă lavandă sub diverse forme delicatese culinare cu lavandă precum: înghețată\, limonadă\, macarons\, miere\, dulceață ș.a. sosuri inedite cosmetice naturale aranjamente florale flori și plante aromatice la ghiveci bijuterii și diverse accesorii unice haine din materiale naturale jucării handmade decorațiuni artistice colțuri foto instagramabileateliere pentru copii\nIntrarea este liberă \n Lavanda Fest te întâmpină cu muulte zâmbete împletite cu povești scrise cu inima de micii producători locali și cu sute de produse unice\, făurite cu suflet!\n\nLavanda Fest susține afacerile creative românești!\nEveniment organizat de Fleurane\nParteneri: Purple Lands\, Mai Kurtoskalacs\, Pretty Kitty\nSusținut de Radio Magic FM!
URL:https://craiovalive.ro/eveniment/lavanda-fest-craiova-2025/2025-09-14/
LOCATION:Piața Mihai Viteazul\, Craiova\, Dolj\, România
CATEGORIES:Expoziție,Turism
ATTACH;FMTTYPE=image/jpeg:https://craiovalive.ro/wp-content/uploads/2025/08/Lavanda-Fest-Craiova-2025.jpg
GEO:44.31805;23.79493
END:VEVENT
END:VCALENDAR