BEGIN:VCALENDAR
VERSION:2.0
PRODID:-//Craiova Live - ECPv6.15.18//NONSGML v1.0//EN
CALSCALE:GREGORIAN
METHOD:PUBLISH
X-WR-CALNAME:Craiova Live
X-ORIGINAL-URL:https://craiovalive.ro
X-WR-CALDESC:Evenimente pentru Craiova Live
REFRESH-INTERVAL;VALUE=DURATION:PT1H
X-Robots-Tag:noindex
X-PUBLISHED-TTL:PT1H
BEGIN:VTIMEZONE
TZID:Europe/Bucharest
BEGIN:DAYLIGHT
TZOFFSETFROM:+0200
TZOFFSETTO:+0300
TZNAME:EEST
DTSTART:20240331T010000
END:DAYLIGHT
BEGIN:STANDARD
TZOFFSETFROM:+0300
TZOFFSETTO:+0200
TZNAME:EET
DTSTART:20241027T010000
END:STANDARD
BEGIN:DAYLIGHT
TZOFFSETFROM:+0200
TZOFFSETTO:+0300
TZNAME:EEST
DTSTART:20250330T010000
END:DAYLIGHT
BEGIN:STANDARD
TZOFFSETFROM:+0300
TZOFFSETTO:+0200
TZNAME:EET
DTSTART:20251026T010000
END:STANDARD
BEGIN:DAYLIGHT
TZOFFSETFROM:+0200
TZOFFSETTO:+0300
TZNAME:EEST
DTSTART:20260329T010000
END:DAYLIGHT
BEGIN:STANDARD
TZOFFSETFROM:+0300
TZOFFSETTO:+0200
TZNAME:EET
DTSTART:20261025T010000
END:STANDARD
BEGIN:DAYLIGHT
TZOFFSETFROM:+0200
TZOFFSETTO:+0300
TZNAME:EEST
DTSTART:20270328T010000
END:DAYLIGHT
BEGIN:STANDARD
TZOFFSETFROM:+0300
TZOFFSETTO:+0200
TZNAME:EET
DTSTART:20271031T010000
END:STANDARD
END:VTIMEZONE
BEGIN:VEVENT
DTSTART;TZID=Europe/Bucharest:20260219T160000
DTEND;TZID=Europe/Bucharest:20260219T170000
DTSTAMP:20260424T022753
CREATED:20260216T130749Z
LAST-MODIFIED:20260216T130749Z
UID:10013922-1771516800-1771520400@craiovalive.ro
SUMMARY:Ghidaje gratuite în Cabinetul „Constantin Brâncuși” - Muzeul de Artă Craiova
DESCRIPTION:Brâncuși și-a iubit sculpturile ca pe el însuși\, ca pe sinele pe care dorea să-l arate lumii. O parte din el se află la Muzeul de Artă din Craiova\, iar în fiecare an\, pe 19 februarie\, opera sa revine mai mult ca oricând în centrul atenției. De aceea\, vă invităm să o privim mai atent și să vorbim despre moștenirea brâncuşiană\, vizitând cabinetul care îi poartă numele. Sperăm ca prin prezentarea acestor lucrări\, în contextul mai larg al operei sale aflate pe teritoriul României și al semnificației ei\, în revoluția estetică pe care opera lui a reprezentat-o\, să ni-l putem revendica pe Brâncuși în singurul mod cinstit față de el. Nu cu gelozie patriotardă\, ci cu prețuirea de care trebuie să se bucure un artist titanic\, care ne-a oferit și continuă să ne ofere\, prin creația sa\, un pașaport spre un tărâm neguvernat de timp sau de spațiu\, ci de valori atemporale. Accesul acolo e condiționat doar de curiozitate\, de o privire atentă și deschiderea afectuoasă spre frumos a fiecăruia dintre noi.\n\n\nMuzeul de Artă Craiova vă invită pe 19 februarie 2026\, ziua de naştere a lui Constantin Brâncuşi\, să participați la ghidajele gratuite organizate pentru grupuri\, realizate de muzeografi\, după următorul orar:\n\n\n Joi\, 19 februarie 2026:\n10:30 – 11:30\n12:00 – 13:00\n14:30 – 15:30\n16:00 – 17:00\n\n\n Înscrierile pentru ghidajele gratuite în Cabinetul „Constantin Brâncuși” se pot face la numărul de telefon 0251 412 342 sau adresa de e-mail info@muzeuldeartacraiova.ro.
URL:https://craiovalive.ro/eveniment/ghidaje-gratuite-in-cabinetul-constantin-brancusi-muzeul-de-arta-craiova/2026-02-19/4/
LOCATION:Muzeul de Artă Craiova\, Calea Unirii\, nr. 15\, Craiova\, Dolj\, România
CATEGORIES:Turism
ATTACH;FMTTYPE=image/jpeg:https://craiovalive.ro/wp-content/uploads/2026/02/Ghidaje-gratuite-in-Cabinetul-„Constantin-Brancusi-Muzeul-de-Arta-Craiova.jpg
ORGANIZER;CN="Muzeul de Art%C4%83 Craiova":MAILTO:info@muzeuldeartacraiova.ro
GEO:44.3191666;23.7952566
X-APPLE-STRUCTURED-LOCATION;VALUE=URI;X-ADDRESS=Muzeul de Artă Craiova Calea Unirii nr. 15 Craiova Dolj România;X-APPLE-RADIUS=500;X-TITLE=Calea Unirii\, nr. 15:geo:23.7952566,44.3191666
END:VEVENT
BEGIN:VEVENT
DTSTART;TZID=Europe/Bucharest:20251221T100000
DTEND;TZID=Europe/Bucharest:20251221T120000
DTSTAMP:20260424T022753
CREATED:20250730T185539Z
LAST-MODIFIED:20251208T124908Z
UID:10012439-1766311200-1766318400@craiovalive.ro
SUMMARY:Tur ghidat Craiova
DESCRIPTION:Tur ghidat Craiova – descoperă Craiova cu ghid!\n\n\n\nDacă vizitezi Craiova pe perioada Târgului de Crăciun și vrei să te bucuri de o dimineață relaxată\, înțesată de informații istorice\, povești și legende locale\, dar și de stare de bine\, 𝐢̂𝐧𝐬𝐜𝐫𝐢𝐞-𝐭𝐞 𝐥𝐚 𝐮𝐧 𝐭𝐮𝐫 𝐂𝐫𝐚𝐢𝐨𝐯𝐚 𝐆𝐮𝐢𝐝𝐞𝐝 𝐓𝐨𝐮𝐫𝐬!\n\n– Doar pe durata Târgului de Crăciun organizăm tururi de oraș pe bază de înscriere (nu pentru grupuri); datele disponibile și linkul de înscriere\, mai jos! –\nÎți propunem un tur standard (durată aprox. 2 ore) pentru a începe să cunoști povestea și să simți farmecul Cetății Băniei! Este un tur ghidat pietonal exterior\, ce se desfășoară în zona centrală a orașului Craiova. Garantăm că va fi amuzant 😅\, va fi serios\, va fi cu referințe din istorie 📜\, cultură 🎭 și artă 🎨; într-un cuvânt\, va fi frumos pentru că vom fi împreună prin Craiova!\n\n📣 Turul are loc dacă se înscriu minim 5 persoane (14+ ani)\n📩 Înscrierea este obligatorie prin formular (max. 5 persoane / formular)\n💸 Participarea se face pe baza unei donații de 50 lei / persoană în vederea sprijinirii activității Asociației Monumente Oltenia de promovare a patrimoniului cultural-turistic al regiunii. Donația se poate face cash\, la finalul turului\, sau prin transfer bancar către:\nAsociația Monumente Oltenia\nDate de contact: info@monumenteoltenia.ro / 0743 20 32 99\nCont bancar: RO21RNCB0139144136920001\nBanca: BCR DOLJ PATRIA (CRAIOVA)\nMențiune (neapărat): donațieTe așteptăm la tur să te îndrăgostim de Craiova! 💙Oră începere tur: 10:00\nDurata: aprox. 2 ore\nDate disponibile:\n\n\n\n\nVineri\, 12 decembrie\nSâmbătă\, decembrie\n\n\n\n\n\n\nDuminică\, 14 decembrie\n\n\n\n\n\n\nVineri\, 19 decembrie\n\n\n\n\n\n\nSâmbătă\, 20 decembrie\n\n\n\n\n\n\nDuminic\, 21 decembrie\n\n\nLINK ÎNSCRIERE – CLICK AICI!!!
URL:https://craiovalive.ro/eveniment/tur-ghidat-craiova/2025-12-21/
LOCATION:Locații multiple\, Craiova\, Dolj\, România
CATEGORIES:Turism
ATTACH;FMTTYPE=image/jpeg:https://craiovalive.ro/wp-content/uploads/2025/07/Tur-ghidat-de-oras-Craiova-in-perioada-Targului-de-Craciun-Craiova.jpg
ORGANIZER;CN="Asocia%C8%9Bia Monumente Oltenia":MAILTO:info@monumenteoltenia.ro
GEO:44.3301785;23.7948808
END:VEVENT
BEGIN:VEVENT
DTSTART;TZID=Europe/Bucharest:20250914T100000
DTEND;TZID=Europe/Bucharest:20250914T210000
DTSTAMP:20260424T022753
CREATED:20250818T103755Z
LAST-MODIFIED:20250818T103755Z
UID:10007933-1757844000-1757883600@craiovalive.ro
SUMMARY:Lavanda Fest - Craiova 2025
DESCRIPTION:Craiova\, ne întoarcem la tine! Ediția cu numărul #42 Lavanda Fest va avea loc în Piața Mihai Viteazul\, în perioada 11 – 14 septembrie 2025 \n Te așteptăm cu peste 40 de branduri creative românești venite din toate colțurile țării\, cu numeroase produse din lavandă direct din lanul proaspăt mov\, precum și cu colțuri foto instagramabile pregătite special pentru această ediție de toamnă!\nÎți pregătim și o serie de momente artistice memorabile (muzică clasică\, folk\, pop-rock)\, ateliere pentru copii și spectacole de magie!\nCând? 11 – 14 septembrie 2025\n interval orar:zilnic între orele 10.00 – 21.00\nUnde? Craiova – Piața Mihai Viteazul\nProducători de lavandă și alți artizani din domenii diverse vor veni din toată țara\, din orașe precum: Iași\, Vrancea\, Constanța\, Brașov\, București\, Timișoara\, Cluj\, Sibiu\, Brăila\, Galați\, Giurgiu\, Pitești\, Arad sau Bacău și se vor aduna într-un singur loc: Piața Mihai Viteazul din Craiova!\n Cei peste 40 de expozanți cu branduri creative din domenii diverse vor avea la standurile lor și “ceva cu lavandă” așa cum te-am obișnuit deja la fiecare ediție de până acum:\n muultă lavandă sub diverse forme delicatese culinare cu lavandă precum: înghețată\, limonadă\, macarons\, miere\, dulceață ș.a. sosuri inedite cosmetice naturale aranjamente florale flori și plante aromatice la ghiveci bijuterii și diverse accesorii unice haine din materiale naturale jucării handmade decorațiuni artistice colțuri foto instagramabileateliere pentru copii\nIntrarea este liberă \n Lavanda Fest te întâmpină cu muulte zâmbete împletite cu povești scrise cu inima de micii producători locali și cu sute de produse unice\, făurite cu suflet!\n\nLavanda Fest susține afacerile creative românești!\nEveniment organizat de Fleurane\nParteneri: Purple Lands\, Mai Kurtoskalacs\, Pretty Kitty\nSusținut de Radio Magic FM!
URL:https://craiovalive.ro/eveniment/lavanda-fest-craiova-2025/2025-09-14/
LOCATION:Piața Mihai Viteazul\, Craiova\, Dolj\, România
CATEGORIES:Expoziție,Turism
ATTACH;FMTTYPE=image/jpeg:https://craiovalive.ro/wp-content/uploads/2025/08/Lavanda-Fest-Craiova-2025.jpg
GEO:44.31805;23.79493
END:VEVENT
BEGIN:VEVENT
DTSTART;TZID=Europe/Bucharest:20250914T100000
DTEND;TZID=Europe/Bucharest:20250914T160000
DTSTAMP:20260424T022753
CREATED:20250911T105236Z
LAST-MODIFIED:20250911T122455Z
UID:10009719-1757844000-1757865600@craiovalive.ro
SUMMARY:Zilele Europene ale Patrimoniului la Biblioteca Aman și Muzeul Cărții și Exilului Românesc
DESCRIPTION:În perioada 12 – 14 septembrie 2025\, România va celebra cea de-a XXXIII-a ediție a Zilelor Europene ale Patrimoniului\, un eveniment care pune în valoare moștenirea culturală și istorică a țării noastre\, ca parte a patrimoniului european. \nZilele Europene ale Patrimoniului\, desfășurate în acest an sub tema: „Patrimoniu și Arhitectură. Ferestre către trecut\, Uși către viitor”\, sunt organizate anual în toate țările europene\, sub egida Consiliului Europei și a Uniunii Europene\, având scopul de a aduce în atenția publicului diversitatea patrimoniului cultural european și precum și importanța protejării acestuia. \nAnul acesta\, Biblioteca Județeană „Alexandru și Aristia Aman” și Muzeul Cărții și Exilului Românesc găzduiesc o serie de activități speciale. Astfel\, vineri\, în intervalul orar 10 -16\, se organizează vizitarea expoziției permanente „Elena Farago” și a depozitului general de carte – Biblioteca Județeană „Alexandru și Aristia Aman”\, prilej cu care se va desfășura și  o expoziție de carte de patrimoniu\, aflate în colecțiile instituției. \nDe asemenea\, vineri\, la orele 10.00\, 13.00 și 15.00\, va fi organizată „ruta culturală” a Bibliotecii Județene „Alexandru și Aristia Aman” și a Muzeului Cărții și Exilului Românesc. Acest demers prevede un tur ghidat care cuprinde clădirea Aman și expunerea unui scurt istoric a Casei Memoriale „Elena Farago” (edificiul se află în prezent într-un amplu proces de reabilitare\, în cadrul unui proiect cu finanțare europeană\, implementat de către Consiliul Județean Dolj)\, precum și desfășurarea unei expoziții dedicate renumitei poete. \nTotodată\, de vineri până duminică\, în intervalul orar 9 – 17 inițiativa prevede o prezentare și vizitarea Casei Dianu\, imobil în care funcționează Muzeul Cărții și Exilului Românesc\, dar și organizarea unei expoziții carte de patrimoniu\, din colecțiile Muzeului Cărții și Exilului Românesc. „«Zilele Europene ale Patrimoniului» reprezintă un nou prilej de a ne redescoperi rădăcinile\, valorile și bunurile  care ne-au modelat istoria și\, în același timp\, ne-au făcut parte a culturii europene. Invităm toți craiovenii să participe la activitățile propuse de Biblioteca Județeană și să fie parte în acest important demers de protejare a patrimoniului nostru european comun” – Radu Vințeanu\, manager Biblioteca Județeană „Alexandru și Aristia Aman”.
URL:https://craiovalive.ro/eveniment/zilele-europene-ale-patrimoniului-la-biblioteca-aman-si-muzeul-cartii-si-exilului-romanesc/2025-09-14/
LOCATION:Locații multiple\, Craiova\, Dolj\, România
CATEGORIES:Expoziție,Turism
ATTACH;FMTTYPE=image/jpeg:https://craiovalive.ro/wp-content/uploads/2025/09/Zilele-Europene-ale-Patrimoniului-la-Biblioteca-Aman-si-Muzeul-Cartii-si-Exilului-Romanesc.jpeg
ORGANIZER;CN="Biblioteca Jude%C8%9Bean%C4%83 Alexandru %C8%99i Aristia Aman":MAILTO:bib@aman.ro
GEO:44.3301785;23.7948808
END:VEVENT
END:VCALENDAR