BEGIN:VCALENDAR
VERSION:2.0
PRODID:-//Craiova Live - ECPv6.15.18//NONSGML v1.0//EN
CALSCALE:GREGORIAN
METHOD:PUBLISH
X-ORIGINAL-URL:https://craiovalive.ro
X-WR-CALDESC:Evenimente pentru Craiova Live
REFRESH-INTERVAL;VALUE=DURATION:PT1H
X-Robots-Tag:noindex
X-PUBLISHED-TTL:PT1H
BEGIN:VTIMEZONE
TZID:Europe/Bucharest
BEGIN:DAYLIGHT
TZOFFSETFROM:+0200
TZOFFSETTO:+0300
TZNAME:EEST
DTSTART:20250330T010000
END:DAYLIGHT
BEGIN:STANDARD
TZOFFSETFROM:+0300
TZOFFSETTO:+0200
TZNAME:EET
DTSTART:20251026T010000
END:STANDARD
BEGIN:DAYLIGHT
TZOFFSETFROM:+0200
TZOFFSETTO:+0300
TZNAME:EEST
DTSTART:20260329T010000
END:DAYLIGHT
BEGIN:STANDARD
TZOFFSETFROM:+0300
TZOFFSETTO:+0200
TZNAME:EET
DTSTART:20261025T010000
END:STANDARD
BEGIN:DAYLIGHT
TZOFFSETFROM:+0200
TZOFFSETTO:+0300
TZNAME:EEST
DTSTART:20270328T010000
END:DAYLIGHT
BEGIN:STANDARD
TZOFFSETFROM:+0300
TZOFFSETTO:+0200
TZNAME:EET
DTSTART:20271031T010000
END:STANDARD
END:VTIMEZONE
BEGIN:VEVENT
DTSTART;TZID=Europe/Bucharest:20260219T103000
DTEND;TZID=Europe/Bucharest:20260219T113000
DTSTAMP:20260424T030010
CREATED:20260216T130749Z
LAST-MODIFIED:20260216T130749Z
UID:10013919-1771497000-1771500600@craiovalive.ro
SUMMARY:Ghidaje gratuite în Cabinetul „Constantin Brâncuși” - Muzeul de Artă Craiova
DESCRIPTION:Brâncuși și-a iubit sculpturile ca pe el însuși\, ca pe sinele pe care dorea să-l arate lumii. O parte din el se află la Muzeul de Artă din Craiova\, iar în fiecare an\, pe 19 februarie\, opera sa revine mai mult ca oricând în centrul atenției. De aceea\, vă invităm să o privim mai atent și să vorbim despre moștenirea brâncuşiană\, vizitând cabinetul care îi poartă numele. Sperăm ca prin prezentarea acestor lucrări\, în contextul mai larg al operei sale aflate pe teritoriul României și al semnificației ei\, în revoluția estetică pe care opera lui a reprezentat-o\, să ni-l putem revendica pe Brâncuși în singurul mod cinstit față de el. Nu cu gelozie patriotardă\, ci cu prețuirea de care trebuie să se bucure un artist titanic\, care ne-a oferit și continuă să ne ofere\, prin creația sa\, un pașaport spre un tărâm neguvernat de timp sau de spațiu\, ci de valori atemporale. Accesul acolo e condiționat doar de curiozitate\, de o privire atentă și deschiderea afectuoasă spre frumos a fiecăruia dintre noi.\n\n\nMuzeul de Artă Craiova vă invită pe 19 februarie 2026\, ziua de naştere a lui Constantin Brâncuşi\, să participați la ghidajele gratuite organizate pentru grupuri\, realizate de muzeografi\, după următorul orar:\n\n\n Joi\, 19 februarie 2026:\n10:30 – 11:30\n12:00 – 13:00\n14:30 – 15:30\n16:00 – 17:00\n\n\n Înscrierile pentru ghidajele gratuite în Cabinetul „Constantin Brâncuși” se pot face la numărul de telefon 0251 412 342 sau adresa de e-mail info@muzeuldeartacraiova.ro.
URL:https://craiovalive.ro/eveniment/ghidaje-gratuite-in-cabinetul-constantin-brancusi-muzeul-de-arta-craiova/2026-02-19/1/
LOCATION:Muzeul de Artă Craiova\, Calea Unirii\, nr. 15\, Craiova\, Dolj\, România
CATEGORIES:Turism
ATTACH;FMTTYPE=image/jpeg:https://craiovalive.ro/wp-content/uploads/2026/02/Ghidaje-gratuite-in-Cabinetul-„Constantin-Brancusi-Muzeul-de-Arta-Craiova.jpg
ORGANIZER;CN="Muzeul de Art%C4%83 Craiova":MAILTO:info@muzeuldeartacraiova.ro
GEO:44.3191666;23.7952566
X-APPLE-STRUCTURED-LOCATION;VALUE=URI;X-ADDRESS=Muzeul de Artă Craiova Calea Unirii nr. 15 Craiova Dolj România;X-APPLE-RADIUS=500;X-TITLE=Calea Unirii\, nr. 15:geo:23.7952566,44.3191666
END:VEVENT
BEGIN:VEVENT
DTSTART;TZID=Europe/Bucharest:20260219T120000
DTEND;TZID=Europe/Bucharest:20260219T130000
DTSTAMP:20260424T030010
CREATED:20260216T130749Z
LAST-MODIFIED:20260216T130749Z
UID:10013920-1771502400-1771506000@craiovalive.ro
SUMMARY:Ghidaje gratuite în Cabinetul „Constantin Brâncuși” - Muzeul de Artă Craiova
DESCRIPTION:Brâncuși și-a iubit sculpturile ca pe el însuși\, ca pe sinele pe care dorea să-l arate lumii. O parte din el se află la Muzeul de Artă din Craiova\, iar în fiecare an\, pe 19 februarie\, opera sa revine mai mult ca oricând în centrul atenției. De aceea\, vă invităm să o privim mai atent și să vorbim despre moștenirea brâncuşiană\, vizitând cabinetul care îi poartă numele. Sperăm ca prin prezentarea acestor lucrări\, în contextul mai larg al operei sale aflate pe teritoriul României și al semnificației ei\, în revoluția estetică pe care opera lui a reprezentat-o\, să ni-l putem revendica pe Brâncuși în singurul mod cinstit față de el. Nu cu gelozie patriotardă\, ci cu prețuirea de care trebuie să se bucure un artist titanic\, care ne-a oferit și continuă să ne ofere\, prin creația sa\, un pașaport spre un tărâm neguvernat de timp sau de spațiu\, ci de valori atemporale. Accesul acolo e condiționat doar de curiozitate\, de o privire atentă și deschiderea afectuoasă spre frumos a fiecăruia dintre noi.\n\n\nMuzeul de Artă Craiova vă invită pe 19 februarie 2026\, ziua de naştere a lui Constantin Brâncuşi\, să participați la ghidajele gratuite organizate pentru grupuri\, realizate de muzeografi\, după următorul orar:\n\n\n Joi\, 19 februarie 2026:\n10:30 – 11:30\n12:00 – 13:00\n14:30 – 15:30\n16:00 – 17:00\n\n\n Înscrierile pentru ghidajele gratuite în Cabinetul „Constantin Brâncuși” se pot face la numărul de telefon 0251 412 342 sau adresa de e-mail info@muzeuldeartacraiova.ro.
URL:https://craiovalive.ro/eveniment/ghidaje-gratuite-in-cabinetul-constantin-brancusi-muzeul-de-arta-craiova/2026-02-19/2/
LOCATION:Muzeul de Artă Craiova\, Calea Unirii\, nr. 15\, Craiova\, Dolj\, România
CATEGORIES:Turism
ATTACH;FMTTYPE=image/jpeg:https://craiovalive.ro/wp-content/uploads/2026/02/Ghidaje-gratuite-in-Cabinetul-„Constantin-Brancusi-Muzeul-de-Arta-Craiova.jpg
ORGANIZER;CN="Muzeul de Art%C4%83 Craiova":MAILTO:info@muzeuldeartacraiova.ro
GEO:44.3191666;23.7952566
X-APPLE-STRUCTURED-LOCATION;VALUE=URI;X-ADDRESS=Muzeul de Artă Craiova Calea Unirii nr. 15 Craiova Dolj România;X-APPLE-RADIUS=500;X-TITLE=Calea Unirii\, nr. 15:geo:23.7952566,44.3191666
END:VEVENT
BEGIN:VEVENT
DTSTART;TZID=Europe/Bucharest:20260219T143000
DTEND;TZID=Europe/Bucharest:20260219T153000
DTSTAMP:20260424T030010
CREATED:20260216T130749Z
LAST-MODIFIED:20260216T130749Z
UID:10013921-1771511400-1771515000@craiovalive.ro
SUMMARY:Ghidaje gratuite în Cabinetul „Constantin Brâncuși” - Muzeul de Artă Craiova
DESCRIPTION:Brâncuși și-a iubit sculpturile ca pe el însuși\, ca pe sinele pe care dorea să-l arate lumii. O parte din el se află la Muzeul de Artă din Craiova\, iar în fiecare an\, pe 19 februarie\, opera sa revine mai mult ca oricând în centrul atenției. De aceea\, vă invităm să o privim mai atent și să vorbim despre moștenirea brâncuşiană\, vizitând cabinetul care îi poartă numele. Sperăm ca prin prezentarea acestor lucrări\, în contextul mai larg al operei sale aflate pe teritoriul României și al semnificației ei\, în revoluția estetică pe care opera lui a reprezentat-o\, să ni-l putem revendica pe Brâncuși în singurul mod cinstit față de el. Nu cu gelozie patriotardă\, ci cu prețuirea de care trebuie să se bucure un artist titanic\, care ne-a oferit și continuă să ne ofere\, prin creația sa\, un pașaport spre un tărâm neguvernat de timp sau de spațiu\, ci de valori atemporale. Accesul acolo e condiționat doar de curiozitate\, de o privire atentă și deschiderea afectuoasă spre frumos a fiecăruia dintre noi.\n\n\nMuzeul de Artă Craiova vă invită pe 19 februarie 2026\, ziua de naştere a lui Constantin Brâncuşi\, să participați la ghidajele gratuite organizate pentru grupuri\, realizate de muzeografi\, după următorul orar:\n\n\n Joi\, 19 februarie 2026:\n10:30 – 11:30\n12:00 – 13:00\n14:30 – 15:30\n16:00 – 17:00\n\n\n Înscrierile pentru ghidajele gratuite în Cabinetul „Constantin Brâncuși” se pot face la numărul de telefon 0251 412 342 sau adresa de e-mail info@muzeuldeartacraiova.ro.
URL:https://craiovalive.ro/eveniment/ghidaje-gratuite-in-cabinetul-constantin-brancusi-muzeul-de-arta-craiova/2026-02-19/3/
LOCATION:Muzeul de Artă Craiova\, Calea Unirii\, nr. 15\, Craiova\, Dolj\, România
CATEGORIES:Turism
ATTACH;FMTTYPE=image/jpeg:https://craiovalive.ro/wp-content/uploads/2026/02/Ghidaje-gratuite-in-Cabinetul-„Constantin-Brancusi-Muzeul-de-Arta-Craiova.jpg
ORGANIZER;CN="Muzeul de Art%C4%83 Craiova":MAILTO:info@muzeuldeartacraiova.ro
GEO:44.3191666;23.7952566
X-APPLE-STRUCTURED-LOCATION;VALUE=URI;X-ADDRESS=Muzeul de Artă Craiova Calea Unirii nr. 15 Craiova Dolj România;X-APPLE-RADIUS=500;X-TITLE=Calea Unirii\, nr. 15:geo:23.7952566,44.3191666
END:VEVENT
BEGIN:VEVENT
DTSTART;TZID=Europe/Bucharest:20260219T160000
DTEND;TZID=Europe/Bucharest:20260219T170000
DTSTAMP:20260424T030010
CREATED:20260216T130749Z
LAST-MODIFIED:20260216T130749Z
UID:10013922-1771516800-1771520400@craiovalive.ro
SUMMARY:Ghidaje gratuite în Cabinetul „Constantin Brâncuși” - Muzeul de Artă Craiova
DESCRIPTION:Brâncuși și-a iubit sculpturile ca pe el însuși\, ca pe sinele pe care dorea să-l arate lumii. O parte din el se află la Muzeul de Artă din Craiova\, iar în fiecare an\, pe 19 februarie\, opera sa revine mai mult ca oricând în centrul atenției. De aceea\, vă invităm să o privim mai atent și să vorbim despre moștenirea brâncuşiană\, vizitând cabinetul care îi poartă numele. Sperăm ca prin prezentarea acestor lucrări\, în contextul mai larg al operei sale aflate pe teritoriul României și al semnificației ei\, în revoluția estetică pe care opera lui a reprezentat-o\, să ni-l putem revendica pe Brâncuși în singurul mod cinstit față de el. Nu cu gelozie patriotardă\, ci cu prețuirea de care trebuie să se bucure un artist titanic\, care ne-a oferit și continuă să ne ofere\, prin creația sa\, un pașaport spre un tărâm neguvernat de timp sau de spațiu\, ci de valori atemporale. Accesul acolo e condiționat doar de curiozitate\, de o privire atentă și deschiderea afectuoasă spre frumos a fiecăruia dintre noi.\n\n\nMuzeul de Artă Craiova vă invită pe 19 februarie 2026\, ziua de naştere a lui Constantin Brâncuşi\, să participați la ghidajele gratuite organizate pentru grupuri\, realizate de muzeografi\, după următorul orar:\n\n\n Joi\, 19 februarie 2026:\n10:30 – 11:30\n12:00 – 13:00\n14:30 – 15:30\n16:00 – 17:00\n\n\n Înscrierile pentru ghidajele gratuite în Cabinetul „Constantin Brâncuși” se pot face la numărul de telefon 0251 412 342 sau adresa de e-mail info@muzeuldeartacraiova.ro.
URL:https://craiovalive.ro/eveniment/ghidaje-gratuite-in-cabinetul-constantin-brancusi-muzeul-de-arta-craiova/2026-02-19/4/
LOCATION:Muzeul de Artă Craiova\, Calea Unirii\, nr. 15\, Craiova\, Dolj\, România
CATEGORIES:Turism
ATTACH;FMTTYPE=image/jpeg:https://craiovalive.ro/wp-content/uploads/2026/02/Ghidaje-gratuite-in-Cabinetul-„Constantin-Brancusi-Muzeul-de-Arta-Craiova.jpg
ORGANIZER;CN="Muzeul de Art%C4%83 Craiova":MAILTO:info@muzeuldeartacraiova.ro
GEO:44.3191666;23.7952566
X-APPLE-STRUCTURED-LOCATION;VALUE=URI;X-ADDRESS=Muzeul de Artă Craiova Calea Unirii nr. 15 Craiova Dolj România;X-APPLE-RADIUS=500;X-TITLE=Calea Unirii\, nr. 15:geo:23.7952566,44.3191666
END:VEVENT
END:VCALENDAR