BEGIN:VCALENDAR
VERSION:2.0
PRODID:-//Craiova Live - ECPv6.15.18//NONSGML v1.0//EN
CALSCALE:GREGORIAN
METHOD:PUBLISH
X-WR-CALNAME:Craiova Live
X-ORIGINAL-URL:https://craiovalive.ro
X-WR-CALDESC:Evenimente pentru Craiova Live
REFRESH-INTERVAL;VALUE=DURATION:PT1H
X-Robots-Tag:noindex
X-PUBLISHED-TTL:PT1H
BEGIN:VTIMEZONE
TZID:Europe/Bucharest
BEGIN:DAYLIGHT
TZOFFSETFROM:+0200
TZOFFSETTO:+0300
TZNAME:EEST
DTSTART:20250330T010000
END:DAYLIGHT
BEGIN:STANDARD
TZOFFSETFROM:+0300
TZOFFSETTO:+0200
TZNAME:EET
DTSTART:20251026T010000
END:STANDARD
BEGIN:DAYLIGHT
TZOFFSETFROM:+0200
TZOFFSETTO:+0300
TZNAME:EEST
DTSTART:20260329T010000
END:DAYLIGHT
BEGIN:STANDARD
TZOFFSETFROM:+0300
TZOFFSETTO:+0200
TZNAME:EET
DTSTART:20261025T010000
END:STANDARD
BEGIN:DAYLIGHT
TZOFFSETFROM:+0200
TZOFFSETTO:+0300
TZNAME:EEST
DTSTART:20270328T010000
END:DAYLIGHT
BEGIN:STANDARD
TZOFFSETFROM:+0300
TZOFFSETTO:+0200
TZNAME:EET
DTSTART:20271031T010000
END:STANDARD
END:VTIMEZONE
BEGIN:VEVENT
DTSTART;TZID=Europe/Bucharest:20260518T190000
DTEND;TZID=Europe/Bucharest:20260518T203000
DTSTAMP:20260423T230522
CREATED:20260127T123747Z
LAST-MODIFIED:20260317T223049Z
UID:10014195-1779130800-1779136200@craiovalive.ro
SUMMARY:Iubitul meu dușman
DESCRIPTION:Iubitul meu dușman\nDistribuția: \nIulia Colan\nGeorge Albert Costea\nRomaniţa Ionescu\nIulia Lazăr\nCătălin-Mihai Miculeasa\nMircea Mogoșeanu\nRoxana Mutu\nRaluca Păun\nCosmin Rădescu\nVlad Udrescu \nde: Gianina CĂRBUNARIU \nRegia artistică: Gianina CĂRBUNARIU \nScenografia: Adrian GANEA \nMuzica: Oscar UNGVARI \nGrafică afiș: Levente BENEDEK \nDistribuția: Iulia Colan (Sabina)\, George Albert Costea (Radu)\, Romanița Ionescu (fantoma Elenei Ceaușescu\, fantoma Annei Bathory\, fantoma tabloului împușcat)\, Iulia Lazăr (Iulia)\, Cătălin-Mihai Miculeasa (Doru)\, Mircea Mogoșeanu (Vlad)\, Roxana Mutu (Ioana)\, Raluca Păun (Marcela)\, Cosmin Rădescu (Ștefan)\, Vlad Udrescu Victor\, Fantoma lui Pârvulescu) \nSecretar literar: Haricleea Nicolau \nRegie scenă: Mihai MANEA \nSunet: Dan FENEȘAN \nLumini: Ștefăniță REZEANU\, Marian TUDORACHE \nVideo: Florin Chirea\, Eduard Sărăcin \nSufleur: Ramona POPA \nProducător: Marius PÎRLEA \nDurata: 120 de min fără pauză \nGenul spectacolului: comedie neagră \n„Temele pe care le-am explorat în Iubitul meu dușman sunt recurente în spectacolele la care am lucrat în ultimii zece ani: invadarea spațiului public de către discursuri care dezbină\, neîncrederea tot mai mare\, chiar ruptura dintre diferite clase sociale\, nevoia de a cerceta și de a înțelege în prezent consecințele unor evenimente din trecutul recent românesc și european\, rolul artei în acest context tot mai complicat politic\, dificultatea de a imagina împreună\, ca societate\, un viitor. Ce este nou este plasarea disputelor într-un „tablou de familie”\, care adună perspective diverse\, fiecare dintre ele reclamând propriul adevăr\, cu diferite argumente ce țin de experiența personală\, de rolul „primit” în societate după 1989\, dar și de capacitatea de a căuta și de a filtra informațiile contradictorii generate în online în ultimii ani. \nDe multe ori\, pentru spectacolele la care lucrez fac documentare prin interviuri sau cercetare în arhive\, colaborez cu sociologi\, istorici și antropologi\, mă inspir din investigații jurnalistice. Într-un moment în care mulți dintre noi vor să audă povești simple\, în care să creadă fără a dedica prea mult timp cercetării\, a chestiona realitatea și felul în care ea este falsificată a devenit un act de eroism. Iar în contextul în care opiniile cele mai vocale se doresc a fi și cele mai corecte\, deținătoare ale adevărurilor absolute\, devine din ce în ce mai dificil să percepem cine sunt impostorii și care sunt agendele lor. Peste tot în lume\, jurnaliștii care încearcă să își facă meseria și să informeze corect sunt\, tot mai des\, ținta atacurilor\, a intimidărilor\, a cenzurii. Situația lor reflectă\, de fapt\, situația de asediu în care se află democrația. Mi-am dorit să cercetez o parte din mecanismele prin care s-a creat și se creează această nouă lume. \nScenariul exista în bună parte înainte de începerea repetițiilor\, l-am montat într-o primă versiune la Teatrul Național din Slovacia\, în 2025\, după o documentare de aproape un an în cele două țări. Ajunsă la Craiova\, împreună cu echipa artistică a Teatrului Național „Marin Sorescu”\, am continuat reflecția asupra realităților care se desfășoară sub ochii noștri\, nu doar în România\, ci peste tot în lume. Am încercat să prelucrăm experiența noastră comună într-un spectacol care să lanseze întrebări publicului contemporan\, în speranța că un dialog între noi\, toți cei care împărțim scena socială\, este încă posibil. De altfel\, spațiul scenic imaginat de scenograful Adrian Ganea este\, în același timp\, o piață publică\, o sufragerie a unei familii și\, uneori\, chiar o sală de teatru. \nSunt foarte recunoscătoare Teatrului Național din Craiova că mi-a oferit oportunitatea de a crea acest spectacol în România\, pentru spectatorii săi\, într-un moment în care\, pentru mine ca artistă\, a gândi\, a râde\, a ne emoționa\, a pune întrebări împreună sunt gesturi simple\, însă cu o imensă valoare regeneratoare.” \nGianina Cărbunariu \nSinopsis\nÎn Iubitul meu dușman\, Gianina Cărbunariu plasează acțiunea într-o reuniune de familie din ajunul Crăciunului\, într-o casă de vacanță din România. Membrii unei familii și câțiva prieteni apropiați se întâlnesc pentru a petrece sărbătorile și a pregăti botezul unui copil. Discuțiile aparent obișnuite despre viața de zi cu zi alunecă treptat în dispute despre Revoluția din 1989\, comunism\, conspirații politice și identitate națională. Pe măsură ce tensiunile cresc\, realitatea cotidiană este invadată de fantomele trecutului\, apar în scenă Elena Ceaușescu\, Anna Bathory\, Jean Pârvulesco. Personajele se confruntă cu propriile prejudecăți\, nostalgii și teorii contradictorii despre istorie și prezent. Piesa explorează modul în care trecutul continuă să bântuie prezentul și felul în care conflictele ideologice se mută\, subtil\, în intimitatea sufrageriilor\, în conversațiile dintre cei apropiați. \nPornind de la cercetări realizate în România și Slovacia\, spectacolul Iubitul meu dușman își propune să investigheze mecanismele dezinformării și ale polarizării sociale\, lansând întrebarea dacă\, într-o lume marcată de conflicte și propagandă\, mai este posibil să găsim o poveste comună care să ne apropie\, nu să ne dezbine. \n 
URL:https://craiovalive.ro/eveniment/iubitul-meu-dusman/2026-05-18/
LOCATION:Teatrul Național Craiova – Sala Amza Pellea\, Str. A. I. Cuza\, nr. 11\, Craiova\, Dolj\, 200585\, România
CATEGORIES:Teatru
ATTACH;FMTTYPE=image/webp:https://craiovalive.ro/wp-content/uploads/2026/01/Iubitul-meu-dusman.webp
ORGANIZER;CN="Teatrul Na%C8%9Bional Marin Sorescu Craiova":MAILTO:secretariat@tncms.ro
GEO:44.3186661;23.8003743
X-APPLE-STRUCTURED-LOCATION;VALUE=URI;X-ADDRESS=Teatrul Național Craiova – Sala Amza Pellea Str. A. I. Cuza nr. 11 Craiova Dolj 200585 România;X-APPLE-RADIUS=500;X-TITLE=Str. A. I. Cuza\, nr. 11:geo:23.8003743,44.3186661
END:VEVENT
END:VCALENDAR