BEGIN:VCALENDAR
VERSION:2.0
PRODID:-//Craiova Live - ECPv6.15.18//NONSGML v1.0//EN
CALSCALE:GREGORIAN
METHOD:PUBLISH
X-WR-CALNAME:Craiova Live
X-ORIGINAL-URL:https://craiovalive.ro
X-WR-CALDESC:Evenimente pentru Craiova Live
REFRESH-INTERVAL;VALUE=DURATION:PT1H
X-Robots-Tag:noindex
X-PUBLISHED-TTL:PT1H
BEGIN:VTIMEZONE
TZID:Europe/Bucharest
BEGIN:DAYLIGHT
TZOFFSETFROM:+0200
TZOFFSETTO:+0300
TZNAME:EEST
DTSTART:20250330T010000
END:DAYLIGHT
BEGIN:STANDARD
TZOFFSETFROM:+0300
TZOFFSETTO:+0200
TZNAME:EET
DTSTART:20251026T010000
END:STANDARD
BEGIN:DAYLIGHT
TZOFFSETFROM:+0200
TZOFFSETTO:+0300
TZNAME:EEST
DTSTART:20260329T010000
END:DAYLIGHT
BEGIN:STANDARD
TZOFFSETFROM:+0300
TZOFFSETTO:+0200
TZNAME:EET
DTSTART:20261025T010000
END:STANDARD
BEGIN:DAYLIGHT
TZOFFSETFROM:+0200
TZOFFSETTO:+0300
TZNAME:EEST
DTSTART:20270328T010000
END:DAYLIGHT
BEGIN:STANDARD
TZOFFSETFROM:+0300
TZOFFSETTO:+0200
TZNAME:EET
DTSTART:20271031T010000
END:STANDARD
END:VTIMEZONE
BEGIN:VEVENT
DTSTART;TZID=Europe/Bucharest:20260512T190000
DTEND;TZID=Europe/Bucharest:20260512T203000
DTSTAMP:20260424T021351
CREATED:20260419T211656Z
LAST-MODIFIED:20260419T211656Z
UID:10014566-1778612400-1778617800@craiovalive.ro
SUMMARY:Răscoala
DESCRIPTION:RĂSCOALA – REGIA DRAGOȘ MUȘOIU- REACTOR DE CREAȚIE ȘI EXPERIMENT(16) \n\n\nDistribuția\n\n\n\n\n\n\n\nAlexandra Caras\nRadu Dogaru\nCătălin Filip\nSzilárd Gáspár-Barra\nÁkos Kerekes\nImecs-Magdó Levente\nVictor Muntean\nCalița Nantu\nAna Rednic\nPaula Maria Seichei\nRita Sigmond\nDoru Taloș\nAdonis Tanța \nProducător: Reactor de creație și experiment \nScenariul de: Alexa Băcanu \nDupă romanul lui Liviu Rebreanu \nRegia: Dragoș Alexandru Mușoiu \nMuzica: Boros Csaba (actul 1)\, Danaga (actul 2) și Radu Dogaru („Cine-aș fi putut să fiu”) \nPregătire muzicală: Renata Burcă \nPregătire vocală: Adonis Tanța \nScenografia: Mihai Păcurar \nCoregrafia: Sergiu Diță \nIlustrații diagrame: Lucia Mărneanu \nAsistență scenografie: Alexandra Conțiu \nSunet și lumini: Cătălin Filip și Alex Maftei \nSonorizare: Radu Boancă \nTraducere în limba maghiară: Csog Brigitta \nFoto și video afiș: Mihai Păcurar \nDurata: 2h20 (fără pauză) \nVârsta: 16+ \nProducător: Reactor de creație și experiment \nSubiect: déjà vu \nGen: musical \nAtmosferă: răscolitoare \nAtenție! Spectacolul conține scene de violență fizică și sexuală care vă pot afecta emoțional. \nInegalitate socială\, manipulare\, neîncredere în clasa politică\, tensiuni acumulate care așteaptă doar un mic imbold pentru a erupe violent. Este anul 1907\, România e tânără\, lumea clocotește. Aproape 120 de ani mai târziu\, ne uităm înapoi la acest moment cu o senzație incomodă de familiaritate. Lumea din romanul lui Rebreanu\, adusă pe scena Reactor aproape ca un act de auto-sfidare\, e pestriță\, crudă și fascinantă – un strămoș excelent mumificat\, care deține cheia identității noastre; care ne poate spune de unde venim și\, dacă nu suntem atenți\, unde putem ajunge. \nProgram cultural co-finanțat de Administrația Fondului Cultural Național. Programul nu reprezintă în mod necesar poziția Administrației Fondului Cultural Național. AFCN nu este responsabilă de conținutul programului sau de modul în care rezultatele programului pot fi folosite. Acestea sunt în întregime responsabilitatea beneficiarului finanțării.
URL:https://craiovalive.ro/eveniment/rascoala/
LOCATION:Teatrul Național Craiova – Sala I. D. Sîrbu\, Str. A. I. Cuza\, nr. 11\, Craiova\, Dolj\, 200585\, România
CATEGORIES:Teatru
ATTACH;FMTTYPE=image/webp:https://craiovalive.ro/wp-content/uploads/2026/04/Rascoala.webp
ORGANIZER;CN="Teatrul Na%C8%9Bional Marin Sorescu Craiova":MAILTO:secretariat@tncms.ro
GEO:44.3186661;23.8003743
X-APPLE-STRUCTURED-LOCATION;VALUE=URI;X-ADDRESS=Teatrul Național Craiova – Sala I. D. Sîrbu Str. A. I. Cuza nr. 11 Craiova Dolj 200585 România;X-APPLE-RADIUS=500;X-TITLE=Str. A. I. Cuza\, nr. 11:geo:23.8003743,44.3186661
END:VEVENT
END:VCALENDAR