BEGIN:VCALENDAR
VERSION:2.0
PRODID:-//Craiova Live - ECPv6.15.18//NONSGML v1.0//EN
CALSCALE:GREGORIAN
METHOD:PUBLISH
X-ORIGINAL-URL:https://craiovalive.ro
X-WR-CALDESC:Evenimente pentru Craiova Live
REFRESH-INTERVAL;VALUE=DURATION:PT1H
X-Robots-Tag:noindex
X-PUBLISHED-TTL:PT1H
BEGIN:VTIMEZONE
TZID:Europe/Bucharest
BEGIN:DAYLIGHT
TZOFFSETFROM:+0200
TZOFFSETTO:+0300
TZNAME:EEST
DTSTART:20250330T010000
END:DAYLIGHT
BEGIN:STANDARD
TZOFFSETFROM:+0300
TZOFFSETTO:+0200
TZNAME:EET
DTSTART:20251026T010000
END:STANDARD
BEGIN:DAYLIGHT
TZOFFSETFROM:+0200
TZOFFSETTO:+0300
TZNAME:EEST
DTSTART:20260329T010000
END:DAYLIGHT
BEGIN:STANDARD
TZOFFSETFROM:+0300
TZOFFSETTO:+0200
TZNAME:EET
DTSTART:20261025T010000
END:STANDARD
BEGIN:DAYLIGHT
TZOFFSETFROM:+0200
TZOFFSETTO:+0300
TZNAME:EEST
DTSTART:20270328T010000
END:DAYLIGHT
BEGIN:STANDARD
TZOFFSETFROM:+0300
TZOFFSETTO:+0200
TZNAME:EET
DTSTART:20271031T010000
END:STANDARD
END:VTIMEZONE
BEGIN:VEVENT
DTSTART;TZID=Europe/Bucharest:20260505T190000
DTEND;TZID=Europe/Bucharest:20260505T203000
DTSTAMP:20260424T004447
CREATED:20241231T142232Z
LAST-MODIFIED:20260307T210555Z
UID:10013024-1778007600-1778013000@craiovalive.ro
SUMMARY:Ivanov
DESCRIPTION:de: Anton Pavlovici Cehov \nTraducere: Raluca Rădulescu \nRegia artistică & director de imagine: Eugen Jebeleanu \nScenografia: Velica Panduru \nMuzica: Rémi Billardon \nLighting design și Asistența de scenografie: Sabina Reus \nAsistent regie: Ovidiu Cârstea \nProducător delegat: Marius Pîrlea \nFoto credit: Albert Dobrin \nSecretar literar: Haricleea Nicolau \nRegizor tehnic: Sorin Gruia \nSufleor: Adrian Țîrcă \nSunet: Emy Guran\, Dan Feneșan \nLumini: Alina Mitrache\, Marin Tudorache \nVideo: Florin Chirea\, Robert Rusescu \nData premierei: 15 și 16 oct. 2025 / sala Amza Pellea \n\n\n\n\n\nSpectacol cu scene de nuditate frontală\, recomandat persoanelor peste 16 ani \n\n\n\n\n\nDistribuția: \nMonica Ardeleanu\nGabriela Baciu\nAlex Calangiu\nRamona Drăgulescu\nIulia Colan\nGeorge Albert Costea\nCorina Druc\nRomaniţa Ionescu\nIulia Lazăr\nGeni Macsim\nCătălin-Mihai Miculeasa\nClaudiu Mihail\nMircea Mogoșeanu\nRaluca Păun\nMarian Politic\nVlad Udrescu\nCostinela Ungureanu\nCătălin Vieru \nSinopsis\nIvanov (1887) surprinde criza morală și existențială a lui Nikolai Ivanov\, un tânăr moșier copleșit de datorii\, blocat într-o apatie lucidă\, asemenea unui Hamlet provincial. Cândva idealist\, el devine conștient de eșecul propriei vieți\, dar e incapabil să acționeze sau să-și mai găsească un sens în viață. Căsnicia cu Anna Petrovna\, grav bolnavă\, se destramă pe fondul indiferenței lui Ivanov față de suferința ei. Într-o atmosferă de provincialism sufocant\, zvonuri și ipocrizie\, Ivanov caută zadarnic pofta de viață în atracția față de tânăra Sașa. Nici promisiunea unei noi iubiri\, nici suferința soției nu îl animă\, pentru că adevărata sursă a rătăcirii sale nu se află în împrejurări\, ci în propriul spirit epuizat. \nCuvântul regizorului\n„Am lucrat prima oară pe textul Ivanov când eram la Masterul de Regie de la Paris pentru că încă de atunci mă intriga drama acestui om și raportarea sa la cei din jurul său\, dar s-a întâmplat să montez această piesă abia acum\, când am ajuns la vârsta personajului titular. \nVulnerabilitatea lui Ivanov cât și forța autodistrugerii îmi sunt trăiri cunoscute și mă regăsesc în comportamentul său naiv și pasional în același timp. Dorința sa de a se autodepăși\, neasumarea iubirii cât și lupta cu propriul demon interior îl împiedică să fie lucid\, responsabil\, conștient. Ivanov este un « nebun »\, dar ce înseamnă să fii normal în lumea în care trăim? \nÎntr-o eră a psihologiei de Instagram și a individualismului care ucide orice formă de apartenență\, într-o permanentă strategie spre o viață « echilibrată »\, Ivanovul de azi este sufocat de așteptările și satisfacerea nevoilor celorlalți. \nIvanov nu e un erou. Este un exclus prin definiție\, el nu corespunde tiparelor\, e un marginalizat emoțional pentru că încă mai crede în plăcerea misterioasă a vieții de a trăi clipa. E\, totodată\, un alintat și o victimă a propriei existențe\, dar și\, paradoxal\, un călău al celor pentru care simte dragoste carnală\, spirituală\, familială. Ivanov este o creatură\, un suflet zbuciumat de propriile frici și de fantomele trecutului. \nÎn continuitatea căutărilor mele formale actuale\, la intersecția dintre teatru și film\, și în ambiguitatea expunerii realității între adevăr și ficțiune\, am explorat\, împreună cu echipa mea de creație și cu actorii și actrițele trupei naționalului craiovean\, un concept al deconstrucției dramatice\, care să zdruncine mecanismele atât actoricești\, cât și tehnice ale unei teatralități clasice.” \nEugen Jebeleanu \n\n„Procesul particularizării lui Ivanov este cel mai riscant și Vlad Udrescu riscă tot\, e radical și ofensiv\, vulnerabil și cinic. E antierou sau este un monstru? cum declara într-un interviu recent Eugen Jebeleanu. Și una și alta\, dar mai ales e un personaj in progess\, în de/construcție\, el e din familia oamenilor buni care nu pot face bine ai lui Cehov\, despre care vorbea Nabokov. E un exces de luciditate în Ivanov\, și camera de filmat permite o expansiune în captarea momentelor de (auto)demascare. În actul al doilea\, Sașa ia camera și înregistrează spovedania rușinii\, este un moment complet\, intensitatea cu care Monica Ardeleanu Andone\, personajul sonor al spectacolului imaginat de Rémi Billardon\, interpretează Imaginer l’ Amour\, și dansul lui Ivanov\, frumusețe fără sfârșit\, năluca unei iubiri\, zbor seducător care se termină brusc\, viața nouă e doar un vis\, și dezvrăjirea este completă\, Ivanov e mai aproape de autoderiziune decât de autoiluzionare.” \nDaniela Firescu\, Ivanov\, comedia absurdă\, revista Ramuri\, nr. 11/2025\, pag.15
URL:https://craiovalive.ro/eveniment/ivanov/2026-05-05/
LOCATION:Teatrul Național Craiova – Sala Amza Pellea\, Str. A. I. Cuza\, nr. 11\, Craiova\, Dolj\, 200585\, România
CATEGORIES:Teatru
ATTACH;FMTTYPE=image/png:https://craiovalive.ro/wp-content/uploads/2024/12/Ivanov-TNCMS.png
ORGANIZER;CN="Teatrul Na%C8%9Bional Marin Sorescu Craiova":MAILTO:secretariat@tncms.ro
GEO:44.3186661;23.8003743
X-APPLE-STRUCTURED-LOCATION;VALUE=URI;X-ADDRESS=Teatrul Național Craiova – Sala Amza Pellea Str. A. I. Cuza nr. 11 Craiova Dolj 200585 România;X-APPLE-RADIUS=500;X-TITLE=Str. A. I. Cuza\, nr. 11:geo:23.8003743,44.3186661
END:VEVENT
BEGIN:VEVENT
DTSTART;TZID=Europe/Bucharest:20260506T190000
DTEND;TZID=Europe/Bucharest:20260506T203000
DTSTAMP:20260424T004447
CREATED:20241231T142232Z
LAST-MODIFIED:20260307T210555Z
UID:10013025-1778094000-1778099400@craiovalive.ro
SUMMARY:Ivanov
DESCRIPTION:de: Anton Pavlovici Cehov \nTraducere: Raluca Rădulescu \nRegia artistică & director de imagine: Eugen Jebeleanu \nScenografia: Velica Panduru \nMuzica: Rémi Billardon \nLighting design și Asistența de scenografie: Sabina Reus \nAsistent regie: Ovidiu Cârstea \nProducător delegat: Marius Pîrlea \nFoto credit: Albert Dobrin \nSecretar literar: Haricleea Nicolau \nRegizor tehnic: Sorin Gruia \nSufleor: Adrian Țîrcă \nSunet: Emy Guran\, Dan Feneșan \nLumini: Alina Mitrache\, Marin Tudorache \nVideo: Florin Chirea\, Robert Rusescu \nData premierei: 15 și 16 oct. 2025 / sala Amza Pellea \n\n\n\n\n\nSpectacol cu scene de nuditate frontală\, recomandat persoanelor peste 16 ani \n\n\n\n\n\nDistribuția: \nMonica Ardeleanu\nGabriela Baciu\nAlex Calangiu\nRamona Drăgulescu\nIulia Colan\nGeorge Albert Costea\nCorina Druc\nRomaniţa Ionescu\nIulia Lazăr\nGeni Macsim\nCătălin-Mihai Miculeasa\nClaudiu Mihail\nMircea Mogoșeanu\nRaluca Păun\nMarian Politic\nVlad Udrescu\nCostinela Ungureanu\nCătălin Vieru \nSinopsis\nIvanov (1887) surprinde criza morală și existențială a lui Nikolai Ivanov\, un tânăr moșier copleșit de datorii\, blocat într-o apatie lucidă\, asemenea unui Hamlet provincial. Cândva idealist\, el devine conștient de eșecul propriei vieți\, dar e incapabil să acționeze sau să-și mai găsească un sens în viață. Căsnicia cu Anna Petrovna\, grav bolnavă\, se destramă pe fondul indiferenței lui Ivanov față de suferința ei. Într-o atmosferă de provincialism sufocant\, zvonuri și ipocrizie\, Ivanov caută zadarnic pofta de viață în atracția față de tânăra Sașa. Nici promisiunea unei noi iubiri\, nici suferința soției nu îl animă\, pentru că adevărata sursă a rătăcirii sale nu se află în împrejurări\, ci în propriul spirit epuizat. \nCuvântul regizorului\n„Am lucrat prima oară pe textul Ivanov când eram la Masterul de Regie de la Paris pentru că încă de atunci mă intriga drama acestui om și raportarea sa la cei din jurul său\, dar s-a întâmplat să montez această piesă abia acum\, când am ajuns la vârsta personajului titular. \nVulnerabilitatea lui Ivanov cât și forța autodistrugerii îmi sunt trăiri cunoscute și mă regăsesc în comportamentul său naiv și pasional în același timp. Dorința sa de a se autodepăși\, neasumarea iubirii cât și lupta cu propriul demon interior îl împiedică să fie lucid\, responsabil\, conștient. Ivanov este un « nebun »\, dar ce înseamnă să fii normal în lumea în care trăim? \nÎntr-o eră a psihologiei de Instagram și a individualismului care ucide orice formă de apartenență\, într-o permanentă strategie spre o viață « echilibrată »\, Ivanovul de azi este sufocat de așteptările și satisfacerea nevoilor celorlalți. \nIvanov nu e un erou. Este un exclus prin definiție\, el nu corespunde tiparelor\, e un marginalizat emoțional pentru că încă mai crede în plăcerea misterioasă a vieții de a trăi clipa. E\, totodată\, un alintat și o victimă a propriei existențe\, dar și\, paradoxal\, un călău al celor pentru care simte dragoste carnală\, spirituală\, familială. Ivanov este o creatură\, un suflet zbuciumat de propriile frici și de fantomele trecutului. \nÎn continuitatea căutărilor mele formale actuale\, la intersecția dintre teatru și film\, și în ambiguitatea expunerii realității între adevăr și ficțiune\, am explorat\, împreună cu echipa mea de creație și cu actorii și actrițele trupei naționalului craiovean\, un concept al deconstrucției dramatice\, care să zdruncine mecanismele atât actoricești\, cât și tehnice ale unei teatralități clasice.” \nEugen Jebeleanu \n\n„Procesul particularizării lui Ivanov este cel mai riscant și Vlad Udrescu riscă tot\, e radical și ofensiv\, vulnerabil și cinic. E antierou sau este un monstru? cum declara într-un interviu recent Eugen Jebeleanu. Și una și alta\, dar mai ales e un personaj in progess\, în de/construcție\, el e din familia oamenilor buni care nu pot face bine ai lui Cehov\, despre care vorbea Nabokov. E un exces de luciditate în Ivanov\, și camera de filmat permite o expansiune în captarea momentelor de (auto)demascare. În actul al doilea\, Sașa ia camera și înregistrează spovedania rușinii\, este un moment complet\, intensitatea cu care Monica Ardeleanu Andone\, personajul sonor al spectacolului imaginat de Rémi Billardon\, interpretează Imaginer l’ Amour\, și dansul lui Ivanov\, frumusețe fără sfârșit\, năluca unei iubiri\, zbor seducător care se termină brusc\, viața nouă e doar un vis\, și dezvrăjirea este completă\, Ivanov e mai aproape de autoderiziune decât de autoiluzionare.” \nDaniela Firescu\, Ivanov\, comedia absurdă\, revista Ramuri\, nr. 11/2025\, pag.15
URL:https://craiovalive.ro/eveniment/ivanov/2026-05-06/
LOCATION:Teatrul Național Craiova – Sala Amza Pellea\, Str. A. I. Cuza\, nr. 11\, Craiova\, Dolj\, 200585\, România
CATEGORIES:Teatru
ATTACH;FMTTYPE=image/png:https://craiovalive.ro/wp-content/uploads/2024/12/Ivanov-TNCMS.png
ORGANIZER;CN="Teatrul Na%C8%9Bional Marin Sorescu Craiova":MAILTO:secretariat@tncms.ro
GEO:44.3186661;23.8003743
X-APPLE-STRUCTURED-LOCATION;VALUE=URI;X-ADDRESS=Teatrul Național Craiova – Sala Amza Pellea Str. A. I. Cuza nr. 11 Craiova Dolj 200585 România;X-APPLE-RADIUS=500;X-TITLE=Str. A. I. Cuza\, nr. 11:geo:23.8003743,44.3186661
END:VEVENT
BEGIN:VEVENT
DTSTART;TZID=Europe/Bucharest:20260507T190000
DTEND;TZID=Europe/Bucharest:20260507T203000
DTSTAMP:20260424T004447
CREATED:20260220T215800Z
LAST-MODIFIED:20260220T220135Z
UID:10014053-1778180400-1778185800@craiovalive.ro
SUMMARY:Cineva care să mă păzească
DESCRIPTION:Cineva care să mă păzească – Regia Iris Spiridon \n DistribuțiaCostinela Ungureanu\nAnca Dinu\nAlex Calangiu\nCorina Druc\nAnastasia Cepoi\nRareș Boureanu\nRegia\, traducerea textului\, versiunea scenică: Iris SpiridonText de: Henry JamesScenografia: Lia DogaruSufleor: Adrian ȚîrcăRegizor scenă: Cristian Norel PetecProducător: Marius PîrleaSunet: George UdreaLumini: Alina Mitrache\n\nFotograf: Florin Chirea \n\nDurata: 75 min\n\nSinopsis\nO tânără guvernantă ajunge la moșia Bly pentru a veghea doi copii orfani – Miles și Flora. Singură\, izolată\, legată de o promisiune de a nu deranja niciodată angajatorul ei\, ea descoperă curând că lucrurile nu sunt ceea ce par. \nPrezențe. Umbre. Priviri care persistă dincolo de margini. \nPe măsură ce vara se întoarce spre toamnă\, guvernanta devine convinsă că ceva îi bântuie pe copii – sau poate că ceva deja locuiește în ei. Dar ce anume vede ea\, de fapt? Fantome ale trecutului care refuză să plece? Sau propriile ei temeri care iau formă în tăcerea casei? \nÎntre inocență și corupție\, între salvare și obsesie\, realitatea se destramă fir cu fir. Cine are nevoie de pază? Copiii de fantome? Fantomele de uitare? Sau guvernanta de propria ei minte? \nCineva trebuie să păzească. Dar cine păzește paznicul? \n  \n“Fantomele lui Henry James nu au nimic în comun cu vechile fantome violente – căpitanii de vas împroșcați cu sânge\, caii albi\, femeile decapitate de pe poteci și câmpuri bătute de vânt. Fantomele lui James își au originea în noi înșine. Ele se arată de fiecare dată când sensul ne depășește capacitatea de a-l exprima\, de fiecare dată când banalul pare învăluit în straniu.” – Virginia Woolf \nIris Spiridon \nIris Spiridon este regizoare de teatru\, scenaristă de film și autoare de carte. A studiat scenografie la Liceul Nicolae Tonitza\, respectiv regie de teatru la UNATC\, cu licență (2008)\, masterat (2010) și doctorat (2013) la clasa prof. dr. Alexa Visarion. \nA montat spectacole în țară\, dintre care amintim : “Povestea personajelor mele pierdute” (Teatrul Dramaturgilor Români)\, “Ziua în care a dispărut soarele”\, “Tărâmul din globul fermecat”\, “Psycho” ( Apollo 111\, București)\, “Povestea păsării fără cuib” Teatrul Vasile Alecsandri Iași)\, “Fereastra secretă” (Teatrul Andrei Mureșanu din Sfântu Gheorghe )\, “Do you love me “– un horror romantic (Teatrul Național București)\, “Hedwig and the Angry Inch” (Point\, București)\, “ And baby makes seven” ( Teatrul German Timișoara). \nCo-scenaristă pentru “Luna verde” (2010) și “Ana” (2014)\, în regia lui Alexa Visarion; semnează scenariul filmului “Un prinț și jumătate” (2018\, regia Ana Lungu)\, în care interpretează un rol principal. \nÎn 2021 a publicat volumul Virusiada Copiilor (Editura Triade\, Timișoara)\, iar în 2024 a publicat \nromanul “Așa cum v-am iubit eu” în colecția lui Dan Sociu ( Editura Alchimica\, București ). \nÎn prezent se află în pre-producție cu filmul de debut “Regi 3-16:28”\, cu al cărui scenariu a obținut finanțare la concursul CNC din 2025.
URL:https://craiovalive.ro/eveniment/cineva-care-sa-ma-pazeasca/2026-05-07/
LOCATION:Teatrul Național Craiova – Sala I. D. Sîrbu\, Str. A. I. Cuza\, nr. 11\, Craiova\, Dolj\, 200585\, România
CATEGORIES:Teatru
ATTACH;FMTTYPE=image/webp:https://craiovalive.ro/wp-content/uploads/2026/01/Afis-Cineva-care-sa-ma-pazeasca.webp
ORGANIZER;CN="Teatrul Na%C8%9Bional Marin Sorescu Craiova":MAILTO:secretariat@tncms.ro
GEO:44.3186661;23.8003743
X-APPLE-STRUCTURED-LOCATION;VALUE=URI;X-ADDRESS=Teatrul Național Craiova – Sala I. D. Sîrbu Str. A. I. Cuza nr. 11 Craiova Dolj 200585 România;X-APPLE-RADIUS=500;X-TITLE=Str. A. I. Cuza\, nr. 11:geo:23.8003743,44.3186661
END:VEVENT
BEGIN:VEVENT
DTSTART;TZID=Europe/Bucharest:20260507T203000
DTEND;TZID=Europe/Bucharest:20260507T220000
DTSTAMP:20260424T004447
CREATED:20260419T211343Z
LAST-MODIFIED:20260422T210157Z
UID:10014564-1778185800-1778191200@craiovalive.ro
SUMMARY:A douăspezecea noapte
DESCRIPTION:„A douăsprezecea noapte” de William Shakespeare\, în regia lui Florin Liță\nO reinterpretare contemporană a uneia dintre cele mai cunoscute comedii shakespeariene\, spectacolul explorează relația dintre timp\, identitate și iluzia fericirii\, într-un univers scenic fluid\, unde granița dintre realitate și teatru devine tot mai fină.\n\n\n Bilete online https://ebilet.tncms.ro/ebilet sau la Agenția Teatrului\, Str. A.I.Cuza\, nr.11.\n\n\n Spectacolul va fi prezentat și în cadrul Festivalului Internațional Shakespeare\, pe 22 mai.\n\n\nEchipa:\nScenografia: Maria-Alexandra Ivan\nSound design: Adrian Piciorea\nAdaptare text: Diana Tănase\nAsistent regie: Diana Petec\nTraducerea: Mihnea Gheorghiu\nRegia tehnică: Dodu Ispas\n\n\nDistribuția:\nDragoș Măceșanu\nRamona Drăgulescu\nTheodora Bălan\nAdrian Tudor\nLucian Vlăsceanu\nBogdan Oprănescu\nPetronela Zurba / Diana Petec\nNicolae Vicol\nCătălin-Mihai Miculeasa\nDarko Huruială\n\n\nSinopsis\nSingură\, naufragiată și speriată\, Viola ajunge într-o țară necunoscută\, agățându-se de o singură speranță: că fratele ei\, Sebastian\, este încă în viață. Pentru a supraviețui\, se deghizează și intră în slujba ducelui Orsino sub numele de Cezario\, fără să știe că această alegere o va prinde într-un joc al inimilor din care nimeni nu iese neatins.\nÎn Iliria\, fiecare iubește pe cine nu trebuie: Orsino o iubește pe Olivia\, Olivia se îndrăgostește de Cezario\, iar Viola îl iubește\, în tăcere\, pe Orsino. În jurul lor\, lumea nu e niciodată liniștită: Sir Toby\, Sir Andrew și Maria trăiesc în ritmul farselor\, Malvolio visează la o viață la care nu are acces\, iar Feste vede totul fără să judece.\nIliria este o lume în care oamenii se ascund — în spatele măștilor\, al orgoliilor sau al dorințelor lor — iar iubirea scoate la iveală exact ceea ce încearcă să ascundă. Uneori ne apropie\, alteori ne rătăcește\, dar întotdeauna ne expune.\nTimpul curge tăcut peste toate acestea. Leagă\, încurcă și\, în cele din urmă\, dezvăluie. Iar când măștile încep să cadă\, rămâne doar întrebarea: cine suntem dincolo de ele?\n\n\nVă așteptăm să descoperiți un univers în care iubirea\, identitatea și aparențele se transformă neîncetat.\n\n\n* Spectacolul este realizat de Tipografia Hub în coproducție cu Teatrul Național „Marin Sorescu” Craiova\, cu sprijinul Distribuție Oltenia – parte din Evryo\, partener al Tipografia Hub.
URL:https://craiovalive.ro/eveniment/a-douaspezecea-noapte/2026-05-07/
LOCATION:Teatrul Național Craiova – Sala Atelier\, Str. A. I. Cuza\, nr. 11\, Craiova\, Dolj\, 200585\, România
CATEGORIES:Teatru
ATTACH;FMTTYPE=image/jpeg:https://craiovalive.ro/wp-content/uploads/2026/04/A-douaspezecea-noapte.jpg
ORGANIZER;CN="Teatrul Na%C8%9Bional Marin Sorescu Craiova":MAILTO:secretariat@tncms.ro
GEO:44.3186661;23.8003743
X-APPLE-STRUCTURED-LOCATION;VALUE=URI;X-ADDRESS=Teatrul Național Craiova – Sala Atelier Str. A. I. Cuza nr. 11 Craiova Dolj 200585 România;X-APPLE-RADIUS=500;X-TITLE=Str. A. I. Cuza\, nr. 11:geo:23.8003743,44.3186661
END:VEVENT
BEGIN:VEVENT
DTSTART;TZID=Europe/Bucharest:20260508T190000
DTEND;TZID=Europe/Bucharest:20260508T210000
DTSTAMP:20260424T004447
CREATED:20260114T155300Z
LAST-MODIFIED:20260307T213521Z
UID:10013011-1778266800-1778274000@craiovalive.ro
SUMMARY:Regele Lear
DESCRIPTION:Regele Lear \nRegia: Silviu Purcărete \nScenografia: Dragoș Buhagiar \nMuzica: Vasile Șirli \n Silviu Purcărete revine la Craiova\, pentru un eveniment teatral de excepție: REGELE LEAR\, de William Shakespeare.\nDupă ani de așteptare\, unul dintre cei mai mari regizori români se întoarce la Craiova cu o montare monumentală a uneia dintre cele mai tulburătoare tragedii shakespeariene. Un spectacol de forță\, vizual și emoțional.
URL:https://craiovalive.ro/eveniment/regele-lear/2026-05-08/
LOCATION:Teatrul Național Craiova – Sala Amza Pellea\, Str. A. I. Cuza\, nr. 11\, Craiova\, Dolj\, 200585\, România
CATEGORIES:Teatru
ATTACH;FMTTYPE=image/webp:https://craiovalive.ro/wp-content/uploads/2026/01/Regele-Lear-Teatrul-National-Craiova.webp
ORGANIZER;CN="Teatrul Na%C8%9Bional Marin Sorescu Craiova":MAILTO:secretariat@tncms.ro
GEO:44.3186661;23.8003743
X-APPLE-STRUCTURED-LOCATION;VALUE=URI;X-ADDRESS=Teatrul Național Craiova – Sala Amza Pellea Str. A. I. Cuza nr. 11 Craiova Dolj 200585 România;X-APPLE-RADIUS=500;X-TITLE=Str. A. I. Cuza\, nr. 11:geo:23.8003743,44.3186661
END:VEVENT
BEGIN:VEVENT
DTSTART;TZID=Europe/Bucharest:20260509T170000
DTEND;TZID=Europe/Bucharest:20260509T183000
DTSTAMP:20260424T004447
CREATED:20260419T211343Z
LAST-MODIFIED:20260422T210157Z
UID:10014565-1778346000-1778351400@craiovalive.ro
SUMMARY:A douăspezecea noapte
DESCRIPTION:„A douăsprezecea noapte” de William Shakespeare\, în regia lui Florin Liță\nO reinterpretare contemporană a uneia dintre cele mai cunoscute comedii shakespeariene\, spectacolul explorează relația dintre timp\, identitate și iluzia fericirii\, într-un univers scenic fluid\, unde granița dintre realitate și teatru devine tot mai fină.\n\n\n Bilete online https://ebilet.tncms.ro/ebilet sau la Agenția Teatrului\, Str. A.I.Cuza\, nr.11.\n\n\n Spectacolul va fi prezentat și în cadrul Festivalului Internațional Shakespeare\, pe 22 mai.\n\n\nEchipa:\nScenografia: Maria-Alexandra Ivan\nSound design: Adrian Piciorea\nAdaptare text: Diana Tănase\nAsistent regie: Diana Petec\nTraducerea: Mihnea Gheorghiu\nRegia tehnică: Dodu Ispas\n\n\nDistribuția:\nDragoș Măceșanu\nRamona Drăgulescu\nTheodora Bălan\nAdrian Tudor\nLucian Vlăsceanu\nBogdan Oprănescu\nPetronela Zurba / Diana Petec\nNicolae Vicol\nCătălin-Mihai Miculeasa\nDarko Huruială\n\n\nSinopsis\nSingură\, naufragiată și speriată\, Viola ajunge într-o țară necunoscută\, agățându-se de o singură speranță: că fratele ei\, Sebastian\, este încă în viață. Pentru a supraviețui\, se deghizează și intră în slujba ducelui Orsino sub numele de Cezario\, fără să știe că această alegere o va prinde într-un joc al inimilor din care nimeni nu iese neatins.\nÎn Iliria\, fiecare iubește pe cine nu trebuie: Orsino o iubește pe Olivia\, Olivia se îndrăgostește de Cezario\, iar Viola îl iubește\, în tăcere\, pe Orsino. În jurul lor\, lumea nu e niciodată liniștită: Sir Toby\, Sir Andrew și Maria trăiesc în ritmul farselor\, Malvolio visează la o viață la care nu are acces\, iar Feste vede totul fără să judece.\nIliria este o lume în care oamenii se ascund — în spatele măștilor\, al orgoliilor sau al dorințelor lor — iar iubirea scoate la iveală exact ceea ce încearcă să ascundă. Uneori ne apropie\, alteori ne rătăcește\, dar întotdeauna ne expune.\nTimpul curge tăcut peste toate acestea. Leagă\, încurcă și\, în cele din urmă\, dezvăluie. Iar când măștile încep să cadă\, rămâne doar întrebarea: cine suntem dincolo de ele?\n\n\nVă așteptăm să descoperiți un univers în care iubirea\, identitatea și aparențele se transformă neîncetat.\n\n\n* Spectacolul este realizat de Tipografia Hub în coproducție cu Teatrul Național „Marin Sorescu” Craiova\, cu sprijinul Distribuție Oltenia – parte din Evryo\, partener al Tipografia Hub.
URL:https://craiovalive.ro/eveniment/a-douaspezecea-noapte/2026-05-09/
LOCATION:Teatrul Național Craiova – Sala Atelier\, Str. A. I. Cuza\, nr. 11\, Craiova\, Dolj\, 200585\, România
CATEGORIES:Teatru
ATTACH;FMTTYPE=image/jpeg:https://craiovalive.ro/wp-content/uploads/2026/04/A-douaspezecea-noapte.jpg
ORGANIZER;CN="Teatrul Na%C8%9Bional Marin Sorescu Craiova":MAILTO:secretariat@tncms.ro
GEO:44.3186661;23.8003743
X-APPLE-STRUCTURED-LOCATION;VALUE=URI;X-ADDRESS=Teatrul Național Craiova – Sala Atelier Str. A. I. Cuza nr. 11 Craiova Dolj 200585 România;X-APPLE-RADIUS=500;X-TITLE=Str. A. I. Cuza\, nr. 11:geo:23.8003743,44.3186661
END:VEVENT
BEGIN:VEVENT
DTSTART;TZID=Europe/Bucharest:20260509T190000
DTEND;TZID=Europe/Bucharest:20260509T210000
DTSTAMP:20260424T004447
CREATED:20260114T155300Z
LAST-MODIFIED:20260307T213521Z
UID:10013012-1778353200-1778360400@craiovalive.ro
SUMMARY:Regele Lear
DESCRIPTION:Regele Lear \nRegia: Silviu Purcărete \nScenografia: Dragoș Buhagiar \nMuzica: Vasile Șirli \n Silviu Purcărete revine la Craiova\, pentru un eveniment teatral de excepție: REGELE LEAR\, de William Shakespeare.\nDupă ani de așteptare\, unul dintre cei mai mari regizori români se întoarce la Craiova cu o montare monumentală a uneia dintre cele mai tulburătoare tragedii shakespeariene. Un spectacol de forță\, vizual și emoțional.
URL:https://craiovalive.ro/eveniment/regele-lear/2026-05-09/
LOCATION:Teatrul Național Craiova – Sala Amza Pellea\, Str. A. I. Cuza\, nr. 11\, Craiova\, Dolj\, 200585\, România
CATEGORIES:Teatru
ATTACH;FMTTYPE=image/webp:https://craiovalive.ro/wp-content/uploads/2026/01/Regele-Lear-Teatrul-National-Craiova.webp
ORGANIZER;CN="Teatrul Na%C8%9Bional Marin Sorescu Craiova":MAILTO:secretariat@tncms.ro
GEO:44.3186661;23.8003743
X-APPLE-STRUCTURED-LOCATION;VALUE=URI;X-ADDRESS=Teatrul Național Craiova – Sala Amza Pellea Str. A. I. Cuza nr. 11 Craiova Dolj 200585 România;X-APPLE-RADIUS=500;X-TITLE=Str. A. I. Cuza\, nr. 11:geo:23.8003743,44.3186661
END:VEVENT
END:VCALENDAR