BEGIN:VCALENDAR
VERSION:2.0
PRODID:-//Craiova Live - ECPv6.15.18//NONSGML v1.0//EN
CALSCALE:GREGORIAN
METHOD:PUBLISH
X-WR-CALNAME:Craiova Live
X-ORIGINAL-URL:https://craiovalive.ro
X-WR-CALDESC:Evenimente pentru Craiova Live
REFRESH-INTERVAL;VALUE=DURATION:PT1H
X-Robots-Tag:noindex
X-PUBLISHED-TTL:PT1H
BEGIN:VTIMEZONE
TZID:Europe/Bucharest
BEGIN:DAYLIGHT
TZOFFSETFROM:+0200
TZOFFSETTO:+0300
TZNAME:EEST
DTSTART:20250330T010000
END:DAYLIGHT
BEGIN:STANDARD
TZOFFSETFROM:+0300
TZOFFSETTO:+0200
TZNAME:EET
DTSTART:20251026T010000
END:STANDARD
BEGIN:DAYLIGHT
TZOFFSETFROM:+0200
TZOFFSETTO:+0300
TZNAME:EEST
DTSTART:20260329T010000
END:DAYLIGHT
BEGIN:STANDARD
TZOFFSETFROM:+0300
TZOFFSETTO:+0200
TZNAME:EET
DTSTART:20261025T010000
END:STANDARD
BEGIN:DAYLIGHT
TZOFFSETFROM:+0200
TZOFFSETTO:+0300
TZNAME:EEST
DTSTART:20270328T010000
END:DAYLIGHT
BEGIN:STANDARD
TZOFFSETFROM:+0300
TZOFFSETTO:+0200
TZNAME:EET
DTSTART:20271031T010000
END:STANDARD
END:VTIMEZONE
BEGIN:VEVENT
DTSTART;TZID=Europe/Bucharest:20260316T190000
DTEND;TZID=Europe/Bucharest:20260316T203000
DTSTAMP:20260424T033003
CREATED:20251227T170531Z
LAST-MODIFIED:20251227T170531Z
UID:10012691-1773687600-1773693000@craiovalive.ro
SUMMARY:Prins în ... plasă
DESCRIPTION:PRINS IN…PLASA \n Filarmonica Oltenia Craiova \n16 Martie 2026 ora 19:00 \nPRINS ÎN PLASĂ \, comedie pentru toate gusturile!!!\nPublicul doreşte să vadă și să revadă comediile regizate de Dan Tudor\,  dovadă că sălile sunt mereu neîncapatoare\, iar spectacolul “Prins în plasă” nu face excepție de la regulă. Textul parodic este generos pentru actori\,  riguros ţinut în frâu de regizorul expert în râs\, în comicul de situaţie şi de replică\, dar şi în tehnica alternanței de ritm sau invenție în cheie comică absurdă .\nDistribuția este excelentă: Alexandra Velniciuc\, Tudorel Filimon\, Dan Tudor\, Corina Dănilă\, Grațiela Teohari Duban\, Afrodita Androne și Gabriel Coveșeanu\,actori iubiți de publicul de comedie\,\nsusțin cu entuziasm și excelente interpretări nemaipomenitele întâmplări imaginate de regizor. Vă invităm să fiți martorii unui spectacol incendiar în care soția își surprinde soțul în compania unei domnișoare misterioase… în propria casă! O serie de personaje vor năvăli în casă pretinzând că sânt “neamuri prin alianță”!!!\nHaideți la COMEDIE!\nSe râde…cap-coadă!
URL:https://craiovalive.ro/eveniment/prins-in-plasa/
LOCATION:Filarmonica Oltenia\, Calea Unirii\, nr. 16\, Craiova\, Dolj\, 200585\, România
CATEGORIES:Teatru
ATTACH;FMTTYPE=image/jpeg:https://craiovalive.ro/wp-content/uploads/2025/12/Prins-in-plasa.jpeg
GEO:44.3172308;23.7944364
X-APPLE-STRUCTURED-LOCATION;VALUE=URI;X-ADDRESS=Filarmonica Oltenia Calea Unirii nr. 16 Craiova Dolj 200585 România;X-APPLE-RADIUS=500;X-TITLE=Calea Unirii\, nr. 16:geo:23.7944364,44.3172308
END:VEVENT
BEGIN:VEVENT
DTSTART;TZID=Europe/Bucharest:20260318T190000
DTEND;TZID=Europe/Bucharest:20260318T203000
DTSTAMP:20260424T033003
CREATED:20260215T193709Z
LAST-MODIFIED:20260215T193709Z
UID:10013474-1773860400-1773865800@craiovalive.ro
SUMMARY:Terapie în 3
DESCRIPTION:Terapie in 3 \n\nTeatrul Colibri Craiova \n\n18 Martie 2026 ora 19:00 \nOrice căsnicie poate fi salvată\, dar întotdeauna e nevoie de… trei și de o rețetă anume a succesului. Se ia o sotie nefericită\, un soț nehotărât și un psiholog nonconformist. \nSoțul se curăță de mamă\, se toacă mărunt\, se condimentează\, se pudrează\, dar mai ales se ține bine la păstrare sub papuc. Soția se ia cu binișorul\, se frământă bine\, se dospește\, se frăgezește până capătă o consistență docilă. \nSe ia căsnicia\, se întinde până la refuz\, se asezonează cu o aventură\, două\, după gust\, se reglează\, se testează bine limitele\, se încinge\, se răcește și se aduce la o temperatură constantă. Se introduce la cuptor\, se ține minim opt ani. Cu ajutorul unui psihoterapeut\, ea se leagă sau se dezleagă \nDistributie: Luminita Bucur\, Oleg Apostol si Maria Radu \nRegie: Radu Gabriel. \nVARSTA RECOMANDATA: 12+
URL:https://craiovalive.ro/eveniment/terapie-in-3/
LOCATION:Teatrul pentru copii și tineret Colibri\, Calea București\, nr. 56\, Craiova\, Dolj\, România
CATEGORIES:Teatru
ATTACH;FMTTYPE=image/jpeg:https://craiovalive.ro/wp-content/uploads/2026/02/Terapie-in-3.jpg
GEO:44.3151148;23.8215842
X-APPLE-STRUCTURED-LOCATION;VALUE=URI;X-ADDRESS=Teatrul pentru copii și tineret Colibri Calea București nr. 56 Craiova Dolj România;X-APPLE-RADIUS=500;X-TITLE=Calea București\, nr. 56:geo:23.8215842,44.3151148
END:VEVENT
BEGIN:VEVENT
DTSTART;TZID=Europe/Bucharest:20260319T190000
DTEND;TZID=Europe/Bucharest:20260319T203000
DTSTAMP:20260424T033003
CREATED:20260127T123747Z
LAST-MODIFIED:20260317T223049Z
UID:10014193-1773946800-1773952200@craiovalive.ro
SUMMARY:Iubitul meu dușman
DESCRIPTION:Iubitul meu dușman\nDistribuția: \nIulia Colan\nGeorge Albert Costea\nRomaniţa Ionescu\nIulia Lazăr\nCătălin-Mihai Miculeasa\nMircea Mogoșeanu\nRoxana Mutu\nRaluca Păun\nCosmin Rădescu\nVlad Udrescu \nde: Gianina CĂRBUNARIU \nRegia artistică: Gianina CĂRBUNARIU \nScenografia: Adrian GANEA \nMuzica: Oscar UNGVARI \nGrafică afiș: Levente BENEDEK \nDistribuția: Iulia Colan (Sabina)\, George Albert Costea (Radu)\, Romanița Ionescu (fantoma Elenei Ceaușescu\, fantoma Annei Bathory\, fantoma tabloului împușcat)\, Iulia Lazăr (Iulia)\, Cătălin-Mihai Miculeasa (Doru)\, Mircea Mogoșeanu (Vlad)\, Roxana Mutu (Ioana)\, Raluca Păun (Marcela)\, Cosmin Rădescu (Ștefan)\, Vlad Udrescu Victor\, Fantoma lui Pârvulescu) \nSecretar literar: Haricleea Nicolau \nRegie scenă: Mihai MANEA \nSunet: Dan FENEȘAN \nLumini: Ștefăniță REZEANU\, Marian TUDORACHE \nVideo: Florin Chirea\, Eduard Sărăcin \nSufleur: Ramona POPA \nProducător: Marius PÎRLEA \nDurata: 120 de min fără pauză \nGenul spectacolului: comedie neagră \n„Temele pe care le-am explorat în Iubitul meu dușman sunt recurente în spectacolele la care am lucrat în ultimii zece ani: invadarea spațiului public de către discursuri care dezbină\, neîncrederea tot mai mare\, chiar ruptura dintre diferite clase sociale\, nevoia de a cerceta și de a înțelege în prezent consecințele unor evenimente din trecutul recent românesc și european\, rolul artei în acest context tot mai complicat politic\, dificultatea de a imagina împreună\, ca societate\, un viitor. Ce este nou este plasarea disputelor într-un „tablou de familie”\, care adună perspective diverse\, fiecare dintre ele reclamând propriul adevăr\, cu diferite argumente ce țin de experiența personală\, de rolul „primit” în societate după 1989\, dar și de capacitatea de a căuta și de a filtra informațiile contradictorii generate în online în ultimii ani. \nDe multe ori\, pentru spectacolele la care lucrez fac documentare prin interviuri sau cercetare în arhive\, colaborez cu sociologi\, istorici și antropologi\, mă inspir din investigații jurnalistice. Într-un moment în care mulți dintre noi vor să audă povești simple\, în care să creadă fără a dedica prea mult timp cercetării\, a chestiona realitatea și felul în care ea este falsificată a devenit un act de eroism. Iar în contextul în care opiniile cele mai vocale se doresc a fi și cele mai corecte\, deținătoare ale adevărurilor absolute\, devine din ce în ce mai dificil să percepem cine sunt impostorii și care sunt agendele lor. Peste tot în lume\, jurnaliștii care încearcă să își facă meseria și să informeze corect sunt\, tot mai des\, ținta atacurilor\, a intimidărilor\, a cenzurii. Situația lor reflectă\, de fapt\, situația de asediu în care se află democrația. Mi-am dorit să cercetez o parte din mecanismele prin care s-a creat și se creează această nouă lume. \nScenariul exista în bună parte înainte de începerea repetițiilor\, l-am montat într-o primă versiune la Teatrul Național din Slovacia\, în 2025\, după o documentare de aproape un an în cele două țări. Ajunsă la Craiova\, împreună cu echipa artistică a Teatrului Național „Marin Sorescu”\, am continuat reflecția asupra realităților care se desfășoară sub ochii noștri\, nu doar în România\, ci peste tot în lume. Am încercat să prelucrăm experiența noastră comună într-un spectacol care să lanseze întrebări publicului contemporan\, în speranța că un dialog între noi\, toți cei care împărțim scena socială\, este încă posibil. De altfel\, spațiul scenic imaginat de scenograful Adrian Ganea este\, în același timp\, o piață publică\, o sufragerie a unei familii și\, uneori\, chiar o sală de teatru. \nSunt foarte recunoscătoare Teatrului Național din Craiova că mi-a oferit oportunitatea de a crea acest spectacol în România\, pentru spectatorii săi\, într-un moment în care\, pentru mine ca artistă\, a gândi\, a râde\, a ne emoționa\, a pune întrebări împreună sunt gesturi simple\, însă cu o imensă valoare regeneratoare.” \nGianina Cărbunariu \nSinopsis\nÎn Iubitul meu dușman\, Gianina Cărbunariu plasează acțiunea într-o reuniune de familie din ajunul Crăciunului\, într-o casă de vacanță din România. Membrii unei familii și câțiva prieteni apropiați se întâlnesc pentru a petrece sărbătorile și a pregăti botezul unui copil. Discuțiile aparent obișnuite despre viața de zi cu zi alunecă treptat în dispute despre Revoluția din 1989\, comunism\, conspirații politice și identitate națională. Pe măsură ce tensiunile cresc\, realitatea cotidiană este invadată de fantomele trecutului\, apar în scenă Elena Ceaușescu\, Anna Bathory\, Jean Pârvulesco. Personajele se confruntă cu propriile prejudecăți\, nostalgii și teorii contradictorii despre istorie și prezent. Piesa explorează modul în care trecutul continuă să bântuie prezentul și felul în care conflictele ideologice se mută\, subtil\, în intimitatea sufrageriilor\, în conversațiile dintre cei apropiați. \nPornind de la cercetări realizate în România și Slovacia\, spectacolul Iubitul meu dușman își propune să investigheze mecanismele dezinformării și ale polarizării sociale\, lansând întrebarea dacă\, într-o lume marcată de conflicte și propagandă\, mai este posibil să găsim o poveste comună care să ne apropie\, nu să ne dezbine. \n 
URL:https://craiovalive.ro/eveniment/iubitul-meu-dusman/2026-03-19/
LOCATION:Teatrul Național Craiova – Sala Amza Pellea\, Str. A. I. Cuza\, nr. 11\, Craiova\, Dolj\, 200585\, România
CATEGORIES:Teatru
ATTACH;FMTTYPE=image/webp:https://craiovalive.ro/wp-content/uploads/2026/01/Iubitul-meu-dusman.webp
ORGANIZER;CN="Teatrul Na%C8%9Bional Marin Sorescu Craiova":MAILTO:secretariat@tncms.ro
GEO:44.3186661;23.8003743
X-APPLE-STRUCTURED-LOCATION;VALUE=URI;X-ADDRESS=Teatrul Național Craiova – Sala Amza Pellea Str. A. I. Cuza nr. 11 Craiova Dolj 200585 România;X-APPLE-RADIUS=500;X-TITLE=Str. A. I. Cuza\, nr. 11:geo:23.8003743,44.3186661
END:VEVENT
BEGIN:VEVENT
DTSTART;VALUE=DATE:20260320
DTEND;VALUE=DATE:20260328
DTSTAMP:20260424T033003
CREATED:20260317T163329Z
LAST-MODIFIED:20260317T163329Z
UID:10014363-1773964800-1774655999@craiovalive.ro
SUMMARY:Săptămâna Teatrului – ediția a XIII-a
DESCRIPTION:Teatrul Colibri\, în sărbătoare în perioada 20-27 martie \n Teatrul pentru copii și tineret Colibri vă invită\, în perioada 20-27 martie 2026\, la spectacole de teatru\, folclor\, expoziții de fotografie\, păpuși și holograme\, în cadrul proiectului Săptămâna Teatrului – ediția a XIII-a. Derulate pe parcursul a opt zile\, evenimentele marchează patru mari sărbători: Ziua Internațională a Teatrului pentru Copii și Tineret (20 martie)\, Ziua Internațională a Marionetiștilor și Păpușarilor (21 martie)\, Ziua Mondială a Teatrului (27 martie) și Ziua Olteniei. \nSăptămâna Teatrului se sărbătorește la Teatrul Colibri încă din anul 2014. \nÎn 2017\, organizațiile Asociația Internațională a Teatrelor pentru Copii și Tineret (ASSITEJ)\, Uniunea Internațională a Marionetiștilor (UNIMA) și Institutul Internațional de Teatru (ITI) au reunit cele trei sărbători sub genericul Săptămâna Mondială a Teatrului. \nSăptămâna Teatrului va debuta la Colibri vineri\, 20 martie\, ora 10:30\, chiar de Ziua Internațională a Teatrului pentru Copii și Tineret\, cu spectacolul „Aladin”\, scenariul reinterpretat în versuri de Andreea Radu\, regia și muzica originală – Apostolache Kiss Zeno\, scenografia și păpușile – Tomos Tünde\, sand-art Alice Bratu\, cu actorii: Marin Fagu\, Emanuel Popescu\, Oana Stancu\, Alis Ianoș\, Cosmin Dolea\, Adriana Ioncu\, Ionica Dobrescu\, Daniel Mirea. \nSpectacolul este o poveste amuzantă\, educativă\, muzicală\, foarte atractivă\, o metodă artistică de descoperire a poveștilor universale. \nPROGRAM Săptămâna Teatrului – ediția a XIII-a:\n19-22 martie\, orele 10:00 – 18:00\, foaierul Teatrului Național „Marin Sorescu” \n– Expoziția holografică „Oltenia în oglindă” \n  \n19-26 martie: luni\, joi\, vineri și sâmbătă – orele 09:00 – 13:00 / 15:00 – 19:00; duminică – orele 10:00 – 13:00\, foaierul Teatrului Colibri \n– Expoziția „Femeia – poezia universului”\, Asociația Artiștilor Fotografi Dacia Malvensis – Oltenia \n  \nVineri\, 20 martie – ZIUA INTERNAȚIONALĂ A TEATRULUI PENTRU COPII ȘI TINERET\, ora 10:30\, sala mare a Teatrului pentru copii și tineret Colibri \n– Spectacolul „Aladin” (3+)\, regia Apostolache Kiss Zeno \n  \n20-27 martie: luni\, joi\, vineri și sâmbătă – orele 09:00 – 13:00 / 15:00 – 19:00; duminică – orele 10:00 – 13:00\, foaierul Teatrului Colibri \n– Expoziția „Memoria Păpușilor: Retrospectiva Cristian Pepino” \n  \nSâmbătă\, 21 martie – ZIUA INTERNAȚIONALĂ A MARIONETIȘTILOR ȘI PĂPUȘARILOR\, ora 18:00\, sala studio a Teatrului pentru copii și tineret Colibri \n– Spectacolul interactiv „Piticul Picior Șchiop” (3+)\, regia Adriana Ioncu \n  \nSâmbătă\, 21 martie – ZIUA OLTENIEI\, ora 19:00\, sala mare a Teatrului Național „Marin Sorescu” \n– Spectacolul „Craiova interbelică”\, regia Gabriela Păsărin \n  \nDuminică\, 22 martie\, ora 11:00\, sala mare a Teatrului pentru copii și tineret Colibri \n– Spectacolul „Dănilă Prepeleac” (5+)\, regia Valentin Dobrescu \n  \nMiercuri\, 25 martie\, ora 10:30\, sala mare a Teatrului pentru copii și tineret Colibri \n– Spectacolul „Prințul Broască” (3+)\, regia Todor Valov \n  \nJoi\, 26 martie\, ora 10:30\, sala mare a Teatrului pentru copii și tineret Colibri \n– Spectacolul „Aladin” (3+)\, regia Apostolache Kiss Zeno \n  \nVineri\, 27 martie – ZIUA MONDIALĂ A TEATRULUI\, ora 10:30\, sala mare a Teatrului pentru copii și tineret Colibri \n– Spectacolul „Aladin” (3+)\, regia Apostolache Kiss Zeno \n  \nBiletele se pot procura de la Agenţia Teatrului Colibri\, astfel: luni în intervalul orar 09:00 – 17:00\, joi și vineri între 08:00 – 12:00 / 16:00 – 20:00\, sâmbătă între 09:00 – 13:00 / 15:00 – 19:00\, iar duminică între 10:00 – 13:00. Marți și miercuri\, între orele 09:00 – 16:00\, biletele se pot procura de la casieria Teatrului Colibri (etajul 1).  \nMai multe informații se pot obține la tel.: 0251.412.473. \nDupă începerea spectacolelor\, accesul în sală nu mai este permis! Persoanele care au bilete și întârzie le pot reprograma la următoarele spectacole.
URL:https://craiovalive.ro/eveniment/saptamana-teatrului-editia-a-xiii-a/
LOCATION:Locații multiple\, Craiova\, Dolj\, România
CATEGORIES:Evenimente pentru copii,Expoziție,Muzică,Teatru
ATTACH;FMTTYPE=image/jpeg:https://craiovalive.ro/wp-content/uploads/2026/03/Saptamana-Teatrului-mic.jpg
ORGANIZER;CN="Teatrul pentru copii si tineret Colibri":MAILTO:contact@teatrulcolibri.ro
GEO:44.3301785;23.7948808
END:VEVENT
BEGIN:VEVENT
DTSTART;TZID=Europe/Bucharest:20260320T190000
DTEND;TZID=Europe/Bucharest:20260320T203000
DTSTAMP:20260424T033003
CREATED:20260127T123747Z
LAST-MODIFIED:20260317T223049Z
UID:10014194-1774033200-1774038600@craiovalive.ro
SUMMARY:Iubitul meu dușman
DESCRIPTION:Iubitul meu dușman\nDistribuția: \nIulia Colan\nGeorge Albert Costea\nRomaniţa Ionescu\nIulia Lazăr\nCătălin-Mihai Miculeasa\nMircea Mogoșeanu\nRoxana Mutu\nRaluca Păun\nCosmin Rădescu\nVlad Udrescu \nde: Gianina CĂRBUNARIU \nRegia artistică: Gianina CĂRBUNARIU \nScenografia: Adrian GANEA \nMuzica: Oscar UNGVARI \nGrafică afiș: Levente BENEDEK \nDistribuția: Iulia Colan (Sabina)\, George Albert Costea (Radu)\, Romanița Ionescu (fantoma Elenei Ceaușescu\, fantoma Annei Bathory\, fantoma tabloului împușcat)\, Iulia Lazăr (Iulia)\, Cătălin-Mihai Miculeasa (Doru)\, Mircea Mogoșeanu (Vlad)\, Roxana Mutu (Ioana)\, Raluca Păun (Marcela)\, Cosmin Rădescu (Ștefan)\, Vlad Udrescu Victor\, Fantoma lui Pârvulescu) \nSecretar literar: Haricleea Nicolau \nRegie scenă: Mihai MANEA \nSunet: Dan FENEȘAN \nLumini: Ștefăniță REZEANU\, Marian TUDORACHE \nVideo: Florin Chirea\, Eduard Sărăcin \nSufleur: Ramona POPA \nProducător: Marius PÎRLEA \nDurata: 120 de min fără pauză \nGenul spectacolului: comedie neagră \n„Temele pe care le-am explorat în Iubitul meu dușman sunt recurente în spectacolele la care am lucrat în ultimii zece ani: invadarea spațiului public de către discursuri care dezbină\, neîncrederea tot mai mare\, chiar ruptura dintre diferite clase sociale\, nevoia de a cerceta și de a înțelege în prezent consecințele unor evenimente din trecutul recent românesc și european\, rolul artei în acest context tot mai complicat politic\, dificultatea de a imagina împreună\, ca societate\, un viitor. Ce este nou este plasarea disputelor într-un „tablou de familie”\, care adună perspective diverse\, fiecare dintre ele reclamând propriul adevăr\, cu diferite argumente ce țin de experiența personală\, de rolul „primit” în societate după 1989\, dar și de capacitatea de a căuta și de a filtra informațiile contradictorii generate în online în ultimii ani. \nDe multe ori\, pentru spectacolele la care lucrez fac documentare prin interviuri sau cercetare în arhive\, colaborez cu sociologi\, istorici și antropologi\, mă inspir din investigații jurnalistice. Într-un moment în care mulți dintre noi vor să audă povești simple\, în care să creadă fără a dedica prea mult timp cercetării\, a chestiona realitatea și felul în care ea este falsificată a devenit un act de eroism. Iar în contextul în care opiniile cele mai vocale se doresc a fi și cele mai corecte\, deținătoare ale adevărurilor absolute\, devine din ce în ce mai dificil să percepem cine sunt impostorii și care sunt agendele lor. Peste tot în lume\, jurnaliștii care încearcă să își facă meseria și să informeze corect sunt\, tot mai des\, ținta atacurilor\, a intimidărilor\, a cenzurii. Situația lor reflectă\, de fapt\, situația de asediu în care se află democrația. Mi-am dorit să cercetez o parte din mecanismele prin care s-a creat și se creează această nouă lume. \nScenariul exista în bună parte înainte de începerea repetițiilor\, l-am montat într-o primă versiune la Teatrul Național din Slovacia\, în 2025\, după o documentare de aproape un an în cele două țări. Ajunsă la Craiova\, împreună cu echipa artistică a Teatrului Național „Marin Sorescu”\, am continuat reflecția asupra realităților care se desfășoară sub ochii noștri\, nu doar în România\, ci peste tot în lume. Am încercat să prelucrăm experiența noastră comună într-un spectacol care să lanseze întrebări publicului contemporan\, în speranța că un dialog între noi\, toți cei care împărțim scena socială\, este încă posibil. De altfel\, spațiul scenic imaginat de scenograful Adrian Ganea este\, în același timp\, o piață publică\, o sufragerie a unei familii și\, uneori\, chiar o sală de teatru. \nSunt foarte recunoscătoare Teatrului Național din Craiova că mi-a oferit oportunitatea de a crea acest spectacol în România\, pentru spectatorii săi\, într-un moment în care\, pentru mine ca artistă\, a gândi\, a râde\, a ne emoționa\, a pune întrebări împreună sunt gesturi simple\, însă cu o imensă valoare regeneratoare.” \nGianina Cărbunariu \nSinopsis\nÎn Iubitul meu dușman\, Gianina Cărbunariu plasează acțiunea într-o reuniune de familie din ajunul Crăciunului\, într-o casă de vacanță din România. Membrii unei familii și câțiva prieteni apropiați se întâlnesc pentru a petrece sărbătorile și a pregăti botezul unui copil. Discuțiile aparent obișnuite despre viața de zi cu zi alunecă treptat în dispute despre Revoluția din 1989\, comunism\, conspirații politice și identitate națională. Pe măsură ce tensiunile cresc\, realitatea cotidiană este invadată de fantomele trecutului\, apar în scenă Elena Ceaușescu\, Anna Bathory\, Jean Pârvulesco. Personajele se confruntă cu propriile prejudecăți\, nostalgii și teorii contradictorii despre istorie și prezent. Piesa explorează modul în care trecutul continuă să bântuie prezentul și felul în care conflictele ideologice se mută\, subtil\, în intimitatea sufrageriilor\, în conversațiile dintre cei apropiați. \nPornind de la cercetări realizate în România și Slovacia\, spectacolul Iubitul meu dușman își propune să investigheze mecanismele dezinformării și ale polarizării sociale\, lansând întrebarea dacă\, într-o lume marcată de conflicte și propagandă\, mai este posibil să găsim o poveste comună care să ne apropie\, nu să ne dezbine. \n 
URL:https://craiovalive.ro/eveniment/iubitul-meu-dusman/2026-03-20/
LOCATION:Teatrul Național Craiova – Sala Amza Pellea\, Str. A. I. Cuza\, nr. 11\, Craiova\, Dolj\, 200585\, România
CATEGORIES:Teatru
ATTACH;FMTTYPE=image/webp:https://craiovalive.ro/wp-content/uploads/2026/01/Iubitul-meu-dusman.webp
ORGANIZER;CN="Teatrul Na%C8%9Bional Marin Sorescu Craiova":MAILTO:secretariat@tncms.ro
GEO:44.3186661;23.8003743
X-APPLE-STRUCTURED-LOCATION;VALUE=URI;X-ADDRESS=Teatrul Național Craiova – Sala Amza Pellea Str. A. I. Cuza nr. 11 Craiova Dolj 200585 România;X-APPLE-RADIUS=500;X-TITLE=Str. A. I. Cuza\, nr. 11:geo:23.8003743,44.3186661
END:VEVENT
BEGIN:VEVENT
DTSTART;TZID=Europe/Bucharest:20260322T110000
DTEND;TZID=Europe/Bucharest:20260322T120000
DTSTAMP:20260424T033003
CREATED:20231210T205247Z
LAST-MODIFIED:20260301T230505Z
UID:10003322-1774177200-1774180800@craiovalive.ro
SUMMARY:Dănilă Prepeleac
DESCRIPTION:DĂNILĂ PREPELEAC\nde Ion Creangă\nAdaptare\, dramatizare și regie: Valentin Dobrescu\nScenografia: Mihai Pastramagiu\nMuzica: Alin Macovei – Moraru\nDistribuția: Marin Fagu\, Ionica Dobrescu\, Alla Cebotari\, Oana Stancu\, Daniel Mirea\, Cosmin Dolea\n Biletele se pot procura de la Agenţia Teatrului Colibri\, tel.: 0251.412.473. Preț bilet: 13 lei / pers.\n\n După ora începerii spectacolelor\, accesul în sală nu mai este permis! Persoanele care au bilete și întârzie le pot reprograma la următoarele spectacole.
URL:https://craiovalive.ro/eveniment/danila-prepeleac/
LOCATION:Teatrul pentru copii și tineret Colibri\, Calea București\, nr. 56\, Craiova\, Dolj\, România
CATEGORIES:Evenimente pentru copii,Teatru
ATTACH;FMTTYPE=image/png:https://craiovalive.ro/wp-content/uploads/2023/12/Danila-Prepeleac-Teatrul-Colibri-Craiova.png
ORGANIZER;CN="Teatrul pentru copii si tineret Colibri":MAILTO:contact@teatrulcolibri.ro
GEO:44.3151148;23.8215842
X-APPLE-STRUCTURED-LOCATION;VALUE=URI;X-ADDRESS=Teatrul pentru copii și tineret Colibri Calea București nr. 56 Craiova Dolj România;X-APPLE-RADIUS=500;X-TITLE=Calea București\, nr. 56:geo:23.8215842,44.3151148
END:VEVENT
END:VCALENDAR