BEGIN:VCALENDAR
VERSION:2.0
PRODID:-//Craiova Live - ECPv6.15.18//NONSGML v1.0//EN
CALSCALE:GREGORIAN
METHOD:PUBLISH
X-ORIGINAL-URL:https://craiovalive.ro
X-WR-CALDESC:Evenimente pentru Craiova Live
REFRESH-INTERVAL;VALUE=DURATION:PT1H
X-Robots-Tag:noindex
X-PUBLISHED-TTL:PT1H
BEGIN:VTIMEZONE
TZID:Europe/Bucharest
BEGIN:DAYLIGHT
TZOFFSETFROM:+0200
TZOFFSETTO:+0300
TZNAME:EEST
DTSTART:20250330T010000
END:DAYLIGHT
BEGIN:STANDARD
TZOFFSETFROM:+0300
TZOFFSETTO:+0200
TZNAME:EET
DTSTART:20251026T010000
END:STANDARD
BEGIN:DAYLIGHT
TZOFFSETFROM:+0200
TZOFFSETTO:+0300
TZNAME:EEST
DTSTART:20260329T010000
END:DAYLIGHT
BEGIN:STANDARD
TZOFFSETFROM:+0300
TZOFFSETTO:+0200
TZNAME:EET
DTSTART:20261025T010000
END:STANDARD
BEGIN:DAYLIGHT
TZOFFSETFROM:+0200
TZOFFSETTO:+0300
TZNAME:EEST
DTSTART:20270328T010000
END:DAYLIGHT
BEGIN:STANDARD
TZOFFSETFROM:+0300
TZOFFSETTO:+0200
TZNAME:EET
DTSTART:20271031T010000
END:STANDARD
END:VTIMEZONE
BEGIN:VEVENT
DTSTART;TZID=Europe/Bucharest:20260310T190000
DTEND;TZID=Europe/Bucharest:20260310T210000
DTSTAMP:20260424T021633
CREATED:20260220T224554Z
LAST-MODIFIED:20260220T224554Z
UID:10014054-1773169200-1773176400@craiovalive.ro
SUMMARY:Eu dau banu’\, eu fac legea!
DESCRIPTION:EU DAU BANU’\, EU FAC LEGEA! \nCinema Patria Craiova \n10 Martie 2026 ora 19:00\nEste o mare criza de texte romanesti de comedie! Asta auzim de la multi regizori de mult timp.\nNOI AVEM NOROC!\nComedia scrisa de NICOLE DUTU este cel mai bun text romanesc de comedie scris in Romania dupa 1989. Un text care aminteste deopotrivă de Caragiale si Musatescu\, fara insa urma de imitatie\, care are calitatea de a compila cele mai bune stiluri de a scrie comedie din dramaturgia romaneasca. \nIntr-o familie din Iasi\, traieste un mic politician de provincie\, Napoleon Piciorus\, falit\, imberb\, stupid si inocent. Partidul\, “sistemul”\, il alege chiar pe el\, pentru naivitatea lui\, sa fie “eroul” intereselor partidului si ale stabilor escroci din fruntea partidului.\nJocurile politice de o savoare comica absoluta\, sunt contracarate de soacra lui Napoleon Piciorus\, intrepretata MAGISTRAL SI EXPLOZIV de extraordinara CARMEN TANASE.\nTinerele fete sunt absorbite si ele in aceasta lume fantastica a puterii si banilor\, completand un tablou de un comic total! \nVino sa razi si sa vezi oglinda pe care o pune aceasta superba comedie societatii romanesti! O seara de comedie totala! \nDistribuție: Carmen Tănase\, Răzvan Oprea\, Victor Vurtejanu\, Pavel Bârsan\, Antonia Scutaru\, Jennifer Dumitrașcu\, Rădița Roșu\, Rareș Ularu\nRegie: Răzvan Oprea\nScenografie: Simona Marcu\nAsistent regie:Ștefania Brat \nCostume: Sonia Trifan\nMake-up: Loredana Voicu\nHairstyling: Flory Niculae \nDurata: 1 ora 45 minute
URL:https://craiovalive.ro/eveniment/eu-dau-banu-eu-fac-legea/
LOCATION:Dolj
CATEGORIES:Teatru
ATTACH;FMTTYPE=image/jpeg:https://craiovalive.ro/wp-content/uploads/2026/02/Eu-dau-banu-eu-fac-legea.jpg
END:VEVENT
BEGIN:VEVENT
DTSTART;TZID=Europe/Bucharest:20260312T190000
DTEND;TZID=Europe/Bucharest:20260312T210000
DTSTAMP:20260424T021633
CREATED:20260215T193434Z
LAST-MODIFIED:20260215T193434Z
UID:10013473-1773342000-1773349200@craiovalive.ro
SUMMARY:O scrisoare pierdută
DESCRIPTION:O scrisoare pierduta  \nCasa de Cultura a Studentilor Craiova \n12 Martie 2026 ora 19:00 \nWonderTheatre vă prezintă o nouă comedie pentru întreaga familie: piesa „O scrisoare pierdută”. Această montare extrem de comică demonstrează de ce Caragiale este încă actual și va fi apreciat și peste 100 de ani. Plasat într-o lume utopică condusă numai de femei\, spectacolul prezintă esența poporului nostru plin de vigoare\, umor și uneori non sens. \nPentru o călătorie într-un trecut viitor\, trebuie să vedeți acest spectacol regizat de Andrei Mateiu și jucat magistral de o echipă de actori minunați: \nZina Trahanache – Magda Catone / Raluca Rusu Dita\nFănică Tipătescu – Cătălina Grama Ipate / Ana Odagiu\nNuți Cațavencu – Paula Chirilă / Ana Maria Moldovan\nGeta Pristanda – Gabriela Porumbacu / Beatrice Peter\nTanța Farfuridi – Monica Odagiu / Irina Antonie\nIolanda Brâanzovenescu – Alexandra Ioniță\nNicu Trahanache – Doru Ben\nCetățeanul Turmentat – Radu Micu\nAglaia Dandanache – Irina Teodorescu
URL:https://craiovalive.ro/eveniment/o-scrisoare-pierduta-3/
LOCATION:Casa de Cultură a Studenților Craiova\, Str. Eugeniu Carada\, nr. 10\, Craiova\, Dolj\, 200390\, România
CATEGORIES:Teatru
ATTACH;FMTTYPE=image/jpeg:https://craiovalive.ro/wp-content/uploads/2026/02/O-scrisoare-pierduta.jpg
GEO:44.3158109;23.8003284
X-APPLE-STRUCTURED-LOCATION;VALUE=URI;X-ADDRESS=Casa de Cultură a Studenților Craiova Str. Eugeniu Carada nr. 10 Craiova Dolj 200390 România;X-APPLE-RADIUS=500;X-TITLE=Str. Eugeniu Carada\, nr. 10:geo:23.8003284,44.3158109
END:VEVENT
BEGIN:VEVENT
DTSTART;TZID=Europe/Bucharest:20260313T190000
DTEND;TZID=Europe/Bucharest:20260313T203000
DTSTAMP:20260424T021633
CREATED:20251208T140955Z
LAST-MODIFIED:20251208T140955Z
UID:10012628-1773428400-1773433800@craiovalive.ro
SUMMARY:Femei bune pentru bărbați nebuni
DESCRIPTION:Femei bune pentru barbati nebuni \n\n\nTeatrul Colibri Craiova \n\n13 Martie 2026 ora 19:00\nCând Dumnezeu îți pune totul pe tavă\, dar tu faci alegeri stângace… \nLeo și Amalia\, un cuplu „modern” (în care soția face toți banii)\, pleacă în vacanță la mare pentru a sărbători 5 ani de mariaj. Fericitul eveniment din viața lor este curând perturbat de apariția lui Eusebiu\, fostul soț\, un urmăritor veritabil\, obsedat și foarte determinat să o recucerească. Ca să fie mai stânjenitor\, intră în scenă și Lili\, amica lui Leo\, cuminte și discretă până la primul pahar. Și ca lucrurile să se complice cu adevărat\, se adaugă alcool\, iar cele 4 personaje ajung în situații de tot râsul în incinta hotelului Meduza. \nO comedie cu Livia Taloi\, Adelina Mihalcea\, Alin Brancu și Pavel Bârsan. \nRecomandat 14+
URL:https://craiovalive.ro/eveniment/femei-bune-pentru-barbati-nebuni/
LOCATION:Teatrul pentru copii și tineret Colibri\, Calea București\, nr. 56\, Craiova\, Dolj\, România
CATEGORIES:Teatru
ATTACH;FMTTYPE=image/jpeg:https://craiovalive.ro/wp-content/uploads/2025/12/Femei-bune-pentru-barbati-nebuni.jpg
GEO:44.3151148;23.8215842
X-APPLE-STRUCTURED-LOCATION;VALUE=URI;X-ADDRESS=Teatrul pentru copii și tineret Colibri Calea București nr. 56 Craiova Dolj România;X-APPLE-RADIUS=500;X-TITLE=Calea București\, nr. 56:geo:23.8215842,44.3151148
END:VEVENT
BEGIN:VEVENT
DTSTART;TZID=Europe/Bucharest:20260314T180000
DTEND;TZID=Europe/Bucharest:20260314T193000
DTSTAMP:20260424T021633
CREATED:20231026T184713Z
LAST-MODIFIED:20260301T230253Z
UID:10001078-1773511200-1773516600@craiovalive.ro
SUMMARY:Elefănțelul curios
DESCRIPTION:ELEFĂNȚELUL CURIOS (3+) \ndupă Rudyard Kipling\nScenariul și regia: Geo Balint\nScenografia: Tomos Tunde\nMuzica și versurile: Marin Fagu\nDistribuția: Oana Stancu\, Geo Dinescu\, Robert Iovan\, Adriana Ioncu\, Daniel Mirea\, Alla Cebotari\, Marin Fagu\, Ionica Dobrescu\, Cosmin Dolea\n\n\n Biletele se pot procura de la Agenția Teatrului Colibri\, tel.: 0251.412.473.\nPreț bilet: 13 lei / pers.\n După începerea spectacolului\, accesul în sală nu mai este permis! Persoanele care au bilete și întârzie le pot reprograma.
URL:https://craiovalive.ro/eveniment/elefantelul-curios/
LOCATION:Teatrul pentru copii și tineret Colibri\, Calea București\, nr. 56\, Craiova\, Dolj\, România
CATEGORIES:Evenimente pentru copii,Teatru
ATTACH;FMTTYPE=image/jpeg:https://craiovalive.ro/wp-content/uploads/2023/10/Elefantelul-curios.jpg
ORGANIZER;CN="Teatrul pentru copii si tineret Colibri":MAILTO:contact@teatrulcolibri.ro
GEO:44.3151148;23.8215842
X-APPLE-STRUCTURED-LOCATION;VALUE=URI;X-ADDRESS=Teatrul pentru copii și tineret Colibri Calea București nr. 56 Craiova Dolj România;X-APPLE-RADIUS=500;X-TITLE=Calea București\, nr. 56:geo:23.8215842,44.3151148
END:VEVENT
END:VCALENDAR