BEGIN:VCALENDAR
VERSION:2.0
PRODID:-//Craiova Live - ECPv6.15.18//NONSGML v1.0//EN
CALSCALE:GREGORIAN
METHOD:PUBLISH
X-WR-CALNAME:Craiova Live
X-ORIGINAL-URL:https://craiovalive.ro
X-WR-CALDESC:Evenimente pentru Craiova Live
REFRESH-INTERVAL;VALUE=DURATION:PT1H
X-Robots-Tag:noindex
X-PUBLISHED-TTL:PT1H
BEGIN:VTIMEZONE
TZID:Europe/Bucharest
BEGIN:DAYLIGHT
TZOFFSETFROM:+0200
TZOFFSETTO:+0300
TZNAME:EEST
DTSTART:20250330T010000
END:DAYLIGHT
BEGIN:STANDARD
TZOFFSETFROM:+0300
TZOFFSETTO:+0200
TZNAME:EET
DTSTART:20251026T010000
END:STANDARD
BEGIN:DAYLIGHT
TZOFFSETFROM:+0200
TZOFFSETTO:+0300
TZNAME:EEST
DTSTART:20260329T010000
END:DAYLIGHT
BEGIN:STANDARD
TZOFFSETFROM:+0300
TZOFFSETTO:+0200
TZNAME:EET
DTSTART:20261025T010000
END:STANDARD
BEGIN:DAYLIGHT
TZOFFSETFROM:+0200
TZOFFSETTO:+0300
TZNAME:EEST
DTSTART:20270328T010000
END:DAYLIGHT
BEGIN:STANDARD
TZOFFSETFROM:+0300
TZOFFSETTO:+0200
TZNAME:EET
DTSTART:20271031T010000
END:STANDARD
END:VTIMEZONE
BEGIN:VEVENT
DTSTART;TZID=Europe/Bucharest:20260223T190000
DTEND;TZID=Europe/Bucharest:20260223T203000
DTSTAMP:20260424T073122
CREATED:20240514T150922Z
LAST-MODIFIED:20260127T125338Z
UID:10003507-1771873200-1771878600@craiovalive.ro
SUMMARY:Reconstituirea
DESCRIPTION:Distribuția\n\n\n\n\n\n\n\nCătălin-Mihai Miculeasa\nIulia Colan\nNicolae Vicol\nRaluca Păun\nRomaniţa Ionescu\n\n\n\n\n\n\n\n\n\n\nDavid Drugaru\nRobert Ioan \n\n\n\n\n\n\n\n\n\n\n\nConcept: Catinca Drăgănescu și Ciprian Făcăeru \nRegia artistică: Catinca Drăgănescu \nText de: Catinca Drăgănescu \nScenografie fizică\, VR/AR & lighting design: Ciprian Făcăeru \nCostume și consultant scenografie: Lia Dogaru \nDezvoltare software Reconstituirea VR/AR: Augmented Space Agency (Dan Făcăeru și Sabin Serban) \nCompoziție muzicală originală și sound design: Cristian Vieriu (interior 8) \nComunicare Proiect: Bad Unicorn (Monica Felea) \nManager Proiect: George Albert Costea \nAsistent regie: Despina Remediaki \nAsistent scenografie (costume): Adelina Galiceanu \nRegia tehnică: Mihai Manea \nSufleor: Ramona Popa \nSunet: Emy Guran \nLumini: Alina Mitrache/Marian Tudorache \nVideo: Florin Chirea/Orlando Buda \nSupratitrare: Emi Chirea \nData premierei: 27 sept. 2024 \nDurata spectacolului: 90 min. fără pauză \n\n\n\n\n\n\n\n\n\n\n”Reconstituirea” este inspirat din filmul cu același nume regizat de Lucian Pintilie și alte opere impregnate de spiritul anilor ‘68.\nTineri din colțuri diferite ale lumii chestionează propria identitate și felul în care funcționează lumea din jurul lor. Dragostea\, arta și revoluția se amestecă într-un carusel de emoții și experiențe. Ar putea fi 1968\, sau ar putea fi acum. Revolta e în aer\, revoluția e o stare de spirit\, „la vie est plus forte que l’imagination”.\nSpectacolul este parte a proiectului #ACuTe\, co-finanțat prin Programul Europa Creativă al Uniunii Europene\, proiect care reunește 14 organizații europene de top din domeniul teatrului și al cercetării\, cu scopul de a dezvolta producții de teatru experimental\, folosind tehnologii digitale inovative.\n#acuteproject #performingarts #newtechnology #creative.eu #tncms \nPentru mine\, Reconstituirea e un fel de ars poetica\, despre cele două mari iubiri ale vieții mele: teatrul și revoluția. Cred în arta care prinde spiritul epocii și simt că pe aici pulsează omenirea azi: suntem într-un moment de cotitură\, simțim cu toții nevoia de schimbare\, ne frustrează autoritatea\, politicul\, vrem o lume nouă\, dar spre deosebire de 1968 nu avem o reprezentare a sa. Și libertatea poate fi o formă de constrângere\, asta e revelația secolului 21\, avem toate tentațiile astea pe masă\, putem să ne trăim viețile oricum\, dar individul nu contează în marea ordine a lucrurilor. Lumea pare că se învârte fără noi. Ne lipsesc idealismul\, viziunea\, utopia. Așa că am făcut un spectacol despre toate acestea\, și despre ceva ce am adorat în viziunea lui Lucian Pintilie: „forța de electroșoc moral a artei”. \nReconstituirea este un exercițiu de conștiință\, despre cum se simt protestul\, autoritatea\, dragostea\, o călătorie prin timp și spațiu care ne oferă posibilitatea de a experimenta cum se simte multi-realitatea în care trăim\, un portal spre conștiința celuilalt\, celorlalți\, altora. „Un om e liber când hotărăște să fie liber”– cred că ar trebui să ne spunem asta în fiecare zi\, suntem creatorii lumii în care trăim și de asta creația și revoluția sunt de fapt același lucru. Pentru mine\, cel puțin. \nM-a fascinat întotdeauna Lucian Pintilie\, l-am considerat mentorul meu ales. Am scris un doctorat despre el\, mi-am definit arta un „teatru al conștiinței” ca reacție la universul lui. Mă întorc în teatrul meu de debut după 12 ani și lucrez poate cel mai personal\, mai sincer\, mai acut spectacol al meu. E un moment special. Lucrez cu o echipă fantastică de creatori. Sunt un om – artist fericit. Reconstituirea reconstituie sufletul și conștiința mea. Îl dedic bunicilor mei\, Mariana și Alexandru Petculescu – de la care am învățat că „doar visătorii pot schimba lumea\, doar visătorii”. – Catinca Drăgănescu
URL:https://craiovalive.ro/eveniment/reconstituirea/2026-02-23/
LOCATION:Teatrul Național Craiova – Sala Atelier\, Str. A. I. Cuza\, nr. 11\, Craiova\, Dolj\, 200585\, România
CATEGORIES:Teatru
ATTACH;FMTTYPE=image/jpeg:https://craiovalive.ro/wp-content/uploads/2024/05/Reconstituirea-spectacol-TNCMS.jpg
ORGANIZER;CN="Teatrul Na%C8%9Bional Marin Sorescu Craiova":MAILTO:secretariat@tncms.ro
GEO:44.3186661;23.8003743
X-APPLE-STRUCTURED-LOCATION;VALUE=URI;X-ADDRESS=Teatrul Național Craiova – Sala Atelier Str. A. I. Cuza nr. 11 Craiova Dolj 200585 România;X-APPLE-RADIUS=500;X-TITLE=Str. A. I. Cuza\, nr. 11:geo:23.8003743,44.3186661
END:VEVENT
BEGIN:VEVENT
DTSTART;TZID=Europe/Bucharest:20260224T200000
DTEND;TZID=Europe/Bucharest:20260224T213000
DTSTAMP:20260424T073122
CREATED:20251123T223543Z
LAST-MODIFIED:20260115T140854Z
UID:10012528-1771963200-1771968600@craiovalive.ro
SUMMARY:Fă-mi loc!
DESCRIPTION: FĂ-MI LOC! – o comedie romantică despre întâlniri neașteptate și emoții adevărate 24 februarie 2026 Ora: 20:00 \nTeatrul National Marin Sorescu CRAIOVA. În ajunul Crăciunului\, doi străini se întâlnesc într-o cușetă de tren…Ea – o femeie liberă\, plină de viață.El – un bărbat cu principii\, pus față în față cu o situație care îi va răsturna lumea. „Fă-mi loc!” e o poveste tandră și amuzantă despre singurătate\, apropiere și nevoia de a fi înțeles. Un spectacol care te face să râzi\, să simți și să reflectezi. Cu Medeea Marinescu și Marius Manole Rezervă-ți locul acum – și fă-ți un cadou de Crăciun plin de emoție! \n\nFă-mi loc! spune povestea a doi tineri ce se regăsesc în ajunul Crăciunului în cușeta unui tren de noapte. Ea\, o fată singură\, șarmantă\, aventurieră\, el\, un bărbat cu principii\, pus in fața unui eveniment neprevăzut ce-i va răsturna întreaga existență. \n\n\nSuntem în ajunul Crăciunului. E momentul în care simțim mai mult ca oricând să fim înconjurați de familie și de cei pe care îi iubim cu adevărat. \nHazardul îi aduce pe Manuel si Camilla împreună\, doi oameni ce nu au aparent nimic în comun\, ceea ce va genera nenumărate „scântei”. Însă amandoi caută să înțeleagă și să SE înțeleagă\, amândoi au nevoie să se destăinuie\, și mai mult\, amândoi au nevoie de a se vindeca de singuratate. \nFă-mi loc! este un spectacol care ne invită să reflectăm asupra propriei noastre existențe dincolo de orice convenientă socială
URL:https://craiovalive.ro/eveniment/fa-mi-loc/
LOCATION:Teatrul Național Craiova – Sala Amza Pellea\, Str. A. I. Cuza\, nr. 11\, Craiova\, Dolj\, 200585\, România
CATEGORIES:Teatru
ATTACH;FMTTYPE=image/jpeg:https://craiovalive.ro/wp-content/uploads/2025/11/Fa-mi-loc-spectacol-de-teatru.jpg
GEO:44.3186661;23.8003743
X-APPLE-STRUCTURED-LOCATION;VALUE=URI;X-ADDRESS=Teatrul Național Craiova – Sala Amza Pellea Str. A. I. Cuza nr. 11 Craiova Dolj 200585 România;X-APPLE-RADIUS=500;X-TITLE=Str. A. I. Cuza\, nr. 11:geo:23.8003743,44.3186661
END:VEVENT
BEGIN:VEVENT
DTSTART;TZID=Europe/Bucharest:20260225T180000
DTEND;TZID=Europe/Bucharest:20260225T193000
DTSTAMP:20260424T073122
CREATED:20230917T073752Z
LAST-MODIFIED:20260101T100141Z
UID:10006062-1772042400-1772047800@craiovalive.ro
SUMMARY:Păsări de nisip
DESCRIPTION:DISTRIBUȚIE:\nALINA MANGRA\nROXANA MUTU\nMARIA POPA\nMIRCEA MOGOȘEANU\nCOSMIN RĂDESCU\nDRAGOŞ MĂCEŞANU\nGABRIEL MARCIU\nRegie Alexandru Boureanu \nCo-regie Raluca Păun \nText Cristi Nedelcu \nScenografie Lia Dogaru \nConcept video Florin Constantinescu \nProducător delegat: Claudia Gorun \nFoto credit: Cristian Floriganță\, Florin Chirea \nRegie tehnică: Mihai Manea / Cristian Petec \nLumini: Ovidiu Mustață\, Ștefăniță Rezeanu \nOperator sunet: George Udrea / Emy Guran \nOperator video: Florin Chirea/Orlando Edward \nMakeup: Minela Popa\, Mihaela Guran \nData premierei: 29 iunie 2023 \nUn polițist care alege să încalce una dintre regulile de bază ale meseriei sale. Un complice de meserie îi alimentează indecizia. Fără să își dea seama\, realitatea nu mai este ceea ce pare a fi. Cum se poate ajunge ca fiica lui să fie ademenită de indivizii de care ar trebui s-o protejeze\, conform „fișei postului”? Conflicte apparent minore degenerează treptat până când mai multe vieți sunt distruse. Cel care o seduce și o exploatează este un tânăr dreamer – ca și ea. Visul se sparge – viețile distruse nu mai pot fi recuperate decât în amintire. \nCuvântul autorului \n„Textul Păsări de nisip este a doua mea incursiune în universul relațiilor părinți-adolescenți\, după Paso Doble. Cred că este una dintre problemele importante ale societății de azi. Și nu numai de azi. În definitiv\, și Romeo și Julieta este o piesă despre relația dintre tineri și părinți. Cumva\, pentru mine este încă un mister cum adolescenții rebeli de ieri se transformă în părinții care nu se înțeleg cu adolescenții rebeli de azi. Iar aceste probleme care\, știu\, sunt de când lumea\, se suprapun\, sau mai bine spus se împletesc cu tarele societății de azi.” \nPăsări de nisip nu este doar un text despre traficul de persoane și despre cum ajunge cineva în acest malaxor de vieți și destine. Este și o încercare de a pune în fața societății de azi o oglindă.” (Cristi Nedelcu)
URL:https://craiovalive.ro/eveniment/pasari-de-nisip/
LOCATION:Teatrul Național Craiova – Sala Atelier\, Str. A. I. Cuza\, nr. 11\, Craiova\, Dolj\, 200585\, România
CATEGORIES:Teatru
ATTACH;FMTTYPE=image/png:https://craiovalive.ro/wp-content/uploads/2023/09/Pasari-de-nisip-TNCMS.png
ORGANIZER;CN="Teatrul Na%C8%9Bional Marin Sorescu Craiova":MAILTO:secretariat@tncms.ro
GEO:44.3186661;23.8003743
X-APPLE-STRUCTURED-LOCATION;VALUE=URI;X-ADDRESS=Teatrul Național Craiova – Sala Atelier Str. A. I. Cuza nr. 11 Craiova Dolj 200585 România;X-APPLE-RADIUS=500;X-TITLE=Str. A. I. Cuza\, nr. 11:geo:23.8003743,44.3186661
END:VEVENT
BEGIN:VEVENT
DTSTART;TZID=Europe/Bucharest:20260226T190000
DTEND;TZID=Europe/Bucharest:20260226T203000
DTSTAMP:20260424T073122
CREATED:20241231T141732Z
LAST-MODIFIED:20260114T155400Z
UID:10012849-1772132400-1772137800@craiovalive.ro
SUMMARY:Țara lui Gufi
DESCRIPTION:De: Matei Vișniec \nVersiune scenică: Dan Tudor \nRegie\, ilustrație și muzică originală: Dan Tudor \nScenografie: Lia Dogaru \nAsistență scenografie: Adelina Galiceanu \nCoregrafie: Florin Fieroiu \nConcept și animație video: Ștefan Triculete\, Mihai Manea \nMakeup: Minela Popa\, Mihaela Guran \nDistribuția: Gufi – Nicolae Vicol\, Marțafița – Alina Mangra\, Iola – Alexandra Francu\, Bubi – Nicolae Poghirc\, Zeno – Ștefan Cepoi\, Lulu – Angel Rababoc\, Macabril – Cosmin Rădescu/Dragoș Măceșanu\, Slujitor și Bucătar – Gabriel Marciu\, Robderouă – Ionuț Botoroagă\, Țonțonel – Adrian Tudor\, Gârneață – Răzvan Rusan\, Firfirică – Emilian Teofil Stănică\, Străjer – Dragoș Andronie\, Străjer – Andrei Dobre\, Străjer – Mihai Manea\, Străjer – Mișu Nărămzoiu\, Străjer – Constantin Ciuică \nSecretar literar: Denisa Neațu \nProducător: Marius Pîrlea \nSufleor: Ramona Popa \nRegizor tehnic: Mihai Manea \nOperator Video: Florin Chirea \nLumini: Marian Tudorache \nSunet: George Udrea \nDurata spectacolului: 100 de min. fără pauză \nGenul spectacolului: basm comic pentru toate vârstele \nPiesa de teatru Țara lui Gufi a fost scrisă în timpul regimului comunist din România\, o perioadă marcată de opresiune politică\, cenzură și control asupra libertății de exprimare. Țara lui Gufi este o piesă de teatru care spune povestea unei lumi fantastice\, populate de personaje ciudate și amuzante\, în care realitatea și fantezia se împletesc într-un mod neașteptat. Piesa combină umorul cu momente de reflecție profundă\, explorează teme legate de condiția umană\, libertate și conformism\, într-un mod metaforic. Acțiunea se desfășoară într-un univers oniric\, unde personajele trăiesc într-o lume controlată de Gufi. Piesa este o reflexie asupra puterii\, manipulării și pierderii identității în fața sistemelor autoritare. \n„Condiția regizorului este una de interpret și a doua de creator. Țara lui Gufi imaginată de mine mi-aș dori să arate așa cum a gândit-o Matei Vișniec\, să nu-și piardă sufletul și sensul scriiturii autorului\, pentru că dumnealui a provocat această bucurie de a mă implica în acest proiect și apoi\, la nivel de fantezie scenică\, să-mi aparțină. \nȚara lui Gufi este o țară în care puful de păpădie zboară și nu e văzut\, unde norii sunt pe cer\, dar nu pot să fie văzuți\, unde luna\, soarele\, stelele există\, însă oamenii nu se pot bucura de acest minunății\, până la un moment dat când cineva le „ridică pleoapele”. \nExistă o punte spirituală peste ani… în urmă cu trei decenii\, la absolvirea facultății\, monologul Sufleurul fricii m-a făcut să mă îndrăgostesc iremediabil de scriitorul Matei Vișniec\, dar întâlnirea noastră recentă a declanșat o altă curiozitate: care este acea scriitură a lui Matei Vișniec care ar avea nevoie de mine pentru a căpăta dimensiunea spectaculară dorită de autor?! Răspunsul este chiar Țara lui Gufi\, spectacolul nostru\, care s-a născut din dorința copilărească de a descoperi cât mai multe situații imaginate sau provocate de excepționalul text al autorului\, cu permanentă grijă pentru dimensiunea candidă\, jucăușă a acestuia. \nDacă ești atras neapărat de ceea ce e rău și pui accentul greșit\, poate fi pierdut tocmai umorul\, carisma personajelor\, condiția deosebită a limbajului cu multe jocuri de cuvinte savuroase\, cu proverbe românești\, din această piesă care intră într-o categorie a textelor dificil traductibile. \nÎntâlnirea cu actorii fantastici ai trupei Naționalului craiovean a declanșat alegerea acestui text\, devenind una dintre cele mai frumoase și fericite întâmplări artistice ale parcursului meu regizoral\, o bucurie nemaipomenită.” \nDan Tudor \nŢara lui Gufi – o poveste personală cu… tîlc \n„În urmă cu peste 40 de ani\, cînd am scris Ţara lui Gufi\, românii nu întrezăreau nici o lumină la orizont iar deprimarea era generală. Pentru mine literatura însemna unicul spaţiu de libertate\, iar textele subversive singura formă de rezistenţă pentru ca spălarea pe creier operată de regimul comunist să nu devină totală. \nŢara lui Gufi este singura mea piesă care rezistă cu încăpăţînare la traducere. Au existat încercări\, inclusiv din partea mea\, dar se pierde prea mult din savoarea invenţiilor de limbaj. \nMă bucur ca un copil bătrîn întrucît regizorul Dan Tudor „reciteşte” scenic această piesă a mea de tinereţe şi că montarea este găzduită de Teatrul Naţional „Marin Sorescu” din Craiova. Scena craioveană mi-a adus\, din 1989 încoace şi alte bucurii. Pentru ea am scris\, de exemplu\, piesa Occident Express în contextul unui interesant program propus de Convenţia Teatrală Europeană. \nRevenind la Gufi şi la povestea mea plasată într-o imaginară ţară a orbilor… Sincer să fiu\, niciodată\, de la căderea comunismului încoace\, nu mi-a fost atît de frică precum îmi este astăzi că noi forme de orbire sunt posibile. Din acest punct de vedere ceea ce scriam în urmă cu peste patru decenii rămîne perfect valabil ca mesaj: dacă nu vom şti să deschidem ochii nu vom şti într-o bună zi cum să deschidem cuşca în care ne va închide orbirea.” \nMatei Vişniec
URL:https://craiovalive.ro/eveniment/tara-lui-gufi/2026-02-26/
LOCATION:Teatrul Național Craiova – Sala Amza Pellea\, Str. A. I. Cuza\, nr. 11\, Craiova\, Dolj\, 200585\, România
CATEGORIES:Teatru
ATTACH;FMTTYPE=image/jpeg:https://craiovalive.ro/wp-content/uploads/2024/12/Tara-lui-Gufi.jpg
ORGANIZER;CN="Teatrul Na%C8%9Bional Marin Sorescu Craiova":MAILTO:secretariat@tncms.ro
GEO:44.3186661;23.8003743
X-APPLE-STRUCTURED-LOCATION;VALUE=URI;X-ADDRESS=Teatrul Național Craiova – Sala Amza Pellea Str. A. I. Cuza nr. 11 Craiova Dolj 200585 România;X-APPLE-RADIUS=500;X-TITLE=Str. A. I. Cuza\, nr. 11:geo:23.8003743,44.3186661
END:VEVENT
BEGIN:VEVENT
DTSTART;TZID=Europe/Bucharest:20260227T170000
DTEND;TZID=Europe/Bucharest:20260227T183000
DTSTAMP:20260424T073122
CREATED:20260220T215800Z
LAST-MODIFIED:20260220T220135Z
UID:10014047-1772211600-1772217000@craiovalive.ro
SUMMARY:Cineva care să mă păzească
DESCRIPTION:Cineva care să mă păzească – Regia Iris Spiridon \n DistribuțiaCostinela Ungureanu\nAnca Dinu\nAlex Calangiu\nCorina Druc\nAnastasia Cepoi\nRareș Boureanu\nRegia\, traducerea textului\, versiunea scenică: Iris SpiridonText de: Henry JamesScenografia: Lia DogaruSufleor: Adrian ȚîrcăRegizor scenă: Cristian Norel PetecProducător: Marius PîrleaSunet: George UdreaLumini: Alina Mitrache\n\nFotograf: Florin Chirea \n\nDurata: 75 min\n\nSinopsis\nO tânără guvernantă ajunge la moșia Bly pentru a veghea doi copii orfani – Miles și Flora. Singură\, izolată\, legată de o promisiune de a nu deranja niciodată angajatorul ei\, ea descoperă curând că lucrurile nu sunt ceea ce par. \nPrezențe. Umbre. Priviri care persistă dincolo de margini. \nPe măsură ce vara se întoarce spre toamnă\, guvernanta devine convinsă că ceva îi bântuie pe copii – sau poate că ceva deja locuiește în ei. Dar ce anume vede ea\, de fapt? Fantome ale trecutului care refuză să plece? Sau propriile ei temeri care iau formă în tăcerea casei? \nÎntre inocență și corupție\, între salvare și obsesie\, realitatea se destramă fir cu fir. Cine are nevoie de pază? Copiii de fantome? Fantomele de uitare? Sau guvernanta de propria ei minte? \nCineva trebuie să păzească. Dar cine păzește paznicul? \n  \n“Fantomele lui Henry James nu au nimic în comun cu vechile fantome violente – căpitanii de vas împroșcați cu sânge\, caii albi\, femeile decapitate de pe poteci și câmpuri bătute de vânt. Fantomele lui James își au originea în noi înșine. Ele se arată de fiecare dată când sensul ne depășește capacitatea de a-l exprima\, de fiecare dată când banalul pare învăluit în straniu.” – Virginia Woolf \nIris Spiridon \nIris Spiridon este regizoare de teatru\, scenaristă de film și autoare de carte. A studiat scenografie la Liceul Nicolae Tonitza\, respectiv regie de teatru la UNATC\, cu licență (2008)\, masterat (2010) și doctorat (2013) la clasa prof. dr. Alexa Visarion. \nA montat spectacole în țară\, dintre care amintim : “Povestea personajelor mele pierdute” (Teatrul Dramaturgilor Români)\, “Ziua în care a dispărut soarele”\, “Tărâmul din globul fermecat”\, “Psycho” ( Apollo 111\, București)\, “Povestea păsării fără cuib” Teatrul Vasile Alecsandri Iași)\, “Fereastra secretă” (Teatrul Andrei Mureșanu din Sfântu Gheorghe )\, “Do you love me “– un horror romantic (Teatrul Național București)\, “Hedwig and the Angry Inch” (Point\, București)\, “ And baby makes seven” ( Teatrul German Timișoara). \nCo-scenaristă pentru “Luna verde” (2010) și “Ana” (2014)\, în regia lui Alexa Visarion; semnează scenariul filmului “Un prinț și jumătate” (2018\, regia Ana Lungu)\, în care interpretează un rol principal. \nÎn 2021 a publicat volumul Virusiada Copiilor (Editura Triade\, Timișoara)\, iar în 2024 a publicat \nromanul “Așa cum v-am iubit eu” în colecția lui Dan Sociu ( Editura Alchimica\, București ). \nÎn prezent se află în pre-producție cu filmul de debut “Regi 3-16:28”\, cu al cărui scenariu a obținut finanțare la concursul CNC din 2025.
URL:https://craiovalive.ro/eveniment/cineva-care-sa-ma-pazeasca/2026-02-27/
LOCATION:Teatrul Național Craiova – Sala I. D. Sîrbu\, Str. A. I. Cuza\, nr. 11\, Craiova\, Dolj\, 200585\, România
CATEGORIES:Teatru
ATTACH;FMTTYPE=image/webp:https://craiovalive.ro/wp-content/uploads/2026/01/Afis-Cineva-care-sa-ma-pazeasca.webp
ORGANIZER;CN="Teatrul Na%C8%9Bional Marin Sorescu Craiova":MAILTO:secretariat@tncms.ro
GEO:44.3186661;23.8003743
X-APPLE-STRUCTURED-LOCATION;VALUE=URI;X-ADDRESS=Teatrul Național Craiova – Sala I. D. Sîrbu Str. A. I. Cuza nr. 11 Craiova Dolj 200585 România;X-APPLE-RADIUS=500;X-TITLE=Str. A. I. Cuza\, nr. 11:geo:23.8003743,44.3186661
END:VEVENT
BEGIN:VEVENT
DTSTART;TZID=Europe/Bucharest:20260228T150000
DTEND;TZID=Europe/Bucharest:20260302T190000
DTSTAMP:20260424T073122
CREATED:20260224T094128Z
LAST-MODIFIED:20260224T094531Z
UID:10014060-1772290800-1772478000@craiovalive.ro
SUMMARY:SORESCU 90
DESCRIPTION:SORESCU 90\, la Național \n Videoproiecții | Lansare volum de poezii | Expoziție\n\n\nTeatrul Național „Marin Sorescu” Craiova își omagiază patronul spiritual\, Marin Sorescu\, la 90 de ani de la naștere\, printr-o serie de evenimente speciale care vor avea loc în perioada 28 februarie – 2 martie 2026.\n\n\n\n Programul evenimentelor:\n\n\n\n 28 februarie | ora 17:00 | Sala Atelier\n Videoproiecția spectacolului Matca\nRegia: Daniela Peleanu\nScenografia: Viorel Penișoară-Stegaru\nCu: Anca Dragomir și Vasile Cosma\n\n\n\n 1 martie | ora 17.00 | Sala Atelier\n Videoproiecția spectacolului-eveniment Vărul Shakespeare\nRegia: Mircea Cornișteanu\nDin distribuția premierei din 1990 fac parte\, printre alții: Natașa Raab\, Ilie Gheorghe\, Tudor Gheorghe\n\n\n\n 2 martie | ora 17:00 | Sala Atelier\n Videoproiecția spectacolului IONA (2016)\nCu Ilie Gheorghe\n\n\nDupă premiera monodramei din stagiunea 1994-1995\, Marin Sorescu declara:\n „Sunt un vechi admirator al actorului Ilie Gheorghe. În Iona el a făcut un spectacol extraordinar. Cred că-i cel mai frumos spectacol cu Iona care s-a realizat până acum.”\n\n\n\n Sâmbătă | 28 februarie | ora 15.00\nVa avea loc lansarea volumului de poezii „TRUNCHIATE”\, care reunește texte nepublicate\, descoperite de familie după moartea scriitorului – facsimile ale foilor dactilografiate de poet\, însoțite de desene realizate de acesta.\n\n\n Expoziție în foaierul teatrului\nPublicul va putea vizita o expoziție de afișe ale spectacolelor puse în scenă după textele dramatice ale lui Marin Sorescu.\n\n\n Reamintim că\, în anul 2005\, Marin Sorescu a devenit patronul spiritual al Teatrului Național din Craiova\, la inițiativa directorului de atunci\, Mircea Cornișteanu.\n\n\n Vă așteptăm să celebrăm împreună moștenirea unui mare creator al culturii române!
URL:https://craiovalive.ro/eveniment/sorescu-90/
LOCATION:Teatrul Național Marin Sorescu Craiova\, Str. A. I. Cuza\, nr. 11\, Craiova\, Dolj\, 200585\, România
CATEGORIES:Conferință,Expoziție,Film,Teatru
ATTACH;FMTTYPE=image/jpeg:https://craiovalive.ro/wp-content/uploads/2024/03/Teatrul-National-Craiova-evenimente.jpg
ORGANIZER;CN="Teatrul Na%C8%9Bional Marin Sorescu Craiova":MAILTO:secretariat@tncms.ro
GEO:44.318967618949;23.799117766692
X-APPLE-STRUCTURED-LOCATION;VALUE=URI;X-ADDRESS=Teatrul Național Marin Sorescu Craiova Str. A. I. Cuza nr. 11 Craiova Dolj 200585 România;X-APPLE-RADIUS=500;X-TITLE=Str. A. I. Cuza\, nr. 11:geo:23.799117766692,44.318967618949
END:VEVENT
BEGIN:VEVENT
DTSTART;TZID=Europe/Bucharest:20260301T110000
DTEND;TZID=Europe/Bucharest:20260301T120000
DTSTAMP:20260424T073122
CREATED:20240128T112849Z
LAST-MODIFIED:20260223T095438Z
UID:10000850-1772362800-1772366400@craiovalive.ro
SUMMARY:De-aș fi Scufița Roșie
DESCRIPTION:DE-AȘ FI SCUFIȚA ROȘIE (3+)\nadaptare după Frații Grimm\nRegia și scenariul: Geo Dinescu și Marin Fagu\nScenografia: Geo Dinescu\nMuzica: Marin Fagu\nDistribuția: Geo Dinescu / Andreea Ionescu\, Marin Fagu \n Biletele se pot procura de la Agenţia Teatrului Colibri. Preț bilet: 13 lei / pers. \nMai multe informații se pot obține la tel.: 0251.412.473.\n După ora începerii spectacolului\, accesul în sală nu mai este permis! Persoanele care au bilete și întârzie le pot reprograma la următoarele spectacole.
URL:https://craiovalive.ro/eveniment/de-as-fi-scufita-rosie/
LOCATION:Teatrul pentru copii și tineret Colibri\, Calea București\, nr. 56\, Craiova\, Dolj\, România
CATEGORIES:Evenimente pentru copii,Teatru
ATTACH;FMTTYPE=image/jpeg:https://craiovalive.ro/wp-content/uploads/2024/01/De-as-fi-Scufita-Rosie-Teatrul-Colibri-Craiova.jpg
ORGANIZER;CN="Teatrul pentru copii si tineret Colibri":MAILTO:contact@teatrulcolibri.ro
GEO:44.3151148;23.8215842
X-APPLE-STRUCTURED-LOCATION;VALUE=URI;X-ADDRESS=Teatrul pentru copii și tineret Colibri Calea București nr. 56 Craiova Dolj România;X-APPLE-RADIUS=500;X-TITLE=Calea București\, nr. 56:geo:23.8215842,44.3151148
END:VEVENT
BEGIN:VEVENT
DTSTART;TZID=Europe/Bucharest:20260301T190000
DTEND;TZID=Europe/Bucharest:20260301T203000
DTSTAMP:20260424T073122
CREATED:20251208T134509Z
LAST-MODIFIED:20251208T134509Z
UID:10012623-1772391600-1772397000@craiovalive.ro
SUMMARY:Mireasă fără voie
DESCRIPTION:MIREASA FĂRĂ VOIE – O COMEDIE ROMANTICĂ EFERVESCENTĂ 1 Martie 2026 |  19:00 Casa de Cultura a Studentilor Craiova\nCum ar fi dacă ți s-ar livra iubirea vieții… direct la ușă? Cum ar fi ca\, atunci când ai renunțat la ideea unei relații serioase\, universul să-ți trimită exact omul potrivit\, într-un mod total neașteptat?\n„Mireasa fără voie” te invită într-o comedie romantică incendiară\, în care iubirea se întâmplă din greșeală\, dar se trăiește asumat!\nDISTRIBUTIE: Carmen Tanase\, Catalina Grama\, Irina Antonie\, Doru Bem\, Andrei Mateiu.
URL:https://craiovalive.ro/eveniment/mireasa-fara-voie/
LOCATION:Casa de Cultură a Studenților Craiova\, Str. Eugeniu Carada\, nr. 10\, Craiova\, Dolj\, 200390\, România
CATEGORIES:Teatru
ATTACH;FMTTYPE=image/jpeg:https://craiovalive.ro/wp-content/uploads/2025/12/Mireasa-fara-voie.jpg
GEO:44.3158109;23.8003284
X-APPLE-STRUCTURED-LOCATION;VALUE=URI;X-ADDRESS=Casa de Cultură a Studenților Craiova Str. Eugeniu Carada nr. 10 Craiova Dolj 200390 România;X-APPLE-RADIUS=500;X-TITLE=Str. Eugeniu Carada\, nr. 10:geo:23.8003284,44.3158109
END:VEVENT
END:VCALENDAR