BEGIN:VCALENDAR
VERSION:2.0
PRODID:-//Craiova Live - ECPv6.15.18//NONSGML v1.0//EN
CALSCALE:GREGORIAN
METHOD:PUBLISH
X-WR-CALNAME:Craiova Live
X-ORIGINAL-URL:https://craiovalive.ro
X-WR-CALDESC:Evenimente pentru Craiova Live
REFRESH-INTERVAL;VALUE=DURATION:PT1H
X-Robots-Tag:noindex
X-PUBLISHED-TTL:PT1H
BEGIN:VTIMEZONE
TZID:Europe/Bucharest
BEGIN:DAYLIGHT
TZOFFSETFROM:+0200
TZOFFSETTO:+0300
TZNAME:EEST
DTSTART:20250330T010000
END:DAYLIGHT
BEGIN:STANDARD
TZOFFSETFROM:+0300
TZOFFSETTO:+0200
TZNAME:EET
DTSTART:20251026T010000
END:STANDARD
BEGIN:DAYLIGHT
TZOFFSETFROM:+0200
TZOFFSETTO:+0300
TZNAME:EEST
DTSTART:20260329T010000
END:DAYLIGHT
BEGIN:STANDARD
TZOFFSETFROM:+0300
TZOFFSETTO:+0200
TZNAME:EET
DTSTART:20261025T010000
END:STANDARD
BEGIN:DAYLIGHT
TZOFFSETFROM:+0200
TZOFFSETTO:+0300
TZNAME:EEST
DTSTART:20270328T010000
END:DAYLIGHT
BEGIN:STANDARD
TZOFFSETFROM:+0300
TZOFFSETTO:+0200
TZNAME:EET
DTSTART:20271031T010000
END:STANDARD
END:VTIMEZONE
BEGIN:VEVENT
DTSTART;TZID=Europe/Bucharest:20260126T190000
DTEND;TZID=Europe/Bucharest:20260126T203000
DTSTAMP:20260424T084959
CREATED:20251227T165527Z
LAST-MODIFIED:20251227T165527Z
UID:10012690-1769454000-1769459400@craiovalive.ro
SUMMARY:Ce avem noi aici?
DESCRIPTION:Ce avem noi aici? \n26 Ianuarie 2026 ora 19:00 \nTeatrul National „Marin Sorescu” Craiova \nComedie  „Ce avem noi aici?” de Lia Bugnar\, distribuție: Carmen Tănase\, Marius Manole\, Maria Obretin. Regie Lia Bugnar. \nSe ia o mama foarte posesiva de baiat (Carmen Tanase)\, se adauga baiatul timid\, ascultator\, dar cu mici derapaje (Marius Manole)\, se presara niste anunturi matrimoniale\, se picura niste femeie superba\, singura si disperata (Maria Obretin) si ai deja o comedie care dezarmeaza si pe cel mai ursuz spectator. Bonus\, dupa ce razi\, si razi\, si razi iti dai seama ca povestea nu e deloc vesela\, iti dai seama ca povestea e cea a multor oameni singuri din jurul tau\, sau chiar a ta. Dupa care mai razi o data\, bineinteles\, pentru ca Lia Bugnar are mereu grija sa-si trimita spectatorii acasa cu un zambet mare pe buze.
URL:https://craiovalive.ro/eveniment/ce-avem-noi-aici/
LOCATION:Teatrul Național Craiova – Sala Amza Pellea\, Str. A. I. Cuza\, nr. 11\, Craiova\, Dolj\, 200585\, România
CATEGORIES:Teatru
ATTACH;FMTTYPE=image/png:https://craiovalive.ro/wp-content/uploads/2025/12/Ce-avem-noi-aici.png
GEO:44.3186661;23.8003743
X-APPLE-STRUCTURED-LOCATION;VALUE=URI;X-ADDRESS=Teatrul Național Craiova – Sala Amza Pellea Str. A. I. Cuza nr. 11 Craiova Dolj 200585 România;X-APPLE-RADIUS=500;X-TITLE=Str. A. I. Cuza\, nr. 11:geo:23.8003743,44.3186661
END:VEVENT
BEGIN:VEVENT
DTSTART;TZID=Europe/Bucharest:20260130T190000
DTEND;TZID=Europe/Bucharest:20260130T203000
DTSTAMP:20260424T084959
CREATED:20251119T113248Z
LAST-MODIFIED:20251119T113248Z
UID:10012515-1769799600-1769805000@craiovalive.ro
SUMMARY:Un bărbat și mai multe femei
DESCRIPTION:Craiova: Un bărbat și mai multe femei\nTeatrul Colibri\, Craiova\nCalea București 56\nvineri\, 30 ianuarie ’26\, ora 19:00 \nCâte femei îți pot influența viața?\nEste o piesă în care facem cunoștință cu un om normal\, care\, pus în diferite situații de viață\, ajunge să reacționeze neașteptat\, imprevizibil. Femeile pe care le întâlnește îi schimbă definitiv viața!\nAcest spectacol oferă celor doi actori\, pe care îi puteți vedea și în ”Soț de vânzare” două partituri actoricești extraordinare.\nMarius Gîlea este soțul casnic\, liniștit și la locul lui. Nimic deosebit\, în aparență\, dar un eveniment lipsit de importanță îi dă peste cap totul. Caracterul său va suferi modificări esențiale. \nAna Odagiu reușește cu succes și umor să interpreteze mai multe personaje. Mai exact șapte femei diferite vor prinde viață chiar sub ochii dumneavoastră. Versatilitatea\, talentul și virtuozitatea sunt cuvintele care descriu cel mai bine interpretarea Anei! \nEste un spectacol plin de umor de bună calitate\, un spectacol care are ritm\, un spectacol care vă va bine dispune și vă va face să vreți să reveniți la sala de teatru. Vă așteptăm cu drag și cu zâmbetul pe buze! (durata 60 minute) \nVârsta recomandată: +12 ani
URL:https://craiovalive.ro/eveniment/un-barbat-si-mai-multe-femei/
LOCATION:Teatrul pentru copii și tineret Colibri\, Calea București\, nr. 56\, Craiova\, Dolj\, România
CATEGORIES:Teatru
ATTACH;FMTTYPE=image/webp:https://craiovalive.ro/wp-content/uploads/2025/11/Un-barbat-si-mai-multe-femei.webp
GEO:44.3151148;23.8215842
X-APPLE-STRUCTURED-LOCATION;VALUE=URI;X-ADDRESS=Teatrul pentru copii și tineret Colibri Calea București nr. 56 Craiova Dolj România;X-APPLE-RADIUS=500;X-TITLE=Calea București\, nr. 56:geo:23.8215842,44.3151148
END:VEVENT
BEGIN:VEVENT
DTSTART;TZID=Europe/Bucharest:20260201T110000
DTEND;TZID=Europe/Bucharest:20260201T120000
DTSTAMP:20260424T084959
CREATED:20231220T233910Z
LAST-MODIFIED:20260127T130024Z
UID:10003385-1769943600-1769947200@craiovalive.ro
SUMMARY:Crăiasa Zăpezii
DESCRIPTION:CRĂIASA ZĂPEZII (5+)\ndupă H. Ch. Andersen\nRegia: Laurențiu Tudor\nDistribuția: Alis Ianoș\, Cosmin Dolea\nVoice Over: Ionica Dobrescu\, Geo Dinescu\nVideo Mapping: Marin Fagu\nSpectacolul se adresează unui public de peste 5 ani.\nDurata: 40 min.\n\n\n\n\n„Crăiasa Zăpezii“ își spune povestea în spectacolul adaptare după H. Ch. Andersen\, regia Laurențiu Tudor\, cu actorii: Alis Ianoș și Cosmin Dolea\, voice over: Ionica Dobrescu\, Geo Dinescu\, video mapping: Marin Fagu. \n Biletele se pot procura de la Agenţia Teatrului Colibri. Preţ bilet: 13 lei / pers. Mai multe informații se pot obține la tel.: 0251.412.473.\n După începerea spectacolului\, accesul în sală nu mai este permis! Persoanele care au bilete și întârzie le pot reprograma.
URL:https://craiovalive.ro/eveniment/craiasa-zapezii/
LOCATION:Teatrul pentru copii și tineret Colibri\, Calea București\, nr. 56\, Craiova\, Dolj\, România
CATEGORIES:Evenimente pentru copii,Teatru
ATTACH;FMTTYPE=image/jpeg:https://craiovalive.ro/wp-content/uploads/2022/12/Craiasa-Zapezii.jpg
ORGANIZER;CN="Teatrul pentru copii si tineret Colibri":MAILTO:contact@teatrulcolibri.ro
GEO:44.3151148;23.8215842
X-APPLE-STRUCTURED-LOCATION;VALUE=URI;X-ADDRESS=Teatrul pentru copii și tineret Colibri Calea București nr. 56 Craiova Dolj România;X-APPLE-RADIUS=500;X-TITLE=Calea București\, nr. 56:geo:23.8215842,44.3151148
END:VEVENT
BEGIN:VEVENT
DTSTART;TZID=Europe/Bucharest:20260201T190000
DTEND;TZID=Europe/Bucharest:20260201T203000
DTSTAMP:20260424T084959
CREATED:20260127T123026Z
LAST-MODIFIED:20260127T123026Z
UID:10012921-1769972400-1769977800@craiovalive.ro
SUMMARY:Pe o scară de la una la alta
DESCRIPTION:Pe o scară de la una la alta \nSala Atelier (Pictură) – Teatrul Național Marin Sorescu Craiova \n Distribuția: Bogdan Oprănescu · Gabriela Oprescu · Iarina Zidaru\n Text: Iarina Zidaru Concept sound & light design: Emy GuranOperator sound & light design: Darko Huruială\nSinopsis\nPE O SCARĂ DE LA UNA LA ALTA este un spectacol de teatru care explorează\, cu umor fin și tensiune dramatică\, întâlnirea neașteptată a trei personaje prinse într-o situație-limită. Aparent banală\, contextul devine rapid un spațiu al confruntărilor\, al măștilor sociale care cad și al adevărurilor incomode care ies la suprafață. \nPe măsură ce relațiile dintre personaje se dezvoltă „de la una la alta”\, scara devine un simbol al tranziției — între decizii\, emoții\, trecut și prezent. Spectacolul îmbină comicul de situație cu drama personală\, construind portrete umane fragile\, contradictorii și profund recognoscibile. \nCu replici alerte\, ritm susținut și un concept sonor și vizual care amplifică stările interioare ale personajelor\, PE O SCARĂ DE LA UNA LA ALTA invită publicul să râdă\, să reflecteze și să se regăsească în micile drame cotidiene care\, uneori\, ne pot schimba radical direcția.
URL:https://craiovalive.ro/eveniment/pe-o-scara-de-la-una-la-alta/
LOCATION:Teatrul Național Craiova – Sala Atelier\, Str. A. I. Cuza\, nr. 11\, Craiova\, Dolj\, 200585\, România
CATEGORIES:Teatru
ATTACH;FMTTYPE=image/webp:https://craiovalive.ro/wp-content/uploads/2026/01/Pe-o-scara-de-la-una-la-alta.webp
ORGANIZER;CN="Tipografia":MAILTO:tipografiahub@gmail.com
GEO:44.3186661;23.8003743
X-APPLE-STRUCTURED-LOCATION;VALUE=URI;X-ADDRESS=Teatrul Național Craiova – Sala Atelier Str. A. I. Cuza nr. 11 Craiova Dolj 200585 România;X-APPLE-RADIUS=500;X-TITLE=Str. A. I. Cuza\, nr. 11:geo:23.8003743,44.3186661
END:VEVENT
END:VCALENDAR