BEGIN:VCALENDAR
VERSION:2.0
PRODID:-//Craiova Live - ECPv6.15.18//NONSGML v1.0//EN
CALSCALE:GREGORIAN
METHOD:PUBLISH
X-WR-CALNAME:Craiova Live
X-ORIGINAL-URL:https://craiovalive.ro
X-WR-CALDESC:Evenimente pentru Craiova Live
REFRESH-INTERVAL;VALUE=DURATION:PT1H
X-Robots-Tag:noindex
X-PUBLISHED-TTL:PT1H
BEGIN:VTIMEZONE
TZID:Europe/Bucharest
BEGIN:DAYLIGHT
TZOFFSETFROM:+0200
TZOFFSETTO:+0300
TZNAME:EEST
DTSTART:20240331T010000
END:DAYLIGHT
BEGIN:STANDARD
TZOFFSETFROM:+0300
TZOFFSETTO:+0200
TZNAME:EET
DTSTART:20241027T010000
END:STANDARD
BEGIN:DAYLIGHT
TZOFFSETFROM:+0200
TZOFFSETTO:+0300
TZNAME:EEST
DTSTART:20250330T010000
END:DAYLIGHT
BEGIN:STANDARD
TZOFFSETFROM:+0300
TZOFFSETTO:+0200
TZNAME:EET
DTSTART:20251026T010000
END:STANDARD
BEGIN:DAYLIGHT
TZOFFSETFROM:+0200
TZOFFSETTO:+0300
TZNAME:EEST
DTSTART:20260329T010000
END:DAYLIGHT
BEGIN:STANDARD
TZOFFSETFROM:+0300
TZOFFSETTO:+0200
TZNAME:EET
DTSTART:20261025T010000
END:STANDARD
END:VTIMEZONE
BEGIN:VEVENT
DTSTART;TZID=Europe/Bucharest:20251215T190000
DTEND;TZID=Europe/Bucharest:20251215T210000
DTSTAMP:20260424T115353
CREATED:20231003T205948Z
LAST-MODIFIED:20250603T072705Z
UID:10001184-1765825200-1765832400@craiovalive.ro
SUMMARY:Sunt un Orb
DESCRIPTION:„Sunt un Orb” este un spectacol în care maestrul Horațiu Mălăele combină perfect inteligența și umorul\, pune în valoare întreaga sa măreție și carismă\, garantează emoții imprevizibile: lacrimi\, tristețe\, surâs\, burlesc\, fantezie. Râzi până la leșin\, zâmbești scrâșnit\, rânjești sarcastic. Și nu în ultimul rând\, iei parte la un mare act de creație.\nVino\, vezi\, rămâi încântat!
URL:https://craiovalive.ro/eveniment/sunt-un-orb/
LOCATION:Teatrul Național Craiova – Sala Amza Pellea\, Str. A. I. Cuza\, nr. 11\, Craiova\, Dolj\, 200585\, România
CATEGORIES:Teatru
ATTACH;FMTTYPE=image/jpeg:https://craiovalive.ro/wp-content/uploads/2023/10/Horatiu-Malaele-Sunt-un-orb-Craiova-2024.jpg
GEO:44.3186661;23.8003743
X-APPLE-STRUCTURED-LOCATION;VALUE=URI;X-ADDRESS=Teatrul Național Craiova – Sala Amza Pellea Str. A. I. Cuza nr. 11 Craiova Dolj 200585 România;X-APPLE-RADIUS=500;X-TITLE=Str. A. I. Cuza\, nr. 11:geo:23.8003743,44.3186661
END:VEVENT
BEGIN:VEVENT
DTSTART;TZID=Europe/Bucharest:20251216T170000
DTEND;TZID=Europe/Bucharest:20251216T180000
DTSTAMP:20260424T115353
CREATED:20251112T085939Z
LAST-MODIFIED:20251123T225523Z
UID:10012555-1765904400-1765908000@craiovalive.ro
SUMMARY:Povestea Spărgătorului de Nuci
DESCRIPTION:SPĂRGĂTORUL DE NUCI – O EXPERIENȚĂ IMERSIVĂ DE CRĂCIUN\nInstalație performativă\n\n\nÎn inima Târgului de Crăciun din Craiova\, Teatrul Național „Marin Sorescu” se transformă într-un tărâm al fanteziei: o lume vie\, în care publicul pășește în povestea Spărgătorului de nuci.\nAceastă instalație-spectacol reimaginează povestea Spărgătorului de nuci într-o experiență senzorială completă\, unde muzica\, lumina\, și mișcarea se împletesc pentru a crea un univers magic.\nInspirată de tema visului și a copilăriei care refuză să se stingă\, instalația propune o călătorie care dezvăluie noi ipostaze ale personajelor lui Hoffmann: Spărgătorul\, Marie\, Regele Șobolan.\nPublicul este invitat să exploreze\, să se piardă și să se regăsească printre fragmentele visului. Fiecare pas devine o descoperire\, fiecare privire – o poartă către o altă realitate.\n\n\nCu: Theodora Bălan/Diana Petec.\n\n\n„Spărgătorul de nuci” – o experiență pentru toate simțurile\, un Crăciun trăit altfel.\n Teatrul Național „Marin Sorescu”\, Craiova\n Date disponibile șibilete: https://ebilet.tncms.ro/ebilet sau laAgenția Teatrală\, Str. A. I. Cuza\, nr.11.\n Durata: 1 h.\n* Preț pentru copii ( bilete achiziționate de la agenție): 15 lei.\n\n\n Un proiect de Vlad Drăgulescu\nIlustrații de Ștefan Triculete.
URL:https://craiovalive.ro/eveniment/povestea-spargatorului-de-nuci/2025-12-16/
LOCATION:Teatrul Național Craiova – Foaier\, Str. A. I. Cuza\, nr. 11\, Craiova\, Dolj\, 200585\, România
CATEGORIES:Teatru
ATTACH;FMTTYPE=image/jpeg:https://craiovalive.ro/wp-content/uploads/2025/11/Povestea-Spargatorului-de-Nuci.jpg
ORGANIZER;CN="Teatrul Na%C8%9Bional Marin Sorescu Craiova":MAILTO:secretariat@tncms.ro
GEO:44.3186661;23.8003743
X-APPLE-STRUCTURED-LOCATION;VALUE=URI;X-ADDRESS=Teatrul Național Craiova – Foaier Str. A. I. Cuza nr. 11 Craiova Dolj 200585 România;X-APPLE-RADIUS=500;X-TITLE=Str. A. I. Cuza\, nr. 11:geo:23.8003743,44.3186661
END:VEVENT
BEGIN:VEVENT
DTSTART;TZID=Europe/Bucharest:20251217T110000
DTEND;TZID=Europe/Bucharest:20251217T120000
DTSTAMP:20260424T115353
CREATED:20251112T085939Z
LAST-MODIFIED:20251123T225523Z
UID:10012556-1765969200-1765972800@craiovalive.ro
SUMMARY:Povestea Spărgătorului de Nuci
DESCRIPTION:SPĂRGĂTORUL DE NUCI – O EXPERIENȚĂ IMERSIVĂ DE CRĂCIUN\nInstalație performativă\n\n\nÎn inima Târgului de Crăciun din Craiova\, Teatrul Național „Marin Sorescu” se transformă într-un tărâm al fanteziei: o lume vie\, în care publicul pășește în povestea Spărgătorului de nuci.\nAceastă instalație-spectacol reimaginează povestea Spărgătorului de nuci într-o experiență senzorială completă\, unde muzica\, lumina\, și mișcarea se împletesc pentru a crea un univers magic.\nInspirată de tema visului și a copilăriei care refuză să se stingă\, instalația propune o călătorie care dezvăluie noi ipostaze ale personajelor lui Hoffmann: Spărgătorul\, Marie\, Regele Șobolan.\nPublicul este invitat să exploreze\, să se piardă și să se regăsească printre fragmentele visului. Fiecare pas devine o descoperire\, fiecare privire – o poartă către o altă realitate.\n\n\nCu: Theodora Bălan/Diana Petec.\n\n\n„Spărgătorul de nuci” – o experiență pentru toate simțurile\, un Crăciun trăit altfel.\n Teatrul Național „Marin Sorescu”\, Craiova\n Date disponibile șibilete: https://ebilet.tncms.ro/ebilet sau laAgenția Teatrală\, Str. A. I. Cuza\, nr.11.\n Durata: 1 h.\n* Preț pentru copii ( bilete achiziționate de la agenție): 15 lei.\n\n\n Un proiect de Vlad Drăgulescu\nIlustrații de Ștefan Triculete.
URL:https://craiovalive.ro/eveniment/povestea-spargatorului-de-nuci/2025-12-17/1/
LOCATION:Teatrul Național Craiova – Foaier\, Str. A. I. Cuza\, nr. 11\, Craiova\, Dolj\, 200585\, România
CATEGORIES:Teatru
ATTACH;FMTTYPE=image/jpeg:https://craiovalive.ro/wp-content/uploads/2025/11/Povestea-Spargatorului-de-Nuci.jpg
ORGANIZER;CN="Teatrul Na%C8%9Bional Marin Sorescu Craiova":MAILTO:secretariat@tncms.ro
GEO:44.3186661;23.8003743
X-APPLE-STRUCTURED-LOCATION;VALUE=URI;X-ADDRESS=Teatrul Național Craiova – Foaier Str. A. I. Cuza nr. 11 Craiova Dolj 200585 România;X-APPLE-RADIUS=500;X-TITLE=Str. A. I. Cuza\, nr. 11:geo:23.8003743,44.3186661
END:VEVENT
BEGIN:VEVENT
DTSTART;TZID=Europe/Bucharest:20251217T160000
DTEND;TZID=Europe/Bucharest:20251217T170000
DTSTAMP:20260424T115353
CREATED:20251112T085939Z
LAST-MODIFIED:20251123T225523Z
UID:10012557-1765987200-1765990800@craiovalive.ro
SUMMARY:Povestea Spărgătorului de Nuci
DESCRIPTION:SPĂRGĂTORUL DE NUCI – O EXPERIENȚĂ IMERSIVĂ DE CRĂCIUN\nInstalație performativă\n\n\nÎn inima Târgului de Crăciun din Craiova\, Teatrul Național „Marin Sorescu” se transformă într-un tărâm al fanteziei: o lume vie\, în care publicul pășește în povestea Spărgătorului de nuci.\nAceastă instalație-spectacol reimaginează povestea Spărgătorului de nuci într-o experiență senzorială completă\, unde muzica\, lumina\, și mișcarea se împletesc pentru a crea un univers magic.\nInspirată de tema visului și a copilăriei care refuză să se stingă\, instalația propune o călătorie care dezvăluie noi ipostaze ale personajelor lui Hoffmann: Spărgătorul\, Marie\, Regele Șobolan.\nPublicul este invitat să exploreze\, să se piardă și să se regăsească printre fragmentele visului. Fiecare pas devine o descoperire\, fiecare privire – o poartă către o altă realitate.\n\n\nCu: Theodora Bălan/Diana Petec.\n\n\n„Spărgătorul de nuci” – o experiență pentru toate simțurile\, un Crăciun trăit altfel.\n Teatrul Național „Marin Sorescu”\, Craiova\n Date disponibile șibilete: https://ebilet.tncms.ro/ebilet sau laAgenția Teatrală\, Str. A. I. Cuza\, nr.11.\n Durata: 1 h.\n* Preț pentru copii ( bilete achiziționate de la agenție): 15 lei.\n\n\n Un proiect de Vlad Drăgulescu\nIlustrații de Ștefan Triculete.
URL:https://craiovalive.ro/eveniment/povestea-spargatorului-de-nuci/2025-12-17/2/
LOCATION:Teatrul Național Craiova – Foaier\, Str. A. I. Cuza\, nr. 11\, Craiova\, Dolj\, 200585\, România
CATEGORIES:Teatru
ATTACH;FMTTYPE=image/jpeg:https://craiovalive.ro/wp-content/uploads/2025/11/Povestea-Spargatorului-de-Nuci.jpg
ORGANIZER;CN="Teatrul Na%C8%9Bional Marin Sorescu Craiova":MAILTO:secretariat@tncms.ro
GEO:44.3186661;23.8003743
X-APPLE-STRUCTURED-LOCATION;VALUE=URI;X-ADDRESS=Teatrul Național Craiova – Foaier Str. A. I. Cuza nr. 11 Craiova Dolj 200585 România;X-APPLE-RADIUS=500;X-TITLE=Str. A. I. Cuza\, nr. 11:geo:23.8003743,44.3186661
END:VEVENT
BEGIN:VEVENT
DTSTART;TZID=Europe/Bucharest:20251217T170000
DTEND;TZID=Europe/Bucharest:20251217T180000
DTSTAMP:20260424T115353
CREATED:20251112T085939Z
LAST-MODIFIED:20251123T225523Z
UID:10012558-1765990800-1765994400@craiovalive.ro
SUMMARY:Povestea Spărgătorului de Nuci
DESCRIPTION:SPĂRGĂTORUL DE NUCI – O EXPERIENȚĂ IMERSIVĂ DE CRĂCIUN\nInstalație performativă\n\n\nÎn inima Târgului de Crăciun din Craiova\, Teatrul Național „Marin Sorescu” se transformă într-un tărâm al fanteziei: o lume vie\, în care publicul pășește în povestea Spărgătorului de nuci.\nAceastă instalație-spectacol reimaginează povestea Spărgătorului de nuci într-o experiență senzorială completă\, unde muzica\, lumina\, și mișcarea se împletesc pentru a crea un univers magic.\nInspirată de tema visului și a copilăriei care refuză să se stingă\, instalația propune o călătorie care dezvăluie noi ipostaze ale personajelor lui Hoffmann: Spărgătorul\, Marie\, Regele Șobolan.\nPublicul este invitat să exploreze\, să se piardă și să se regăsească printre fragmentele visului. Fiecare pas devine o descoperire\, fiecare privire – o poartă către o altă realitate.\n\n\nCu: Theodora Bălan/Diana Petec.\n\n\n„Spărgătorul de nuci” – o experiență pentru toate simțurile\, un Crăciun trăit altfel.\n Teatrul Național „Marin Sorescu”\, Craiova\n Date disponibile șibilete: https://ebilet.tncms.ro/ebilet sau laAgenția Teatrală\, Str. A. I. Cuza\, nr.11.\n Durata: 1 h.\n* Preț pentru copii ( bilete achiziționate de la agenție): 15 lei.\n\n\n Un proiect de Vlad Drăgulescu\nIlustrații de Ștefan Triculete.
URL:https://craiovalive.ro/eveniment/povestea-spargatorului-de-nuci/2025-12-17/3/
LOCATION:Teatrul Național Craiova – Foaier\, Str. A. I. Cuza\, nr. 11\, Craiova\, Dolj\, 200585\, România
CATEGORIES:Teatru
ATTACH;FMTTYPE=image/jpeg:https://craiovalive.ro/wp-content/uploads/2025/11/Povestea-Spargatorului-de-Nuci.jpg
ORGANIZER;CN="Teatrul Na%C8%9Bional Marin Sorescu Craiova":MAILTO:secretariat@tncms.ro
GEO:44.3186661;23.8003743
X-APPLE-STRUCTURED-LOCATION;VALUE=URI;X-ADDRESS=Teatrul Național Craiova – Foaier Str. A. I. Cuza nr. 11 Craiova Dolj 200585 România;X-APPLE-RADIUS=500;X-TITLE=Str. A. I. Cuza\, nr. 11:geo:23.8003743,44.3186661
END:VEVENT
BEGIN:VEVENT
DTSTART;TZID=Europe/Bucharest:20251218T170000
DTEND;TZID=Europe/Bucharest:20251218T180000
DTSTAMP:20260424T115353
CREATED:20251112T085939Z
LAST-MODIFIED:20251123T225523Z
UID:10012467-1766077200-1766080800@craiovalive.ro
SUMMARY:Povestea Spărgătorului de Nuci
DESCRIPTION:SPĂRGĂTORUL DE NUCI – O EXPERIENȚĂ IMERSIVĂ DE CRĂCIUN\nInstalație performativă\n\n\nÎn inima Târgului de Crăciun din Craiova\, Teatrul Național „Marin Sorescu” se transformă într-un tărâm al fanteziei: o lume vie\, în care publicul pășește în povestea Spărgătorului de nuci.\nAceastă instalație-spectacol reimaginează povestea Spărgătorului de nuci într-o experiență senzorială completă\, unde muzica\, lumina\, și mișcarea se împletesc pentru a crea un univers magic.\nInspirată de tema visului și a copilăriei care refuză să se stingă\, instalația propune o călătorie care dezvăluie noi ipostaze ale personajelor lui Hoffmann: Spărgătorul\, Marie\, Regele Șobolan.\nPublicul este invitat să exploreze\, să se piardă și să se regăsească printre fragmentele visului. Fiecare pas devine o descoperire\, fiecare privire – o poartă către o altă realitate.\n\n\nCu: Theodora Bălan/Diana Petec.\n\n\n„Spărgătorul de nuci” – o experiență pentru toate simțurile\, un Crăciun trăit altfel.\n Teatrul Național „Marin Sorescu”\, Craiova\n Date disponibile șibilete: https://ebilet.tncms.ro/ebilet sau laAgenția Teatrală\, Str. A. I. Cuza\, nr.11.\n Durata: 1 h.\n* Preț pentru copii ( bilete achiziționate de la agenție): 15 lei.\n\n\n Un proiect de Vlad Drăgulescu\nIlustrații de Ștefan Triculete.
URL:https://craiovalive.ro/eveniment/povestea-spargatorului-de-nuci/2025-12-18/
LOCATION:Teatrul Național Craiova – Foaier\, Str. A. I. Cuza\, nr. 11\, Craiova\, Dolj\, 200585\, România
CATEGORIES:Teatru
ATTACH;FMTTYPE=image/jpeg:https://craiovalive.ro/wp-content/uploads/2025/11/Povestea-Spargatorului-de-Nuci.jpg
ORGANIZER;CN="Teatrul Na%C8%9Bional Marin Sorescu Craiova":MAILTO:secretariat@tncms.ro
GEO:44.3186661;23.8003743
X-APPLE-STRUCTURED-LOCATION;VALUE=URI;X-ADDRESS=Teatrul Național Craiova – Foaier Str. A. I. Cuza nr. 11 Craiova Dolj 200585 România;X-APPLE-RADIUS=500;X-TITLE=Str. A. I. Cuza\, nr. 11:geo:23.8003743,44.3186661
END:VEVENT
BEGIN:VEVENT
DTSTART;TZID=Europe/Bucharest:20251219T170000
DTEND;TZID=Europe/Bucharest:20251219T180000
DTSTAMP:20260424T115353
CREATED:20251112T085939Z
LAST-MODIFIED:20251123T225523Z
UID:10012547-1766163600-1766167200@craiovalive.ro
SUMMARY:Povestea Spărgătorului de Nuci
DESCRIPTION:SPĂRGĂTORUL DE NUCI – O EXPERIENȚĂ IMERSIVĂ DE CRĂCIUN\nInstalație performativă\n\n\nÎn inima Târgului de Crăciun din Craiova\, Teatrul Național „Marin Sorescu” se transformă într-un tărâm al fanteziei: o lume vie\, în care publicul pășește în povestea Spărgătorului de nuci.\nAceastă instalație-spectacol reimaginează povestea Spărgătorului de nuci într-o experiență senzorială completă\, unde muzica\, lumina\, și mișcarea se împletesc pentru a crea un univers magic.\nInspirată de tema visului și a copilăriei care refuză să se stingă\, instalația propune o călătorie care dezvăluie noi ipostaze ale personajelor lui Hoffmann: Spărgătorul\, Marie\, Regele Șobolan.\nPublicul este invitat să exploreze\, să se piardă și să se regăsească printre fragmentele visului. Fiecare pas devine o descoperire\, fiecare privire – o poartă către o altă realitate.\n\n\nCu: Theodora Bălan/Diana Petec.\n\n\n„Spărgătorul de nuci” – o experiență pentru toate simțurile\, un Crăciun trăit altfel.\n Teatrul Național „Marin Sorescu”\, Craiova\n Date disponibile șibilete: https://ebilet.tncms.ro/ebilet sau laAgenția Teatrală\, Str. A. I. Cuza\, nr.11.\n Durata: 1 h.\n* Preț pentru copii ( bilete achiziționate de la agenție): 15 lei.\n\n\n Un proiect de Vlad Drăgulescu\nIlustrații de Ștefan Triculete.
URL:https://craiovalive.ro/eveniment/povestea-spargatorului-de-nuci/2025-12-19/
LOCATION:Teatrul Național Craiova – Foaier\, Str. A. I. Cuza\, nr. 11\, Craiova\, Dolj\, 200585\, România
CATEGORIES:Teatru
ATTACH;FMTTYPE=image/jpeg:https://craiovalive.ro/wp-content/uploads/2025/11/Povestea-Spargatorului-de-Nuci.jpg
ORGANIZER;CN="Teatrul Na%C8%9Bional Marin Sorescu Craiova":MAILTO:secretariat@tncms.ro
GEO:44.3186661;23.8003743
X-APPLE-STRUCTURED-LOCATION;VALUE=URI;X-ADDRESS=Teatrul Național Craiova – Foaier Str. A. I. Cuza nr. 11 Craiova Dolj 200585 România;X-APPLE-RADIUS=500;X-TITLE=Str. A. I. Cuza\, nr. 11:geo:23.8003743,44.3186661
END:VEVENT
BEGIN:VEVENT
DTSTART;TZID=Europe/Bucharest:20251220T170000
DTEND;TZID=Europe/Bucharest:20251220T180000
DTSTAMP:20260424T115353
CREATED:20251112T085939Z
LAST-MODIFIED:20251123T225523Z
UID:10012548-1766250000-1766253600@craiovalive.ro
SUMMARY:Povestea Spărgătorului de Nuci
DESCRIPTION:SPĂRGĂTORUL DE NUCI – O EXPERIENȚĂ IMERSIVĂ DE CRĂCIUN\nInstalație performativă\n\n\nÎn inima Târgului de Crăciun din Craiova\, Teatrul Național „Marin Sorescu” se transformă într-un tărâm al fanteziei: o lume vie\, în care publicul pășește în povestea Spărgătorului de nuci.\nAceastă instalație-spectacol reimaginează povestea Spărgătorului de nuci într-o experiență senzorială completă\, unde muzica\, lumina\, și mișcarea se împletesc pentru a crea un univers magic.\nInspirată de tema visului și a copilăriei care refuză să se stingă\, instalația propune o călătorie care dezvăluie noi ipostaze ale personajelor lui Hoffmann: Spărgătorul\, Marie\, Regele Șobolan.\nPublicul este invitat să exploreze\, să se piardă și să se regăsească printre fragmentele visului. Fiecare pas devine o descoperire\, fiecare privire – o poartă către o altă realitate.\n\n\nCu: Theodora Bălan/Diana Petec.\n\n\n„Spărgătorul de nuci” – o experiență pentru toate simțurile\, un Crăciun trăit altfel.\n Teatrul Național „Marin Sorescu”\, Craiova\n Date disponibile șibilete: https://ebilet.tncms.ro/ebilet sau laAgenția Teatrală\, Str. A. I. Cuza\, nr.11.\n Durata: 1 h.\n* Preț pentru copii ( bilete achiziționate de la agenție): 15 lei.\n\n\n Un proiect de Vlad Drăgulescu\nIlustrații de Ștefan Triculete.
URL:https://craiovalive.ro/eveniment/povestea-spargatorului-de-nuci/2025-12-20/
LOCATION:Teatrul Național Craiova – Foaier\, Str. A. I. Cuza\, nr. 11\, Craiova\, Dolj\, 200585\, România
CATEGORIES:Teatru
ATTACH;FMTTYPE=image/jpeg:https://craiovalive.ro/wp-content/uploads/2025/11/Povestea-Spargatorului-de-Nuci.jpg
ORGANIZER;CN="Teatrul Na%C8%9Bional Marin Sorescu Craiova":MAILTO:secretariat@tncms.ro
GEO:44.3186661;23.8003743
X-APPLE-STRUCTURED-LOCATION;VALUE=URI;X-ADDRESS=Teatrul Național Craiova – Foaier Str. A. I. Cuza nr. 11 Craiova Dolj 200585 România;X-APPLE-RADIUS=500;X-TITLE=Str. A. I. Cuza\, nr. 11:geo:23.8003743,44.3186661
END:VEVENT
BEGIN:VEVENT
DTSTART;TZID=Europe/Bucharest:20251221T170000
DTEND;TZID=Europe/Bucharest:20251221T180000
DTSTAMP:20260424T115353
CREATED:20251112T085939Z
LAST-MODIFIED:20251123T225523Z
UID:10012549-1766336400-1766340000@craiovalive.ro
SUMMARY:Povestea Spărgătorului de Nuci
DESCRIPTION:SPĂRGĂTORUL DE NUCI – O EXPERIENȚĂ IMERSIVĂ DE CRĂCIUN\nInstalație performativă\n\n\nÎn inima Târgului de Crăciun din Craiova\, Teatrul Național „Marin Sorescu” se transformă într-un tărâm al fanteziei: o lume vie\, în care publicul pășește în povestea Spărgătorului de nuci.\nAceastă instalație-spectacol reimaginează povestea Spărgătorului de nuci într-o experiență senzorială completă\, unde muzica\, lumina\, și mișcarea se împletesc pentru a crea un univers magic.\nInspirată de tema visului și a copilăriei care refuză să se stingă\, instalația propune o călătorie care dezvăluie noi ipostaze ale personajelor lui Hoffmann: Spărgătorul\, Marie\, Regele Șobolan.\nPublicul este invitat să exploreze\, să se piardă și să se regăsească printre fragmentele visului. Fiecare pas devine o descoperire\, fiecare privire – o poartă către o altă realitate.\n\n\nCu: Theodora Bălan/Diana Petec.\n\n\n„Spărgătorul de nuci” – o experiență pentru toate simțurile\, un Crăciun trăit altfel.\n Teatrul Național „Marin Sorescu”\, Craiova\n Date disponibile șibilete: https://ebilet.tncms.ro/ebilet sau laAgenția Teatrală\, Str. A. I. Cuza\, nr.11.\n Durata: 1 h.\n* Preț pentru copii ( bilete achiziționate de la agenție): 15 lei.\n\n\n Un proiect de Vlad Drăgulescu\nIlustrații de Ștefan Triculete.
URL:https://craiovalive.ro/eveniment/povestea-spargatorului-de-nuci/2025-12-21/
LOCATION:Teatrul Național Craiova – Foaier\, Str. A. I. Cuza\, nr. 11\, Craiova\, Dolj\, 200585\, România
CATEGORIES:Teatru
ATTACH;FMTTYPE=image/jpeg:https://craiovalive.ro/wp-content/uploads/2025/11/Povestea-Spargatorului-de-Nuci.jpg
ORGANIZER;CN="Teatrul Na%C8%9Bional Marin Sorescu Craiova":MAILTO:secretariat@tncms.ro
GEO:44.3186661;23.8003743
X-APPLE-STRUCTURED-LOCATION;VALUE=URI;X-ADDRESS=Teatrul Național Craiova – Foaier Str. A. I. Cuza nr. 11 Craiova Dolj 200585 România;X-APPLE-RADIUS=500;X-TITLE=Str. A. I. Cuza\, nr. 11:geo:23.8003743,44.3186661
END:VEVENT
END:VCALENDAR