BEGIN:VCALENDAR
VERSION:2.0
PRODID:-//Craiova Live - ECPv6.15.18//NONSGML v1.0//EN
CALSCALE:GREGORIAN
METHOD:PUBLISH
X-WR-CALNAME:Craiova Live
X-ORIGINAL-URL:https://craiovalive.ro
X-WR-CALDESC:Evenimente pentru Craiova Live
REFRESH-INTERVAL;VALUE=DURATION:PT1H
X-Robots-Tag:noindex
X-PUBLISHED-TTL:PT1H
BEGIN:VTIMEZONE
TZID:Europe/Bucharest
BEGIN:DAYLIGHT
TZOFFSETFROM:+0200
TZOFFSETTO:+0300
TZNAME:EEST
DTSTART:20240331T010000
END:DAYLIGHT
BEGIN:STANDARD
TZOFFSETFROM:+0300
TZOFFSETTO:+0200
TZNAME:EET
DTSTART:20241027T010000
END:STANDARD
BEGIN:DAYLIGHT
TZOFFSETFROM:+0200
TZOFFSETTO:+0300
TZNAME:EEST
DTSTART:20250330T010000
END:DAYLIGHT
BEGIN:STANDARD
TZOFFSETFROM:+0300
TZOFFSETTO:+0200
TZNAME:EET
DTSTART:20251026T010000
END:STANDARD
BEGIN:DAYLIGHT
TZOFFSETFROM:+0200
TZOFFSETTO:+0300
TZNAME:EEST
DTSTART:20260329T010000
END:DAYLIGHT
BEGIN:STANDARD
TZOFFSETFROM:+0300
TZOFFSETTO:+0200
TZNAME:EET
DTSTART:20261025T010000
END:STANDARD
END:VTIMEZONE
BEGIN:VEVENT
DTSTART;TZID=Europe/Bucharest:20251208T190000
DTEND;TZID=Europe/Bucharest:20251208T203000
DTSTAMP:20260424T132304
CREATED:20250507T092336Z
LAST-MODIFIED:20251119T092420Z
UID:10006514-1765220400-1765225800@craiovalive.ro
SUMMARY:3 D.A.R.E. - eveniment teatru-dans
DESCRIPTION:Scena Teatrului Național „Marin Sorescu” se transformă din nou într-un loc unde tăcerea vorbește și dansul devine glas.Spectacolul „3 D.A.R.E.” nu este doar teatru și dans – este o declarație de curaj\, de vis și de frumusețe pură.\n Pe scenă\, tineri actori și dansatori surzi demonstrează că arta nu are bariere și că emoția se transmite dincolo de cuvinte.”Limbajul trupului este cel mai sincer alfabet al sufletului.” Vino să simți energia lor\, să trăiești alături de ei bucuria și forța cu care își scriu propria poveste.\nRegia: Cătălin Băicuş 8 decembrie |  Sala I.D.Sîrbu\, ora 19.00Bilete: https://ebilet.tncms.ro/ebilet/Spectacol/Edit/1969 sau la agenția teatrului\, str. A.I.Cuza\, nr. 11.Un spectacol care îți va rămâne în inimă mult timp după ce luminile se sting. Hai să aplaudăm împreună curajul și talentul lor.\nDistribuția: \nAlin Firu\nAna Maria Firu\nRobi Firu\nEcaterina Boțoagă\nRosaura Firu\nSilviu Vlădoianu \nRegizor: Cătălin Băicuș \nMuzică /Sound Design: Valeriu Mihai \nEffects and sound engeneering: Cristian Jah \nLumini: Florin Moisescu \nSpecial effects: Mihai Stoicescu \nInterpret LSR: Filomela Salahoru \nSPECTACOL DE TEATRU-DANS REALIZAT CU TINERI SURZI \n3D A.R.E este un spectacol inovator de teatru dans inspirat de unicitatea limbajului semnelor românești. Spectacolul prezintă o lume posibilă într-un context actual urban unde se trăiește impulsiv si convulsiv. Este o lume a contrastelor și discrepanțelor care există simultan fără a se influența una pe cealaltă. \nTinerii surzi își construiesc o lume cu sens\, cu multe intrări și ieșiri\, o lume deschisă care primește cu drag orice persoană dornică de o conexiune profundă. În lumea creată de ei comunicarea se face prin sunete\, impulsuri vizuale\, muzică\, poezie și mișcare. Spectacolul multimedia reface un teatru existențial\, instinctiv care invită la o resetare a naturii umane actuale. \nO parte din muzica spectacolului este realizată de tinerii surzi care sunt ajutați de instrumente muzicale (thunder drum)\, experimente Cymatics\, experimente cu laser care crează sunete și instrumente de percuție. \nVocea persoanelor surde/hipoacuzice se va face auzită atât la propriu cat și la figurat prin intermediul poeziei. Spectacolul este o versiune dinamică\, un colaj de teatru existențial\, dans contemporan\, poezie și tehnologie. \nAcest proiect cu comunitatea surzilor \, aparent imposibil de realizat\, îmi redă încrederea în capacitatea noastră de a produce miracole.\nSpectacolul a fost realizat cu sprijin și finanțare din partea: Fundației CODA- Farmecul Tăcerii\, Asociației WINDOW România\, Ford Otosan România.
URL:https://craiovalive.ro/eveniment/3-d-a-r-e-eveniment-teatru-dans/
LOCATION:Teatrul Național Craiova – Sala I. D. Sîrbu\, Str. A. I. Cuza\, nr. 11\, Craiova\, Dolj\, 200585\, România
CATEGORIES:Dans,Teatru
ATTACH;FMTTYPE=image/png:https://craiovalive.ro/wp-content/uploads/2025/05/3-D.A.R.E.-eveniment-teatru-dans.png
ORGANIZER;CN="Teatrul Na%C8%9Bional Marin Sorescu Craiova":MAILTO:secretariat@tncms.ro
GEO:44.3186661;23.8003743
X-APPLE-STRUCTURED-LOCATION;VALUE=URI;X-ADDRESS=Teatrul Național Craiova – Sala I. D. Sîrbu Str. A. I. Cuza nr. 11 Craiova Dolj 200585 România;X-APPLE-RADIUS=500;X-TITLE=Str. A. I. Cuza\, nr. 11:geo:23.8003743,44.3186661
END:VEVENT
BEGIN:VEVENT
DTSTART;TZID=Europe/Bucharest:20251210T120000
DTEND;TZID=Europe/Bucharest:20251210T133000
DTSTAMP:20260424T132304
CREATED:20251208T135143Z
LAST-MODIFIED:20251208T135143Z
UID:10012625-1765368000-1765373400@craiovalive.ro
SUMMARY:Chimia unei gume de mestecat aruncate pe stradă de Codruța Cadar
DESCRIPTION:Synopsis:Îndemnat de contextul unui grup de suport\, Dragoș începe să-și spună povestea. N-ar vrea neapărat să fie el cel care vorbește\, n-ar vrea neapărat să intre în detalii\, dar o face: ne deschide ușa minții lui când timid\, când dezarmant de brusc. Intrăm într-o lume în care joaca se face pentru a uita\, o lume sufocată de cutii de pizza\, în care dependența nu mai e ultimul recurs ci soluția aparent logică în fața lipsei de sens.\n Durată spectacol: 1h 30min*spectacolul va fi urmat de o sesiune de Q&A între actori și spectatori de 20 minute cu privire la experiența spectacolului și temele dezbătute în cadrul acestuia\n Sala Studio „Remus Mărgineanu” – Departamentul Arte și Media\, Strada Transilvaniei 12\, CraiovaINTRARE LIBERĂ\, în limita locurilor disponibile – rezervări la numărul de telefon 0744.531.309 (whatsapp sau apel)\nLimită vârstă: 16+\n Spectacolul este o producție studențească UNATC\, realizată cu scopul de a oferi o bază de dezbatere asupra problemelor sociale abordate și de a explora măsura în care teatrul poate funcționa ca instrument de conștientizare și combatere a acestora.\nDistribuție:Vladimir ȚecaVoci: Adrian Titieni\, Mihaela Sîrbu\, Mariam Alchihabi\, Vladimir Țeca\nCoordonator proiect-studențesc: Diana RațăRegia: Diana RațăDramaturgie: Codruța CadarScenografie: Alexandra MafteiMișcare scenică: Mateea DragomirescuLight Design: Ruxandra IlieSound Design: Denis PintiliasaProducție: Sorin BobouțeanuPsihoterapeut: Alina DumitriuAfiș: Cătălin Mareș
URL:https://craiovalive.ro/eveniment/chimia-unei-gume-de-mestecat-aruncate-pe-strada-de-codruta-cadar/
LOCATION:Dolj
CATEGORIES:Teatru
ATTACH;FMTTYPE=image/jpeg:https://craiovalive.ro/wp-content/uploads/2025/12/Chimia-unei-gume-de-mestecat-aruncate-pe-strada-de-Codruta-Cadar.jpg
END:VEVENT
BEGIN:VEVENT
DTSTART;TZID=Europe/Bucharest:20251211T170000
DTEND;TZID=Europe/Bucharest:20251211T180000
DTSTAMP:20260424T132304
CREATED:20251112T085939Z
LAST-MODIFIED:20251123T225523Z
UID:10012463-1765472400-1765476000@craiovalive.ro
SUMMARY:Povestea Spărgătorului de Nuci
DESCRIPTION:SPĂRGĂTORUL DE NUCI – O EXPERIENȚĂ IMERSIVĂ DE CRĂCIUN\nInstalație performativă\n\n\nÎn inima Târgului de Crăciun din Craiova\, Teatrul Național „Marin Sorescu” se transformă într-un tărâm al fanteziei: o lume vie\, în care publicul pășește în povestea Spărgătorului de nuci.\nAceastă instalație-spectacol reimaginează povestea Spărgătorului de nuci într-o experiență senzorială completă\, unde muzica\, lumina\, și mișcarea se împletesc pentru a crea un univers magic.\nInspirată de tema visului și a copilăriei care refuză să se stingă\, instalația propune o călătorie care dezvăluie noi ipostaze ale personajelor lui Hoffmann: Spărgătorul\, Marie\, Regele Șobolan.\nPublicul este invitat să exploreze\, să se piardă și să se regăsească printre fragmentele visului. Fiecare pas devine o descoperire\, fiecare privire – o poartă către o altă realitate.\n\n\nCu: Theodora Bălan/Diana Petec.\n\n\n„Spărgătorul de nuci” – o experiență pentru toate simțurile\, un Crăciun trăit altfel.\n Teatrul Național „Marin Sorescu”\, Craiova\n Date disponibile șibilete: https://ebilet.tncms.ro/ebilet sau laAgenția Teatrală\, Str. A. I. Cuza\, nr.11.\n Durata: 1 h.\n* Preț pentru copii ( bilete achiziționate de la agenție): 15 lei.\n\n\n Un proiect de Vlad Drăgulescu\nIlustrații de Ștefan Triculete.
URL:https://craiovalive.ro/eveniment/povestea-spargatorului-de-nuci/2025-12-11/
LOCATION:Teatrul Național Craiova – Foaier\, Str. A. I. Cuza\, nr. 11\, Craiova\, Dolj\, 200585\, România
CATEGORIES:Teatru
ATTACH;FMTTYPE=image/jpeg:https://craiovalive.ro/wp-content/uploads/2025/11/Povestea-Spargatorului-de-Nuci.jpg
ORGANIZER;CN="Teatrul Na%C8%9Bional Marin Sorescu Craiova":MAILTO:secretariat@tncms.ro
GEO:44.3186661;23.8003743
X-APPLE-STRUCTURED-LOCATION;VALUE=URI;X-ADDRESS=Teatrul Național Craiova – Foaier Str. A. I. Cuza nr. 11 Craiova Dolj 200585 România;X-APPLE-RADIUS=500;X-TITLE=Str. A. I. Cuza\, nr. 11:geo:23.8003743,44.3186661
END:VEVENT
BEGIN:VEVENT
DTSTART;TZID=Europe/Bucharest:20251212T170000
DTEND;TZID=Europe/Bucharest:20251212T180000
DTSTAMP:20260424T132304
CREATED:20251112T085939Z
LAST-MODIFIED:20251123T225523Z
UID:10012544-1765558800-1765562400@craiovalive.ro
SUMMARY:Povestea Spărgătorului de Nuci
DESCRIPTION:SPĂRGĂTORUL DE NUCI – O EXPERIENȚĂ IMERSIVĂ DE CRĂCIUN\nInstalație performativă\n\n\nÎn inima Târgului de Crăciun din Craiova\, Teatrul Național „Marin Sorescu” se transformă într-un tărâm al fanteziei: o lume vie\, în care publicul pășește în povestea Spărgătorului de nuci.\nAceastă instalație-spectacol reimaginează povestea Spărgătorului de nuci într-o experiență senzorială completă\, unde muzica\, lumina\, și mișcarea se împletesc pentru a crea un univers magic.\nInspirată de tema visului și a copilăriei care refuză să se stingă\, instalația propune o călătorie care dezvăluie noi ipostaze ale personajelor lui Hoffmann: Spărgătorul\, Marie\, Regele Șobolan.\nPublicul este invitat să exploreze\, să se piardă și să se regăsească printre fragmentele visului. Fiecare pas devine o descoperire\, fiecare privire – o poartă către o altă realitate.\n\n\nCu: Theodora Bălan/Diana Petec.\n\n\n„Spărgătorul de nuci” – o experiență pentru toate simțurile\, un Crăciun trăit altfel.\n Teatrul Național „Marin Sorescu”\, Craiova\n Date disponibile șibilete: https://ebilet.tncms.ro/ebilet sau laAgenția Teatrală\, Str. A. I. Cuza\, nr.11.\n Durata: 1 h.\n* Preț pentru copii ( bilete achiziționate de la agenție): 15 lei.\n\n\n Un proiect de Vlad Drăgulescu\nIlustrații de Ștefan Triculete.
URL:https://craiovalive.ro/eveniment/povestea-spargatorului-de-nuci/2025-12-12/
LOCATION:Teatrul Național Craiova – Foaier\, Str. A. I. Cuza\, nr. 11\, Craiova\, Dolj\, 200585\, România
CATEGORIES:Teatru
ATTACH;FMTTYPE=image/jpeg:https://craiovalive.ro/wp-content/uploads/2025/11/Povestea-Spargatorului-de-Nuci.jpg
ORGANIZER;CN="Teatrul Na%C8%9Bional Marin Sorescu Craiova":MAILTO:secretariat@tncms.ro
GEO:44.3186661;23.8003743
X-APPLE-STRUCTURED-LOCATION;VALUE=URI;X-ADDRESS=Teatrul Național Craiova – Foaier Str. A. I. Cuza nr. 11 Craiova Dolj 200585 România;X-APPLE-RADIUS=500;X-TITLE=Str. A. I. Cuza\, nr. 11:geo:23.8003743,44.3186661
END:VEVENT
BEGIN:VEVENT
DTSTART;TZID=Europe/Bucharest:20251213T170000
DTEND;TZID=Europe/Bucharest:20251213T180000
DTSTAMP:20260424T132304
CREATED:20251112T085939Z
LAST-MODIFIED:20251123T225523Z
UID:10012545-1765645200-1765648800@craiovalive.ro
SUMMARY:Povestea Spărgătorului de Nuci
DESCRIPTION:SPĂRGĂTORUL DE NUCI – O EXPERIENȚĂ IMERSIVĂ DE CRĂCIUN\nInstalație performativă\n\n\nÎn inima Târgului de Crăciun din Craiova\, Teatrul Național „Marin Sorescu” se transformă într-un tărâm al fanteziei: o lume vie\, în care publicul pășește în povestea Spărgătorului de nuci.\nAceastă instalație-spectacol reimaginează povestea Spărgătorului de nuci într-o experiență senzorială completă\, unde muzica\, lumina\, și mișcarea se împletesc pentru a crea un univers magic.\nInspirată de tema visului și a copilăriei care refuză să se stingă\, instalația propune o călătorie care dezvăluie noi ipostaze ale personajelor lui Hoffmann: Spărgătorul\, Marie\, Regele Șobolan.\nPublicul este invitat să exploreze\, să se piardă și să se regăsească printre fragmentele visului. Fiecare pas devine o descoperire\, fiecare privire – o poartă către o altă realitate.\n\n\nCu: Theodora Bălan/Diana Petec.\n\n\n„Spărgătorul de nuci” – o experiență pentru toate simțurile\, un Crăciun trăit altfel.\n Teatrul Național „Marin Sorescu”\, Craiova\n Date disponibile șibilete: https://ebilet.tncms.ro/ebilet sau laAgenția Teatrală\, Str. A. I. Cuza\, nr.11.\n Durata: 1 h.\n* Preț pentru copii ( bilete achiziționate de la agenție): 15 lei.\n\n\n Un proiect de Vlad Drăgulescu\nIlustrații de Ștefan Triculete.
URL:https://craiovalive.ro/eveniment/povestea-spargatorului-de-nuci/2025-12-13/
LOCATION:Teatrul Național Craiova – Foaier\, Str. A. I. Cuza\, nr. 11\, Craiova\, Dolj\, 200585\, România
CATEGORIES:Teatru
ATTACH;FMTTYPE=image/jpeg:https://craiovalive.ro/wp-content/uploads/2025/11/Povestea-Spargatorului-de-Nuci.jpg
ORGANIZER;CN="Teatrul Na%C8%9Bional Marin Sorescu Craiova":MAILTO:secretariat@tncms.ro
GEO:44.3186661;23.8003743
X-APPLE-STRUCTURED-LOCATION;VALUE=URI;X-ADDRESS=Teatrul Național Craiova – Foaier Str. A. I. Cuza nr. 11 Craiova Dolj 200585 România;X-APPLE-RADIUS=500;X-TITLE=Str. A. I. Cuza\, nr. 11:geo:23.8003743,44.3186661
END:VEVENT
BEGIN:VEVENT
DTSTART;TZID=Europe/Bucharest:20251214T170000
DTEND;TZID=Europe/Bucharest:20251214T180000
DTSTAMP:20260424T132304
CREATED:20251112T085939Z
LAST-MODIFIED:20251123T225523Z
UID:10012546-1765731600-1765735200@craiovalive.ro
SUMMARY:Povestea Spărgătorului de Nuci
DESCRIPTION:SPĂRGĂTORUL DE NUCI – O EXPERIENȚĂ IMERSIVĂ DE CRĂCIUN\nInstalație performativă\n\n\nÎn inima Târgului de Crăciun din Craiova\, Teatrul Național „Marin Sorescu” se transformă într-un tărâm al fanteziei: o lume vie\, în care publicul pășește în povestea Spărgătorului de nuci.\nAceastă instalație-spectacol reimaginează povestea Spărgătorului de nuci într-o experiență senzorială completă\, unde muzica\, lumina\, și mișcarea se împletesc pentru a crea un univers magic.\nInspirată de tema visului și a copilăriei care refuză să se stingă\, instalația propune o călătorie care dezvăluie noi ipostaze ale personajelor lui Hoffmann: Spărgătorul\, Marie\, Regele Șobolan.\nPublicul este invitat să exploreze\, să se piardă și să se regăsească printre fragmentele visului. Fiecare pas devine o descoperire\, fiecare privire – o poartă către o altă realitate.\n\n\nCu: Theodora Bălan/Diana Petec.\n\n\n„Spărgătorul de nuci” – o experiență pentru toate simțurile\, un Crăciun trăit altfel.\n Teatrul Național „Marin Sorescu”\, Craiova\n Date disponibile șibilete: https://ebilet.tncms.ro/ebilet sau laAgenția Teatrală\, Str. A. I. Cuza\, nr.11.\n Durata: 1 h.\n* Preț pentru copii ( bilete achiziționate de la agenție): 15 lei.\n\n\n Un proiect de Vlad Drăgulescu\nIlustrații de Ștefan Triculete.
URL:https://craiovalive.ro/eveniment/povestea-spargatorului-de-nuci/2025-12-14/
LOCATION:Teatrul Național Craiova – Foaier\, Str. A. I. Cuza\, nr. 11\, Craiova\, Dolj\, 200585\, România
CATEGORIES:Teatru
ATTACH;FMTTYPE=image/jpeg:https://craiovalive.ro/wp-content/uploads/2025/11/Povestea-Spargatorului-de-Nuci.jpg
ORGANIZER;CN="Teatrul Na%C8%9Bional Marin Sorescu Craiova":MAILTO:secretariat@tncms.ro
GEO:44.3186661;23.8003743
X-APPLE-STRUCTURED-LOCATION;VALUE=URI;X-ADDRESS=Teatrul Național Craiova – Foaier Str. A. I. Cuza nr. 11 Craiova Dolj 200585 România;X-APPLE-RADIUS=500;X-TITLE=Str. A. I. Cuza\, nr. 11:geo:23.8003743,44.3186661
END:VEVENT
END:VCALENDAR