BEGIN:VCALENDAR
VERSION:2.0
PRODID:-//Craiova Live - ECPv6.15.18//NONSGML v1.0//EN
CALSCALE:GREGORIAN
METHOD:PUBLISH
X-ORIGINAL-URL:https://craiovalive.ro
X-WR-CALDESC:Evenimente pentru Craiova Live
REFRESH-INTERVAL;VALUE=DURATION:PT1H
X-Robots-Tag:noindex
X-PUBLISHED-TTL:PT1H
BEGIN:VTIMEZONE
TZID:Europe/Bucharest
BEGIN:DAYLIGHT
TZOFFSETFROM:+0200
TZOFFSETTO:+0300
TZNAME:EEST
DTSTART:20240331T010000
END:DAYLIGHT
BEGIN:STANDARD
TZOFFSETFROM:+0300
TZOFFSETTO:+0200
TZNAME:EET
DTSTART:20241027T010000
END:STANDARD
BEGIN:DAYLIGHT
TZOFFSETFROM:+0200
TZOFFSETTO:+0300
TZNAME:EEST
DTSTART:20250330T010000
END:DAYLIGHT
BEGIN:STANDARD
TZOFFSETFROM:+0300
TZOFFSETTO:+0200
TZNAME:EET
DTSTART:20251026T010000
END:STANDARD
BEGIN:DAYLIGHT
TZOFFSETFROM:+0200
TZOFFSETTO:+0300
TZNAME:EEST
DTSTART:20260329T010000
END:DAYLIGHT
BEGIN:STANDARD
TZOFFSETFROM:+0300
TZOFFSETTO:+0200
TZNAME:EET
DTSTART:20261025T010000
END:STANDARD
END:VTIMEZONE
BEGIN:VEVENT
DTSTART;TZID=Europe/Bucharest:20251201T190000
DTEND;TZID=Europe/Bucharest:20251201T210000
DTSTAMP:20260424T115402
CREATED:20250730T152644Z
LAST-MODIFIED:20251019T174221Z
UID:10007797-1764615600-1764622800@craiovalive.ro
SUMMARY:Steaua fără nume
DESCRIPTION:Ce poate fi mai frumos\, în aceste perioade tulburi pe care le trăim\, decât un spectacol pledoarie pentru iubire\, pasiune și adevăr?\n\n\n\nWonder Theatre are plăcerea să vă invite la premiera spectacolului “Steaua fără nume”\, capodopera lui Mihail Sebastian\, adaptată de către Ovidiu Ianu\, într-o punere in scena eveniment în care veți putea admira și aplauda o distribuție ce vă va încânta sufletul: Grațiela Teohari Duban\, Vlad Logigan\, Tania Popa\, Daniel Nuță/Bogdan Farcaș\, Andrei Duban și Ovidiu Ianu. \nVă propunem să fiți martorii unei povești de dragoste unice\, ai unei comedii lirice cunoscute în întreaga lume pentru alternanțele geniale dintre râs și plâns sau pentru emoția pură oferită spectatorilor. \n\n\n\nOvidiu Ianu\, aflat la prima colaborare cu Wonder Theatre\, este actor\, scenarist și regizor\, mare iubitor al comediei\, ce a produs inclusiv divertisment tv împreună cu Viorel Gaiță\, în perioada de începuturi a televiziunii ProTv. \nA absolvit actoria la clasa maestrului Virgil Ogășanu și a regretatului Doru Ana și a avut onoarea să lucreze\, de-a lungul timpului\, sub bagheta sau sub influența unor nume mari ale teatrului romanesc: Silviu Purcărete\, Virgil Ogășanu\, Radu Beligan\, Victor Rebengiuc\, Florian Pittiș\, Sandu Mihai Gruia\, Alexandru Repan\, Mihai Dinvale\, etc. \n“Steaua fără nume” este proiectul său de suflet si al treilea spectacol regizat\, după comedia “Portret la minut” si după spectacolul pentru copii “Frozen – Regatul Înghețat”. \nCât despre artiștii din distribuție\, ce ar mai putea fi de spus? Tania Popa\, Andrei Duban și Vlad Logigan sunt nume importante ale teatrului si filmului romanesc\, de ani buni\, iar Grațiela Teohari Duban și Daniel Nuță reprezinta două personalități artistice ce au răsărit cu viteza luminii pe firmamentul starurilor din România! \ndurata piesa: 1:50 (fara pauza)\, audienta generala
URL:https://craiovalive.ro/eveniment/steaua-fara-nume/
LOCATION:Teatrul Național Craiova – Sala Amza Pellea\, Str. A. I. Cuza\, nr. 11\, Craiova\, Dolj\, 200585\, România
CATEGORIES:Teatru
ATTACH;FMTTYPE=image/png:https://craiovalive.ro/wp-content/uploads/2025/07/Steaua-fara-nume-1-dec.png
GEO:44.3186661;23.8003743
X-APPLE-STRUCTURED-LOCATION;VALUE=URI;X-ADDRESS=Teatrul Național Craiova – Sala Amza Pellea Str. A. I. Cuza nr. 11 Craiova Dolj 200585 România;X-APPLE-RADIUS=500;X-TITLE=Str. A. I. Cuza\, nr. 11:geo:23.8003743,44.3186661
END:VEVENT
BEGIN:VEVENT
DTSTART;TZID=Europe/Bucharest:20251202T190000
DTEND;TZID=Europe/Bucharest:20251202T200000
DTSTAMP:20260424T115402
CREATED:20251118T190625Z
LAST-MODIFIED:20251118T190625Z
UID:10012514-1764702000-1764705600@craiovalive.ro
SUMMARY:Lavandă pentru sfârșitul lumii
DESCRIPTION: Lavandă pentru sfârșitul lumii 2 decembrie\, ora 19.00 Sala Ion D. Sîrbu Recomandare de vârstă: +14 ani Durată: 60 de minute Distribuție:Mihaela Rădescu Echipa:Text de: Mălina EpureRegia: Tania DrăghiciScenografia: Iulian StoianProducător Centrul de Teatru Educațional Replika \n\n\n\n\n\n\n\n\n\n\n\n\n\n\n\n\n\n\n\n\n\n Despre spectacol: \n\n\n\n”Lavandă pentru sfârșitul lumii” spune povestea unei femei de serviciu\, Tanti Jeana\, care a fost timp de 40 de ani inima și sufletul unei școli din mediul rural. Jeana se trezește într-o dimineață confruntată cu o veste neașteptată: ar putea să-și piardă locul de muncă. În mica ei debara\, alături de obiectele de curățenie care îi devin confidenți și complici\, Jeana își depășește teama și neputința\, amestecând amintiri\, furie și delir într-o revoltă imaginară și plină de umor. \nSpectacolul „Lavandă pentru sfârșitul lumii” se joacă în cadrul proiectului „Rezidențe de Teatru Educațional” inițiat și organizat de Asociația Culturală Replika și co-finanțat de către Administrația Fondului Cultural Național – AFCN. \nProiectul nu reprezintă în mod necesar poziţia Administrației Fondului Cultural Național. AFCN nu este responsabilă de conținutul proiectului sau de modul în care rezultatele proiectului pot fi folosite. Acestea sunt în întregime responsabilitatea beneficiarului finanțării. \n Locurile sunt limitate\, rezervă-ți biletul online https://ebilet.tncms.ro/ebilet/Spectacol/Edit/1970 sau la Agenția Teatrală\, Str. A.I.Cuza\, nr.11.Co-finanțat de: Administrația Fondului Cultural Național -AFCN.
URL:https://craiovalive.ro/eveniment/lavanda-pentru-sfarsitul-lumii/
LOCATION:Teatrul Național Craiova – Sala I. D. Sîrbu\, Str. A. I. Cuza\, nr. 11\, Craiova\, Dolj\, 200585\, România
CATEGORIES:Teatru
ATTACH;FMTTYPE=image/png:https://craiovalive.ro/wp-content/uploads/2025/11/Lavanda-pentru-sfarsitul-lumii.png
ORGANIZER;CN="Teatrul Na%C8%9Bional Marin Sorescu Craiova":MAILTO:secretariat@tncms.ro
GEO:44.3186661;23.8003743
X-APPLE-STRUCTURED-LOCATION;VALUE=URI;X-ADDRESS=Teatrul Național Craiova – Sala I. D. Sîrbu Str. A. I. Cuza nr. 11 Craiova Dolj 200585 România;X-APPLE-RADIUS=500;X-TITLE=Str. A. I. Cuza\, nr. 11:geo:23.8003743,44.3186661
END:VEVENT
BEGIN:VEVENT
DTSTART;TZID=Europe/Bucharest:20251204T170000
DTEND;TZID=Europe/Bucharest:20251204T180000
DTSTAMP:20260424T115402
CREATED:20251112T085939Z
LAST-MODIFIED:20251123T225523Z
UID:10012459-1764867600-1764871200@craiovalive.ro
SUMMARY:Povestea Spărgătorului de Nuci
DESCRIPTION:SPĂRGĂTORUL DE NUCI – O EXPERIENȚĂ IMERSIVĂ DE CRĂCIUN\nInstalație performativă\n\n\nÎn inima Târgului de Crăciun din Craiova\, Teatrul Național „Marin Sorescu” se transformă într-un tărâm al fanteziei: o lume vie\, în care publicul pășește în povestea Spărgătorului de nuci.\nAceastă instalație-spectacol reimaginează povestea Spărgătorului de nuci într-o experiență senzorială completă\, unde muzica\, lumina\, și mișcarea se împletesc pentru a crea un univers magic.\nInspirată de tema visului și a copilăriei care refuză să se stingă\, instalația propune o călătorie care dezvăluie noi ipostaze ale personajelor lui Hoffmann: Spărgătorul\, Marie\, Regele Șobolan.\nPublicul este invitat să exploreze\, să se piardă și să se regăsească printre fragmentele visului. Fiecare pas devine o descoperire\, fiecare privire – o poartă către o altă realitate.\n\n\nCu: Theodora Bălan/Diana Petec.\n\n\n„Spărgătorul de nuci” – o experiență pentru toate simțurile\, un Crăciun trăit altfel.\n Teatrul Național „Marin Sorescu”\, Craiova\n Date disponibile șibilete: https://ebilet.tncms.ro/ebilet sau laAgenția Teatrală\, Str. A. I. Cuza\, nr.11.\n Durata: 1 h.\n* Preț pentru copii ( bilete achiziționate de la agenție): 15 lei.\n\n\n Un proiect de Vlad Drăgulescu\nIlustrații de Ștefan Triculete.
URL:https://craiovalive.ro/eveniment/povestea-spargatorului-de-nuci/2025-12-04/
LOCATION:Teatrul Național Craiova – Foaier\, Str. A. I. Cuza\, nr. 11\, Craiova\, Dolj\, 200585\, România
CATEGORIES:Teatru
ATTACH;FMTTYPE=image/jpeg:https://craiovalive.ro/wp-content/uploads/2025/11/Povestea-Spargatorului-de-Nuci.jpg
ORGANIZER;CN="Teatrul Na%C8%9Bional Marin Sorescu Craiova":MAILTO:secretariat@tncms.ro
GEO:44.3186661;23.8003743
X-APPLE-STRUCTURED-LOCATION;VALUE=URI;X-ADDRESS=Teatrul Național Craiova – Foaier Str. A. I. Cuza nr. 11 Craiova Dolj 200585 România;X-APPLE-RADIUS=500;X-TITLE=Str. A. I. Cuza\, nr. 11:geo:23.8003743,44.3186661
END:VEVENT
BEGIN:VEVENT
DTSTART;TZID=Europe/Bucharest:20251204T190000
DTEND;TZID=Europe/Bucharest:20251204T210000
DTSTAMP:20260424T115402
CREATED:20230917T075335Z
LAST-MODIFIED:20251012T150522Z
UID:10000992-1764874800-1764882000@craiovalive.ro
SUMMARY:Anomalia
DESCRIPTION:DISTRIBUȚIE:\nMONICA ARDELEANU\nŞTEFAN CEPOI\nIULIA COLAN\nRAMONA DRĂGULESCU\nCĂTĂLIN-MIHAI MICULEASA\nCOSTINELA UNGUREANU\nCĂTĂLIN VIERU\nNICOLAE VICOL\nPETRONELA ZURBA\nConcept\, regie\, muzică\, coregrafie: Natasza Sołtanowicz \nText\, dramaturgie: Joanna Kowalska \nDecor și costume: Marianna Syska \nAranjamente muzicale\, sound design: Grzegorz Bieńko \nTraducere: Iulia Gheorghiță \nFoto credit colectivul [in between]: Edgar de Poray\, Marek Maziarz\, Cristian Floriganță\nFoto credit: Orlando Edward \nRegia tehnică: Mihai Manea \nMaestru de lumini: Dodu Ispas \nOperator sunet: Emy Guran \nMakeup: Minela Popa\, Mihaela Guran \nSufleor: Anca Maria Ilinca \nProducător delegat: Marius Pîrlea \nData premierei: 20 oct. 2023 \n*Spectacol recomandat persoanelor peste 12 ani \n** Natasza Sołtanowicz este câștigătoarea Festivalului Theater Networking Talents 2019 \n***Proiect implementat împreună cu Goethe Institute și cofinanțat de Uniunea Europeană. Opiniile exprimate în proiect nu reprezintă fi în niciun caz opinia oficială a Uniunii Europene \nSinopsis\n„Lumea modernă se schimbă într-un ritm alarmant. În ultimii ani suntem expuși la incert\, neașteptat\, necunoscut. În lumea anomaliilor\, am fost forțați să părăsim zona noastră de confort și să ne adaptăm indiferent de situație. \nAnomalia este un spectacol despre nouă persoane diferite în momente de criză și reacțiile lor la anomalii imprevizibile care le vor răscoli viața de zi cu zi. În acest spectacol atrăgător\, muzical și poetic\, fragmentele electronice sunt combinate cu melodii polifonice. Actorii dansează coregrafii dinamice în ritmul textului poetic inspirat de teatrul absurdului. \nAceasta este povestea universală a abilităților excepționale ale oamenilor de a se adapta în orice circumstanțe.” (Natasza Sołtanowicz) \n  \nEchipa de creație\nSpectacolul Anomalia este creat la Naționalul craiovean de colectivul artistic polonez numit [in between] și înființat în 2017. Fondatorii sunt Natasza Sołtanowicz\, Joanna Kowalska\, Marianna Syska și Grzegorz Bieńko. Ei creează un teatru care provoacă convențiile bine stabilite\, cu accent principal pe imagine și muzică. Limbajul metaforic și imaginarul poetic sunt mărcile lor remarcabile. \nÎn textele lor poetice pentru scenă\, grupul gravitează către subiecte precum identitatea umană în lumea incertă contemporană\, percepția timpului și relația oamenilor cu mediul înconjurător. Sunt puternic inspirați de povești populare și diferite mituri. \n[in between] produce spectacole atât în teatrele instituționale\, cât și în afara scenei\, dedicate copiiilor\, adolescenților și adulților. Cea mai cunoscută reprezentație a lor\, Weirdos\, a fost prezentată în cadrul Festivalului OFF d’Avignon din Franța\, a câștigat Marele Premiu la festivalul PRO-CONTRA de la Szczecin (Polonia) și Festivalul Internațional de Rețea Teatrală de la Craiova (România). \nÎn viitor\, ei plănuiesc să organizeze și spectacole de operă și concerte. \nhttps://www.facebook.com/inbetweengroup \nhttps://www.instagram.com/in_between_group
URL:https://craiovalive.ro/eveniment/anomalia/
LOCATION:Teatrul Național Craiova – Sala Amza Pellea\, Str. A. I. Cuza\, nr. 11\, Craiova\, Dolj\, 200585\, România
CATEGORIES:Teatru
ATTACH;FMTTYPE=image/jpeg:https://craiovalive.ro/wp-content/uploads/2023/09/Anomalia-tncms.jpg
ORGANIZER;CN="Teatrul Na%C8%9Bional Marin Sorescu Craiova":MAILTO:secretariat@tncms.ro
GEO:44.3186661;23.8003743
X-APPLE-STRUCTURED-LOCATION;VALUE=URI;X-ADDRESS=Teatrul Național Craiova – Sala Amza Pellea Str. A. I. Cuza nr. 11 Craiova Dolj 200585 România;X-APPLE-RADIUS=500;X-TITLE=Str. A. I. Cuza\, nr. 11:geo:23.8003743,44.3186661
END:VEVENT
BEGIN:VEVENT
DTSTART;TZID=Europe/Bucharest:20251205T100000
DTEND;TZID=Europe/Bucharest:20251205T110000
DTSTAMP:20260424T115402
CREATED:20251112T085939Z
LAST-MODIFIED:20251123T225523Z
UID:10012554-1764928800-1764932400@craiovalive.ro
SUMMARY:Povestea Spărgătorului de Nuci
DESCRIPTION:SPĂRGĂTORUL DE NUCI – O EXPERIENȚĂ IMERSIVĂ DE CRĂCIUN\nInstalație performativă\n\n\nÎn inima Târgului de Crăciun din Craiova\, Teatrul Național „Marin Sorescu” se transformă într-un tărâm al fanteziei: o lume vie\, în care publicul pășește în povestea Spărgătorului de nuci.\nAceastă instalație-spectacol reimaginează povestea Spărgătorului de nuci într-o experiență senzorială completă\, unde muzica\, lumina\, și mișcarea se împletesc pentru a crea un univers magic.\nInspirată de tema visului și a copilăriei care refuză să se stingă\, instalația propune o călătorie care dezvăluie noi ipostaze ale personajelor lui Hoffmann: Spărgătorul\, Marie\, Regele Șobolan.\nPublicul este invitat să exploreze\, să se piardă și să se regăsească printre fragmentele visului. Fiecare pas devine o descoperire\, fiecare privire – o poartă către o altă realitate.\n\n\nCu: Theodora Bălan/Diana Petec.\n\n\n„Spărgătorul de nuci” – o experiență pentru toate simțurile\, un Crăciun trăit altfel.\n Teatrul Național „Marin Sorescu”\, Craiova\n Date disponibile șibilete: https://ebilet.tncms.ro/ebilet sau laAgenția Teatrală\, Str. A. I. Cuza\, nr.11.\n Durata: 1 h.\n* Preț pentru copii ( bilete achiziționate de la agenție): 15 lei.\n\n\n Un proiect de Vlad Drăgulescu\nIlustrații de Ștefan Triculete.
URL:https://craiovalive.ro/eveniment/povestea-spargatorului-de-nuci/2025-12-05/1/
LOCATION:Teatrul Național Craiova – Foaier\, Str. A. I. Cuza\, nr. 11\, Craiova\, Dolj\, 200585\, România
CATEGORIES:Teatru
ATTACH;FMTTYPE=image/jpeg:https://craiovalive.ro/wp-content/uploads/2025/11/Povestea-Spargatorului-de-Nuci.jpg
ORGANIZER;CN="Teatrul Na%C8%9Bional Marin Sorescu Craiova":MAILTO:secretariat@tncms.ro
GEO:44.3186661;23.8003743
X-APPLE-STRUCTURED-LOCATION;VALUE=URI;X-ADDRESS=Teatrul Național Craiova – Foaier Str. A. I. Cuza nr. 11 Craiova Dolj 200585 România;X-APPLE-RADIUS=500;X-TITLE=Str. A. I. Cuza\, nr. 11:geo:23.8003743,44.3186661
END:VEVENT
BEGIN:VEVENT
DTSTART;TZID=Europe/Bucharest:20251205T170000
DTEND;TZID=Europe/Bucharest:20251205T180000
DTSTAMP:20260424T115402
CREATED:20251112T085939Z
LAST-MODIFIED:20251123T225523Z
UID:10012541-1764954000-1764957600@craiovalive.ro
SUMMARY:Povestea Spărgătorului de Nuci
DESCRIPTION:SPĂRGĂTORUL DE NUCI – O EXPERIENȚĂ IMERSIVĂ DE CRĂCIUN\nInstalație performativă\n\n\nÎn inima Târgului de Crăciun din Craiova\, Teatrul Național „Marin Sorescu” se transformă într-un tărâm al fanteziei: o lume vie\, în care publicul pășește în povestea Spărgătorului de nuci.\nAceastă instalație-spectacol reimaginează povestea Spărgătorului de nuci într-o experiență senzorială completă\, unde muzica\, lumina\, și mișcarea se împletesc pentru a crea un univers magic.\nInspirată de tema visului și a copilăriei care refuză să se stingă\, instalația propune o călătorie care dezvăluie noi ipostaze ale personajelor lui Hoffmann: Spărgătorul\, Marie\, Regele Șobolan.\nPublicul este invitat să exploreze\, să se piardă și să se regăsească printre fragmentele visului. Fiecare pas devine o descoperire\, fiecare privire – o poartă către o altă realitate.\n\n\nCu: Theodora Bălan/Diana Petec.\n\n\n„Spărgătorul de nuci” – o experiență pentru toate simțurile\, un Crăciun trăit altfel.\n Teatrul Național „Marin Sorescu”\, Craiova\n Date disponibile șibilete: https://ebilet.tncms.ro/ebilet sau laAgenția Teatrală\, Str. A. I. Cuza\, nr.11.\n Durata: 1 h.\n* Preț pentru copii ( bilete achiziționate de la agenție): 15 lei.\n\n\n Un proiect de Vlad Drăgulescu\nIlustrații de Ștefan Triculete.
URL:https://craiovalive.ro/eveniment/povestea-spargatorului-de-nuci/2025-12-05/2/
LOCATION:Teatrul Național Craiova – Foaier\, Str. A. I. Cuza\, nr. 11\, Craiova\, Dolj\, 200585\, România
CATEGORIES:Teatru
ATTACH;FMTTYPE=image/jpeg:https://craiovalive.ro/wp-content/uploads/2025/11/Povestea-Spargatorului-de-Nuci.jpg
ORGANIZER;CN="Teatrul Na%C8%9Bional Marin Sorescu Craiova":MAILTO:secretariat@tncms.ro
GEO:44.3186661;23.8003743
X-APPLE-STRUCTURED-LOCATION;VALUE=URI;X-ADDRESS=Teatrul Național Craiova – Foaier Str. A. I. Cuza nr. 11 Craiova Dolj 200585 România;X-APPLE-RADIUS=500;X-TITLE=Str. A. I. Cuza\, nr. 11:geo:23.8003743,44.3186661
END:VEVENT
BEGIN:VEVENT
DTSTART;TZID=Europe/Bucharest:20251205T190000
DTEND;TZID=Europe/Bucharest:20251205T203000
DTSTAMP:20260424T115402
CREATED:20251123T224535Z
LAST-MODIFIED:20251128T111826Z
UID:10012531-1764961200-1764966600@craiovalive.ro
SUMMARY:ÎN CAP ÎN SOARE  /  DE NE IU BIT
DESCRIPTION:de: Teona Galgoțiu / Bogdan Georgescu \nRegie: Irina Gâdiuță \nCoregrafie: Carmen Coțofană \nScenografie: R. Gâdiuță \nGrafică și trailer: Dilmana Yordanova \nDocumentare foto-video: Viorel Petric \nAsistență regie: Margit Olteanu \nParteneri: GALERIA 26\, Asociația SIMULTAN\, Facultatea de Psihologie și Științele Educației – Universitatea de Vest Timișoara\, Teatrul Național „Marin Sorescu” Craiova\, Reactor de Creație și Experiment\, Centrul Cultural Municipal \,\,George Coșbuc” Bistrița\, Centrul de Teatru Educațional Replika\, Asociația Spațiul de Artă Contemporană\, VAV Digital Advertising SRL\, Veioza Studio SRL \nCu sprijinul: RSM România \nAvanpremiera: 29 noiembrie 2025 – GALERIA 26\, București \nDurata spectacolului: 2h10 cu/fără pauză \nRestricţii de vârstǎ: +16 (subiect sensibil\, nu conține limbaj vulgar) \n\nÎN CAP ÎN SOARE  /  DE NE IU BIT este un spectacol – coupé care are la bază două piese de teatru contemporane\, la limita dintre documentare și autoficțiune. Spectacolul explorează formele invizibile ale depresiei și felul în care relațiile\, cu toate rănile și fragilitățile lor\, ne pot prăbuși sau salva. Personajele se mișcă între confesiune\, umor amar și luciditate dureroasă\, dezvăluind dinamici de dependență\, vinovăție și neputință\, dar și momente de tandrețe și miracol\, realizând că uneori drumul spre vindecare începe în afara noastră — în gesturile mărunte de grijă față de ceilalți\, în capacitatea de a face bine fără să fii văzut. Un spectacol despre supraviețuire emoțională\, limite\, compasiune și despre puterea discretă a binelui care circulă între oameni. \nSpectacolul face parte din proiectul cultural DE-NE-IU-BIT\, proiect co-finanțat de Administrația Fondului Cultural Național. \nAFCN nu este responsabilă de conținutul proiectului sau de modul în care rezultatele proiectului pot fi folosite. Acestea sunt în întregime responsabilitatea beneficiarului finanțării.
URL:https://craiovalive.ro/eveniment/in-cap-in-soare-de-ne-iu-bit/
LOCATION:Teatrul Național Craiova – Sala I. D. Sîrbu\, Str. A. I. Cuza\, nr. 11\, Craiova\, Dolj\, 200585\, România
CATEGORIES:Teatru
ORGANIZER;CN="Teatrul Na%C8%9Bional Marin Sorescu Craiova":MAILTO:secretariat@tncms.ro
GEO:44.3186661;23.8003743
X-APPLE-STRUCTURED-LOCATION;VALUE=URI;X-ADDRESS=Teatrul Național Craiova – Sala I. D. Sîrbu Str. A. I. Cuza nr. 11 Craiova Dolj 200585 România;X-APPLE-RADIUS=500;X-TITLE=Str. A. I. Cuza\, nr. 11:geo:23.8003743,44.3186661
END:VEVENT
BEGIN:VEVENT
DTSTART;TZID=Europe/Bucharest:20251206T170000
DTEND;TZID=Europe/Bucharest:20251206T180000
DTSTAMP:20260424T115402
CREATED:20251112T085939Z
LAST-MODIFIED:20251123T225523Z
UID:10012542-1765040400-1765044000@craiovalive.ro
SUMMARY:Povestea Spărgătorului de Nuci
DESCRIPTION:SPĂRGĂTORUL DE NUCI – O EXPERIENȚĂ IMERSIVĂ DE CRĂCIUN\nInstalație performativă\n\n\nÎn inima Târgului de Crăciun din Craiova\, Teatrul Național „Marin Sorescu” se transformă într-un tărâm al fanteziei: o lume vie\, în care publicul pășește în povestea Spărgătorului de nuci.\nAceastă instalație-spectacol reimaginează povestea Spărgătorului de nuci într-o experiență senzorială completă\, unde muzica\, lumina\, și mișcarea se împletesc pentru a crea un univers magic.\nInspirată de tema visului și a copilăriei care refuză să se stingă\, instalația propune o călătorie care dezvăluie noi ipostaze ale personajelor lui Hoffmann: Spărgătorul\, Marie\, Regele Șobolan.\nPublicul este invitat să exploreze\, să se piardă și să se regăsească printre fragmentele visului. Fiecare pas devine o descoperire\, fiecare privire – o poartă către o altă realitate.\n\n\nCu: Theodora Bălan/Diana Petec.\n\n\n„Spărgătorul de nuci” – o experiență pentru toate simțurile\, un Crăciun trăit altfel.\n Teatrul Național „Marin Sorescu”\, Craiova\n Date disponibile șibilete: https://ebilet.tncms.ro/ebilet sau laAgenția Teatrală\, Str. A. I. Cuza\, nr.11.\n Durata: 1 h.\n* Preț pentru copii ( bilete achiziționate de la agenție): 15 lei.\n\n\n Un proiect de Vlad Drăgulescu\nIlustrații de Ștefan Triculete.
URL:https://craiovalive.ro/eveniment/povestea-spargatorului-de-nuci/2025-12-06/
LOCATION:Teatrul Național Craiova – Foaier\, Str. A. I. Cuza\, nr. 11\, Craiova\, Dolj\, 200585\, România
CATEGORIES:Teatru
ATTACH;FMTTYPE=image/jpeg:https://craiovalive.ro/wp-content/uploads/2025/11/Povestea-Spargatorului-de-Nuci.jpg
ORGANIZER;CN="Teatrul Na%C8%9Bional Marin Sorescu Craiova":MAILTO:secretariat@tncms.ro
GEO:44.3186661;23.8003743
X-APPLE-STRUCTURED-LOCATION;VALUE=URI;X-ADDRESS=Teatrul Național Craiova – Foaier Str. A. I. Cuza nr. 11 Craiova Dolj 200585 România;X-APPLE-RADIUS=500;X-TITLE=Str. A. I. Cuza\, nr. 11:geo:23.8003743,44.3186661
END:VEVENT
BEGIN:VEVENT
DTSTART;TZID=Europe/Bucharest:20251206T190000
DTEND;TZID=Europe/Bucharest:20251206T210000
DTSTAMP:20260424T115402
CREATED:20230117T151647Z
LAST-MODIFIED:20250926T105801Z
UID:10002841-1765047600-1765054800@craiovalive.ro
SUMMARY:TOC TOC
DESCRIPTION:DISTRIBUȚIA:\nROMANIŢA IONESCU\nRAMONA DRĂGULESCU\nCOSTINELA UNGUREANU\nMARIAN POLITIC\nALEX CALANGIU\nCLAUDIU MIHAIL\nRALUCA PĂUN\nText: Laurent Baffie \nRegia artistică: Alexandru Boureanu și Raluca Păun \nTraducere: Raluca Păun \nDecor: Vanessa Beca \nCostume: Lia Dogaru \nRegia tehnică: Cristian Petec / Sorin Gruia \nMaestru de lumini: Dodu Ispas \nLumini: Marian Tudorache / Ovidiu Mustață \nSunet: George Udrea \nSufleor: Adrian Țîrcă \nData premierei: 12\, 13 februarie 2021 \nDurata spectacolului: 1h 26 min\n**spectacol recomandat publicului cu vârsta peste 16 ani \nSinopsis\n„TOC TOC” este o piesă scrisă de dramaturgul și actorul francez Laurent Baffie\, prezentată în premieră în 2005 la Palais-Royal din Paris. \nO comedie spumoasă a cărei acțiune se petrece în cabinetul doctorului Stern\, un neuropsihiatru de renume mondial în tulburarea obsesiv-compulsivă – TOC sau OCD. O consultație la renumitul dr. Stern se obține cu greu\, deoarece acesta călătorește foarte mult și rareori se întoarce în Franța. \nCoprolalie\, aritmomanie\, nosofobie\, palilalie sunt doar o parte din afectările celor șase pacienți care se întâlnesc în sala de așteptare a doctorului Stern. \nNeuropsihiatrul întârzie\, fiind blocat în aeroportul din Frankfurt. După o vreme\, pacienții vor încerca să omoare timpul prin improvizarea unei terapii de grup care îi va situa pe toți în afara zonei lor de confort. Fiecare își va spune propria poveste. \n  \nCronici\n„Regizorii (Alexandru Boureanu și Raluca Paun) au contat pe succesul acestei comedii bulevardiere\, fiindcă s-au bazat pe două elemente importante: textul scris alert\, cu replici de efect şi cu un ritm al desfăşurării comicului ce include mereu surpriza în formula sa; şi pe prestaţia trupei de actori\, capabili să dea relief umorului vioi al piesei. Se simte în acest text experienţa de actor şi scriitor pentru show-uri de divertisment la radio şi televiziune\, a lui Laurent Baffie\, care a renunţat la şcoală\, pentru a-şi urma vocaţia\, atras fiind de aceste două media ale timpului nostru.\nAbordând un subiect sensibil şi alambicat\, dramaturgul recurge la mijloacele comicului de limbaj de sorginte populară\, iar aceasta ar putea fi o capcană pentru o trupă de actori ce pot aluneca dincolo de linia subţire a efectului grosier.\nActorii TNC nu au căzut în această capcană\, au evitat\, în general\, tuşele groase\, făcând subtil cu ochiul publicului\, care le răsplăteşte prestaţia cu aplauze.” \nSanda Vișan – https://adevarul.ro/cultura/teatru/toc-toc-bate-usa-1_60ab8c245163ec4271600ff6/index.html
URL:https://craiovalive.ro/eveniment/toc-toc/
LOCATION:Teatrul Național Craiova – Sala Amza Pellea\, Str. A. I. Cuza\, nr. 11\, Craiova\, Dolj\, 200585\, România
CATEGORIES:Teatru
ATTACH;FMTTYPE=image/jpeg:https://craiovalive.ro/wp-content/uploads/2023/01/Toc-Toc-TNCMS.jpg
ORGANIZER;CN="Teatrul Na%C8%9Bional Marin Sorescu Craiova":MAILTO:secretariat@tncms.ro
GEO:44.3186661;23.8003743
X-APPLE-STRUCTURED-LOCATION;VALUE=URI;X-ADDRESS=Teatrul Național Craiova – Sala Amza Pellea Str. A. I. Cuza nr. 11 Craiova Dolj 200585 România;X-APPLE-RADIUS=500;X-TITLE=Str. A. I. Cuza\, nr. 11:geo:23.8003743,44.3186661
END:VEVENT
BEGIN:VEVENT
DTSTART;TZID=Europe/Bucharest:20251207T170000
DTEND;TZID=Europe/Bucharest:20251207T180000
DTSTAMP:20260424T115402
CREATED:20251112T085939Z
LAST-MODIFIED:20251123T225523Z
UID:10012543-1765126800-1765130400@craiovalive.ro
SUMMARY:Povestea Spărgătorului de Nuci
DESCRIPTION:SPĂRGĂTORUL DE NUCI – O EXPERIENȚĂ IMERSIVĂ DE CRĂCIUN\nInstalație performativă\n\n\nÎn inima Târgului de Crăciun din Craiova\, Teatrul Național „Marin Sorescu” se transformă într-un tărâm al fanteziei: o lume vie\, în care publicul pășește în povestea Spărgătorului de nuci.\nAceastă instalație-spectacol reimaginează povestea Spărgătorului de nuci într-o experiență senzorială completă\, unde muzica\, lumina\, și mișcarea se împletesc pentru a crea un univers magic.\nInspirată de tema visului și a copilăriei care refuză să se stingă\, instalația propune o călătorie care dezvăluie noi ipostaze ale personajelor lui Hoffmann: Spărgătorul\, Marie\, Regele Șobolan.\nPublicul este invitat să exploreze\, să se piardă și să se regăsească printre fragmentele visului. Fiecare pas devine o descoperire\, fiecare privire – o poartă către o altă realitate.\n\n\nCu: Theodora Bălan/Diana Petec.\n\n\n„Spărgătorul de nuci” – o experiență pentru toate simțurile\, un Crăciun trăit altfel.\n Teatrul Național „Marin Sorescu”\, Craiova\n Date disponibile șibilete: https://ebilet.tncms.ro/ebilet sau laAgenția Teatrală\, Str. A. I. Cuza\, nr.11.\n Durata: 1 h.\n* Preț pentru copii ( bilete achiziționate de la agenție): 15 lei.\n\n\n Un proiect de Vlad Drăgulescu\nIlustrații de Ștefan Triculete.
URL:https://craiovalive.ro/eveniment/povestea-spargatorului-de-nuci/2025-12-07/
LOCATION:Teatrul Național Craiova – Foaier\, Str. A. I. Cuza\, nr. 11\, Craiova\, Dolj\, 200585\, România
CATEGORIES:Teatru
ATTACH;FMTTYPE=image/jpeg:https://craiovalive.ro/wp-content/uploads/2025/11/Povestea-Spargatorului-de-Nuci.jpg
ORGANIZER;CN="Teatrul Na%C8%9Bional Marin Sorescu Craiova":MAILTO:secretariat@tncms.ro
GEO:44.3186661;23.8003743
X-APPLE-STRUCTURED-LOCATION;VALUE=URI;X-ADDRESS=Teatrul Național Craiova – Foaier Str. A. I. Cuza nr. 11 Craiova Dolj 200585 România;X-APPLE-RADIUS=500;X-TITLE=Str. A. I. Cuza\, nr. 11:geo:23.8003743,44.3186661
END:VEVENT
END:VCALENDAR