BEGIN:VCALENDAR
VERSION:2.0
PRODID:-//Craiova Live - ECPv6.15.18//NONSGML v1.0//EN
CALSCALE:GREGORIAN
METHOD:PUBLISH
X-WR-CALNAME:Craiova Live
X-ORIGINAL-URL:https://craiovalive.ro
X-WR-CALDESC:Evenimente pentru Craiova Live
REFRESH-INTERVAL;VALUE=DURATION:PT1H
X-Robots-Tag:noindex
X-PUBLISHED-TTL:PT1H
BEGIN:VTIMEZONE
TZID:Europe/Bucharest
BEGIN:DAYLIGHT
TZOFFSETFROM:+0200
TZOFFSETTO:+0300
TZNAME:EEST
DTSTART:20240331T010000
END:DAYLIGHT
BEGIN:STANDARD
TZOFFSETFROM:+0300
TZOFFSETTO:+0200
TZNAME:EET
DTSTART:20241027T010000
END:STANDARD
BEGIN:DAYLIGHT
TZOFFSETFROM:+0200
TZOFFSETTO:+0300
TZNAME:EEST
DTSTART:20250330T010000
END:DAYLIGHT
BEGIN:STANDARD
TZOFFSETFROM:+0300
TZOFFSETTO:+0200
TZNAME:EET
DTSTART:20251026T010000
END:STANDARD
BEGIN:DAYLIGHT
TZOFFSETFROM:+0200
TZOFFSETTO:+0300
TZNAME:EEST
DTSTART:20260329T010000
END:DAYLIGHT
BEGIN:STANDARD
TZOFFSETFROM:+0300
TZOFFSETTO:+0200
TZNAME:EET
DTSTART:20261025T010000
END:STANDARD
END:VTIMEZONE
BEGIN:VEVENT
DTSTART;TZID=Europe/Bucharest:20251103T170000
DTEND;TZID=Europe/Bucharest:20251103T183000
DTSTAMP:20260424T132207
CREATED:20251019T173518Z
LAST-MODIFIED:20251019T173518Z
UID:10010852-1762189200-1762194600@craiovalive.ro
SUMMARY:ODD COUTURE
DESCRIPTION:Cu: Anamaria Codiță\, David Drugaru\, Anamaria Feraru\, Silvana Mihai\, Daniel Stănciucu \nScenografia: Sabina Reus \nUniversul sonor: Daniel Stănciucu \nText: Alexandru Gorghe \nRegia: Mara Oprea \nProducția: Platforma de Teatru Politic \nParteneri: Asociația Constantin Hamangiu Bârlad\, Centrul de Teatru Educațional Replika \nDurată: 1 oră 45 min \nVârsta recomandată: 14+ \nCum arată o comedie despre relațiile de muncă într-o industrie textilă care e pe moarte? Și cum arată o comedie despre munca în industria de modă\, un domeniu cu un viitor extrem de incert în contextul lipsei de reglementări? Ce coincidență și ce noroc că vă puneți aceste întrebări deoarece: Odd Couture este un spectacol despre două lumi complet diferite\, dar interconectate – fabricile de textile și show-urile din industria de modă. \nÎn Odd Couture\, o vestă vorbitoare ne spune povestea ei\, de la farsele între muncitoare și luptele sindicatului cu direcțiunea fabricii de textile unde a fost concepută\, până la accidentele din culisele paradelor de modă unde este expusă și presiunile asupra modelelor tinere care încearcă să intre în această industrie. În călătoria ei\, vesta vorbitoare întâlnește directori de fabrică în pragul falimentului\, designerițe aflate la prima lor colecție\, găini vorbitoare care îi povestesc despre economie și multe alte personaje… O să vedeți la spectacol! \nOdd Couture se bazează pe o documentare consistentă\, prin interviuri\, discuții și întâlniri informale\, lectura unor materiale sociologice sau economice\, despre industria modei\, în context local și internațional. \nSpectacolul este rezultatul rezidenței Școala de Teatru Politic 2024\, desfășurată la Bârlad și București în august-noiembrie 2024\, în cadrul căreia o echipă de artiste și artiști la început de carieră a experimentat dezvoltarea și construcția unui spectacol de teatru despre relații și probleme de muncă. În cadrul rezidenței\, echipa a fost îndrumată de artiste și artiști cu experiență în teatru politic (Paula Dunker\, Mihaela Michailov\, Katia Pascariu\, David Schwartz). \nSpectacolul este produs în programul multianual Generator Colectiv\, cofinanțat de Administrația Fondului Cultural Național. Proiectul nu reprezintă în mod necesar poziția AFCN. AFCN nu este responsabilă de conținutul proiectului sau de modul în care rezultatele proiectului pot fi folosite. Acestea sunt în întregime responsabilitatea beneficiarului finanțării.
URL:https://craiovalive.ro/eveniment/odd-couture/
LOCATION:Teatrul Național Craiova – Sala I. D. Sîrbu\, Str. A. I. Cuza\, nr. 11\, Craiova\, Dolj\, 200585\, România
CATEGORIES:Teatru
ATTACH;FMTTYPE=image/png:https://craiovalive.ro/wp-content/uploads/2025/10/Odd-Couture.png
ORGANIZER;CN="Teatrul Na%C8%9Bional Marin Sorescu Craiova":MAILTO:secretariat@tncms.ro
GEO:44.3186661;23.8003743
X-APPLE-STRUCTURED-LOCATION;VALUE=URI;X-ADDRESS=Teatrul Național Craiova – Sala I. D. Sîrbu Str. A. I. Cuza nr. 11 Craiova Dolj 200585 România;X-APPLE-RADIUS=500;X-TITLE=Str. A. I. Cuza\, nr. 11:geo:23.8003743,44.3186661
END:VEVENT
BEGIN:VEVENT
DTSTART;TZID=Europe/Bucharest:20251103T190000
DTEND;TZID=Europe/Bucharest:20251103T203000
DTSTAMP:20260424T132207
CREATED:20251007T211249Z
LAST-MODIFIED:20251007T211249Z
UID:10010296-1762196400-1762201800@craiovalive.ro
SUMMARY:Cei trei asasini
DESCRIPTION:Un spectacol ucigător de comic în care o soție\, un amant și un soț pun la cale să se omoare unul pe celălalt.\nUn trio neajutorat în care nimeni nu știe cine pe cine urăște\, cine pe cine iubește și cine poate comite cu adevărat o crimă.\nBarbara\, o femeie naivă și foarte atrăgătoare\, nu se poate hotărî dacă să rămână cu Tom\, soțul ei\, un bărbat onest și neîndemânatic\, cu care este căsătorită de mulți ani\, sau să-l părăsească pentru Jerry\, dentistul ei incredibil de irezistibil.\nTotul se petrece într-o cameră de hotel în care nefericiții asasini se vor împiedica reciproc iar încercările de a se omorî unul pe celălalt eșuează de fiecare dată în mod hilar.\nO comedie cu ritm\, suspans și răsturnări de situații\, o comedie care te va ține cu sufletul la gură și te va „asasina” de râs până la final.***\nCEI TREI ASASINIAdaptare de Mihai Bendeac după „Crimă la Howard Johnson” de Ron Clark și Sam Bobrick\nDistribuție:Mihai Bendeac – Jerry JohnsonAnca Dinicu – Barbara MillerVlad Drǎgulin – Tom MillerVlad Pasencu – pianist de serviciu\nRegie: Mihai Bendeac\nScenografie: Raluca Pascu\nCostume: Hilke Muslim\nMuzicǎ: Mihnea Irimia\nLumini: Traian Marin\nConcept vizual: Alexandru Sterian
URL:https://craiovalive.ro/eveniment/cei-trei-asasini/
LOCATION:Teatrul Național Craiova – Sala Amza Pellea\, Str. A. I. Cuza\, nr. 11\, Craiova\, Dolj\, 200585\, România
CATEGORIES:Teatru
ATTACH;FMTTYPE=image/jpeg:https://craiovalive.ro/wp-content/uploads/2025/10/Cei-trei-asasini-Craiova.jpg
GEO:44.3186661;23.8003743
X-APPLE-STRUCTURED-LOCATION;VALUE=URI;X-ADDRESS=Teatrul Național Craiova – Sala Amza Pellea Str. A. I. Cuza nr. 11 Craiova Dolj 200585 România;X-APPLE-RADIUS=500;X-TITLE=Str. A. I. Cuza\, nr. 11:geo:23.8003743,44.3186661
END:VEVENT
BEGIN:VEVENT
DTSTART;TZID=Europe/Bucharest:20251104T170000
DTEND;TZID=Europe/Bucharest:20251104T183000
DTSTAMP:20260424T132207
CREATED:20250626T093544Z
LAST-MODIFIED:20250825T093327Z
UID:10007954-1762275600-1762281000@craiovalive.ro
SUMMARY:Made in Austria
DESCRIPTION:MADE IN AUSTRIA\n\n\nSala Studio “Ion D. Sârbu”\, Teatrul Național “Marin Sorescu”\, Craiova\n\n\nText de Cristina Giurgea\, cu un poem introductiv adaptat după Jamson Fitzpatrick\nRegia și interpretarea: Cristina Giurgea\nVoce: Armin Aschenbrenner\n\n\nO producție a Mozarteum Universität Salzburg – Thomas Bernhard Institute\, Applied Theatre: Critical Theatre Practice and Community\n\n\nCe este Salzburg? Și ce înseamnă să fii un adevărat “salzburger”?\nRăspunsurile la aceste întrebări diferă – dacă te-ai născut și ai crescut aici\, te-ai mutat mai târziu sau ești doar în trecere.\n\n\nRegizoarea de origine română Cristina Giurgea explorează în proiectul său de master MADE IN AUSTRIA imaginile\, stereotipurile și perspectivele legate de Salzburg\, punând sub semnul întrebării și deconstruind ideile de “acasă” și identitate\, tratând apartenența ca pe o construcție socială.\nO rețea de voci locale și elemente interactive invită publicul să provoace presupunerile despre identitatea națională și culturală\, despre apartenență și adevăratul sens al ideii de „acasă” într-o lume interconectată.\nPână la urmă\, aceste stereotipuri reflectă cu adevărat locuitorii reali sau doar reproduc la nesfârșit aceleași imagini în care nimeni nu se mai regăsește cu adevărat?\n\n\nVă recomandăm să citiți interviul cu regizoarea Cristina Giurgea de pe Urmele.ro!
URL:https://craiovalive.ro/eveniment/made-in-austria/2025-11-04/
LOCATION:Teatrul Național Craiova – Sala I. D. Sîrbu\, Str. A. I. Cuza\, nr. 11\, Craiova\, Dolj\, 200585\, România
CATEGORIES:Teatru
ATTACH;FMTTYPE=image/jpeg:https://craiovalive.ro/wp-content/uploads/2025/06/Made-in-Austria.jpg
ORGANIZER;CN="Teatrul Na%C8%9Bional Marin Sorescu Craiova":MAILTO:secretariat@tncms.ro
GEO:44.3186661;23.8003743
X-APPLE-STRUCTURED-LOCATION;VALUE=URI;X-ADDRESS=Teatrul Național Craiova – Sala I. D. Sîrbu Str. A. I. Cuza nr. 11 Craiova Dolj 200585 România;X-APPLE-RADIUS=500;X-TITLE=Str. A. I. Cuza\, nr. 11:geo:23.8003743,44.3186661
END:VEVENT
BEGIN:VEVENT
DTSTART;TZID=Europe/Bucharest:20251105T170000
DTEND;TZID=Europe/Bucharest:20251105T183000
DTSTAMP:20260424T132207
CREATED:20250626T093544Z
LAST-MODIFIED:20250825T093327Z
UID:10007955-1762362000-1762367400@craiovalive.ro
SUMMARY:Made in Austria
DESCRIPTION:MADE IN AUSTRIA\n\n\nSala Studio “Ion D. Sârbu”\, Teatrul Național “Marin Sorescu”\, Craiova\n\n\nText de Cristina Giurgea\, cu un poem introductiv adaptat după Jamson Fitzpatrick\nRegia și interpretarea: Cristina Giurgea\nVoce: Armin Aschenbrenner\n\n\nO producție a Mozarteum Universität Salzburg – Thomas Bernhard Institute\, Applied Theatre: Critical Theatre Practice and Community\n\n\nCe este Salzburg? Și ce înseamnă să fii un adevărat “salzburger”?\nRăspunsurile la aceste întrebări diferă – dacă te-ai născut și ai crescut aici\, te-ai mutat mai târziu sau ești doar în trecere.\n\n\nRegizoarea de origine română Cristina Giurgea explorează în proiectul său de master MADE IN AUSTRIA imaginile\, stereotipurile și perspectivele legate de Salzburg\, punând sub semnul întrebării și deconstruind ideile de “acasă” și identitate\, tratând apartenența ca pe o construcție socială.\nO rețea de voci locale și elemente interactive invită publicul să provoace presupunerile despre identitatea națională și culturală\, despre apartenență și adevăratul sens al ideii de „acasă” într-o lume interconectată.\nPână la urmă\, aceste stereotipuri reflectă cu adevărat locuitorii reali sau doar reproduc la nesfârșit aceleași imagini în care nimeni nu se mai regăsește cu adevărat?\n\n\nVă recomandăm să citiți interviul cu regizoarea Cristina Giurgea de pe Urmele.ro!
URL:https://craiovalive.ro/eveniment/made-in-austria/2025-11-05/
LOCATION:Teatrul Național Craiova – Sala I. D. Sîrbu\, Str. A. I. Cuza\, nr. 11\, Craiova\, Dolj\, 200585\, România
CATEGORIES:Teatru
ATTACH;FMTTYPE=image/jpeg:https://craiovalive.ro/wp-content/uploads/2025/06/Made-in-Austria.jpg
ORGANIZER;CN="Teatrul Na%C8%9Bional Marin Sorescu Craiova":MAILTO:secretariat@tncms.ro
GEO:44.3186661;23.8003743
X-APPLE-STRUCTURED-LOCATION;VALUE=URI;X-ADDRESS=Teatrul Național Craiova – Sala I. D. Sîrbu Str. A. I. Cuza nr. 11 Craiova Dolj 200585 România;X-APPLE-RADIUS=500;X-TITLE=Str. A. I. Cuza\, nr. 11:geo:23.8003743,44.3186661
END:VEVENT
BEGIN:VEVENT
DTSTART;TZID=Europe/Bucharest:20251106T170000
DTEND;TZID=Europe/Bucharest:20251106T183000
DTSTAMP:20260424T132207
CREATED:20250626T093544Z
LAST-MODIFIED:20250825T093327Z
UID:10007956-1762448400-1762453800@craiovalive.ro
SUMMARY:Made in Austria
DESCRIPTION:MADE IN AUSTRIA\n\n\nSala Studio “Ion D. Sârbu”\, Teatrul Național “Marin Sorescu”\, Craiova\n\n\nText de Cristina Giurgea\, cu un poem introductiv adaptat după Jamson Fitzpatrick\nRegia și interpretarea: Cristina Giurgea\nVoce: Armin Aschenbrenner\n\n\nO producție a Mozarteum Universität Salzburg – Thomas Bernhard Institute\, Applied Theatre: Critical Theatre Practice and Community\n\n\nCe este Salzburg? Și ce înseamnă să fii un adevărat “salzburger”?\nRăspunsurile la aceste întrebări diferă – dacă te-ai născut și ai crescut aici\, te-ai mutat mai târziu sau ești doar în trecere.\n\n\nRegizoarea de origine română Cristina Giurgea explorează în proiectul său de master MADE IN AUSTRIA imaginile\, stereotipurile și perspectivele legate de Salzburg\, punând sub semnul întrebării și deconstruind ideile de “acasă” și identitate\, tratând apartenența ca pe o construcție socială.\nO rețea de voci locale și elemente interactive invită publicul să provoace presupunerile despre identitatea națională și culturală\, despre apartenență și adevăratul sens al ideii de „acasă” într-o lume interconectată.\nPână la urmă\, aceste stereotipuri reflectă cu adevărat locuitorii reali sau doar reproduc la nesfârșit aceleași imagini în care nimeni nu se mai regăsește cu adevărat?\n\n\nVă recomandăm să citiți interviul cu regizoarea Cristina Giurgea de pe Urmele.ro!
URL:https://craiovalive.ro/eveniment/made-in-austria/2025-11-06/
LOCATION:Teatrul Național Craiova – Sala I. D. Sîrbu\, Str. A. I. Cuza\, nr. 11\, Craiova\, Dolj\, 200585\, România
CATEGORIES:Teatru
ATTACH;FMTTYPE=image/jpeg:https://craiovalive.ro/wp-content/uploads/2025/06/Made-in-Austria.jpg
ORGANIZER;CN="Teatrul Na%C8%9Bional Marin Sorescu Craiova":MAILTO:secretariat@tncms.ro
GEO:44.3186661;23.8003743
X-APPLE-STRUCTURED-LOCATION;VALUE=URI;X-ADDRESS=Teatrul Național Craiova – Sala I. D. Sîrbu Str. A. I. Cuza nr. 11 Craiova Dolj 200585 România;X-APPLE-RADIUS=500;X-TITLE=Str. A. I. Cuza\, nr. 11:geo:23.8003743,44.3186661
END:VEVENT
END:VCALENDAR