BEGIN:VCALENDAR
VERSION:2.0
PRODID:-//Craiova Live - ECPv6.15.18//NONSGML v1.0//EN
CALSCALE:GREGORIAN
METHOD:PUBLISH
X-ORIGINAL-URL:https://craiovalive.ro
X-WR-CALDESC:Evenimente pentru Craiova Live
REFRESH-INTERVAL;VALUE=DURATION:PT1H
X-Robots-Tag:noindex
X-PUBLISHED-TTL:PT1H
BEGIN:VTIMEZONE
TZID:Europe/Bucharest
BEGIN:DAYLIGHT
TZOFFSETFROM:+0200
TZOFFSETTO:+0300
TZNAME:EEST
DTSTART:20240331T010000
END:DAYLIGHT
BEGIN:STANDARD
TZOFFSETFROM:+0300
TZOFFSETTO:+0200
TZNAME:EET
DTSTART:20241027T010000
END:STANDARD
BEGIN:DAYLIGHT
TZOFFSETFROM:+0200
TZOFFSETTO:+0300
TZNAME:EEST
DTSTART:20250330T010000
END:DAYLIGHT
BEGIN:STANDARD
TZOFFSETFROM:+0300
TZOFFSETTO:+0200
TZNAME:EET
DTSTART:20251026T010000
END:STANDARD
BEGIN:DAYLIGHT
TZOFFSETFROM:+0200
TZOFFSETTO:+0300
TZNAME:EEST
DTSTART:20260329T010000
END:DAYLIGHT
BEGIN:STANDARD
TZOFFSETFROM:+0300
TZOFFSETTO:+0200
TZNAME:EET
DTSTART:20261025T010000
END:STANDARD
END:VTIMEZONE
BEGIN:VEVENT
DTSTART;TZID=Europe/Bucharest:20250916T180000
DTEND;TZID=Europe/Bucharest:20250921T220000
DTSTAMP:20260424T183222
CREATED:20250904T094051Z
LAST-MODIFIED:20250916T132738Z
UID:10009075-1758045600-1758492000@craiovalive.ro
SUMMARY:Festivalul de Dans Contemporan CONNECT
DESCRIPTION:Festivalul de Dans Contemporan CONNECT #4 | 16-21 septembrie 2025\, Craiova\n\n\n6 zile de spectacole\, artiști din țară și străinătate\, experiențe care nu se repetă.\n\n\nHai să ne conectăm prin dans! \n––\n\nFestivalul de dans Contemporan CONNECT revine cu cea de-a 4-a ediție în perioada 16-21 septembrie în Craiova și aduce în prim-plan vocile feminine din arta contemporană. Sub conceptul „She Shapes”\, ediția din 2025 este dedicată artistelor emergente\, creațiilor lor și felului în care ele redefinesc lumea prin dans și artă vizuală.\n Toate lucrările prezentate sunt semnate de artiste care deschid un dialog viu între corp\, societate\, natură și tehnologie. O ediție despre curaj\, vulnerabilitate\, diversitate și creativitate – un spațiu în care mișcarea devine vocea unei generații.\n Ce te așteaptă: Șase zile de festival\, peste 40 artiști și artiste implicate\, spectacole românești și internaționale (din Germania\, Italia și Franța)\, performance-uri în aer liber\, expoziții de fotografie urbană\, instalații\, seri de film\, conferințe\, tururi ghidate și ateliere de dans.\n Premieră: Anul acesta\, festivalul se extinde și în București\, cu două evenimente speciale găzduite de Centrul Național al Dansului și Institutul Italian de Cultură.\n În Craiova\, festivalul are loc în mai multe spații: Teatrul Național „Marin Sorescu” din Craiova\, Universitatea din Craiova\, ElectroPutere Mall\, Gloriæ Art Gallery\, Parcul Nicolae Romanescu\, Grădina Botanică\, Piața William Shakespeare\, dar și spații alternative care se transformă temporar în hub-uri culturale.\n Accesul este gratuit la majoritatea evenimentelor.\n\n PROGRAM CRAIOVA\n MARȚI\, 16 septembrie\n 18.30 – 20.30 | Smaranda (RO) & Hungry Ghosts (RO) – Sala Studio\, Dep. Arte și Media\, UCV 21.00 – 22.00 | Proiecție scurtmetraje Shift and Rise – Silent Garden (27\, Carmen\, HIEROGLYPH WOMAN\, Noora)\n____________________________________________________\n MIERCURI\, 17 septembrie\n 18.00 – 19.00 | Maybe by 2301\, we won’t need another feminist show (RO) – Teatrul Național „Marin Sorescu” din Craiova\, sala Ion D. Sîrbu\n____________________________________________________\n JOI\, 18 septembrie\n 10.00 – 22.00 | Reclaimed Realities | Expoziție de fotografie urbană – ElectroPutere Mall 18.00 – 19.00 | PUNK. Kill me please (IT) – Teatrul Național „Marin Sorescu” din Craiova\, sala Ion D. Sîrbu 20.00 – 20.30 | CONNECT Outdoor Performance – Gloriæ Art Gallery 20.30 – 22.30 | Vernisaj | Skinshape | Expoziție – Gloriæ Art Gallery\n____________________________________________________\n VINERI\, 19 septembrie\n 10.00 – 22.00 | Reclaimed Realities | Expoziție de fotografie urbană – ElectroPutere Mall 12.00 – 18.00 | Skinshape | Expoziție – Gloriæ Art Gallery 17.00 – 17.30 | CONNECT Outdoor Performance – Piața William Shakespeare 18.00 – 19.00 | Skirts in Fur\, unwinding (DE) – Teatrul Național „Marin Sorescu” din Craiova\, sala Ion D. Sîrbu\n____________________________________________________\n SÂMBĂTĂ\, 20 septembrie\n 10.00 – 22.00 | Reclaimed Realities | Expoziție de fotografie urbană – ElectroPutere Mall 11.00 – 11.30 | CONNECT Outdoor Performance – Parcul Romanescu 14.00 – 17.00 | Skinshape & Alienare | Expoziție – Gloriæ Art Gallery 14.00 – 16.00 | Nature in Motion | Tur ghidat\, Grădina Botanică 17.00 – 18.00 | Conferință Women in the arts – Gloriæ Art Gallery 18.30 – 19.30 | A kiss is an act of trust (RO) – Gloriæ Art Gallery 20.00 – 21.00 | BPM – Beats per Millennium (RO) – Aula „Alexandru Buia”\, UCV 21.30 | Totally Spice! | Live Set & Party (RO) – Biergarten\n____________________________________________________\n DUMINICĂ\, 21 septembrie 10.00 – 22.00 | Reclaimed Realities | Expoziție de fotografie urbană – ElectroPutere Mall 14.00 – 16.00 | Nature in Motion\, Tur ghidat – Grădina Botanică 16.00 – 16.30 | CONNECT Outdoor Performance – ElectroPutere Mall 17.00 – 19.00 | Skinshape | Expoziție – Gloriæ Art Gallery 19.00 – 20.00 | REFACE (FR) – Gloriæ Art Gallery 19.30 – 20.30 | Proiecție scurtmetraje „Flesh and Flight” –ElectroPutere Mall_______________________________________________\n//\n Festivalul de Dans Contemporan CONNECT #4 este organizat de Asociația Delazero\, co-finanțat de Administrația Fondului Cultural Național și nu reprezintă în mod necesar poziţia AFCN. AFCN nu este responsabilă de conținutul proiectului sau de modul în care rezultatele proiectului pot fi folosite. Acestea sunt în întregime responsabilitatea beneficiarului finanțării.\n Parteneri: Institutul Italian de Cultură București\, Institutul Francez București\, Goethe-Institut București\, Teatrul Național „Marin Sorescu” din Craiova\, Universitatea din Craiova\, Gloriæ Art Gallery\, ElectroPutere Mall\, Bucharest International Dance Film Festival (BIDFF)\, Centrul Național al Dansului București\, Biergarten.\n Identitate vizuală: Bianca Milea
URL:https://craiovalive.ro/eveniment/festivalul-de-dans-contemporan-connect/
LOCATION:Teatrul Național Craiova – Sala I. D. Sîrbu\, Str. A. I. Cuza\, nr. 11\, Craiova\, Dolj\, 200585\, România
CATEGORIES:Teatru
ATTACH;FMTTYPE=image/jpeg:https://craiovalive.ro/wp-content/uploads/2025/09/Festivalul-de-Dans-Contemporan-CONNECT-2025.jpg
ORGANIZER;CN="Teatrul Na%C8%9Bional Marin Sorescu Craiova":MAILTO:secretariat@tncms.ro
GEO:44.3186661;23.8003743
X-APPLE-STRUCTURED-LOCATION;VALUE=URI;X-ADDRESS=Teatrul Național Craiova – Sala I. D. Sîrbu Str. A. I. Cuza nr. 11 Craiova Dolj 200585 România;X-APPLE-RADIUS=500;X-TITLE=Str. A. I. Cuza\, nr. 11:geo:23.8003743,44.3186661
END:VEVENT
BEGIN:VEVENT
DTSTART;TZID=Europe/Bucharest:20250917T180000
DTEND;TZID=Europe/Bucharest:20250917T190000
DTSTAMP:20260424T183222
CREATED:20250319T153802Z
LAST-MODIFIED:20250910T071707Z
UID:10005991-1758132000-1758135600@craiovalive.ro
SUMMARY:Maybe by 2301\, we won’t need another feminist show
DESCRIPTION:Concept și Coregrafie: Camelia Neagoe & Maria-Luiza Dimulescu \nPerformere: Maria-Luiza Dimulescu\, Mariana Gavriciuc\, Anca Stoica \nMuzică: Adrian Ionescu\, Vlad Vîrvorea \nText: Mariana Gavriciuc\, Anca Stoica\, Maria-Luiza Dimulescu\, Camelia Neagoe\, Anca Munteanu\, Adrian Ionescu \nScenografie și Light design: Miruna Croitoru \nVideo: Cătălin Rugină\, Miruna Croitoru \nImagini de arhivă: Centrul FILIA \nGrafică afiș: Sînziana Cadâr \nComunicare: Alexandra Apețan \nProducție: Asociația Delazero \nCo-producție: Centrul Național al Dansului București \nSpectacol recomandat publicului cu vârsta peste 16 ani \nSpectacolul conține momente de lumina stroboscopică\, care poate afecta persoanele care suferă de epilepsie. \nÎn patriarhat femeia suportă\, susține\, servește\, ascultă\, ajută\, protejează. Femeia nu e agresivă\, nu se impune\, nu protestează\, nu cere\, nu riscă\, nu ocupă spațiu. \nÎn spectacolul Maybe by 2301\, we won’t need another feminist show\, trei performere\, Maria-Luiza\, Anca și Mariana\, vorbesc despre experiențe zilnice normalizate și despre statistici care par ireale\, despre roluri contradictorii și norme intangibile propagate subtil în societate. \nUnele situații par familiare\, altele sunt cel puțin inconfortabile. Unele te pot amuza\, altele te vor frustra. Este spațiul în care trăiesc femeile. Haotic\, absurd\, opresiv și injust. Este în același timp un context în care acționăm cu solidaritate\, curaj și empatie. \nPoate că în 2301 nu vom mai avea nevoie de un astfel de spectacol. Deocamdată\, suntem aici. \n\n\n\n\n\nSpectacolul ”Maybe by 2301\, we won’t need another feminist show” este prezentat în cadrul Festivalului de Dans Contemporan CONNECT\, ediția a 4-a\, organizat de Asociația Delazero\, cu sprijinul Teatrului Național ”Marin Sorescu” Craiova\,. Proiectul este cofinanțat de Administrația Fondului Cultural Național și nu reprezintă în mod necesar poziţia Administrației Fondului Cultural Național. AFCN nu este responsabilă de conținutul proiectului sau de modul în care rezultatele proiectului pot fi folosite. Acestea sunt în întregime responsabilitatea beneficiarului finanțării.
URL:https://craiovalive.ro/eveniment/maybe-by-2301-we-wont-need-another-feminist-show/
LOCATION:Teatrul Național Craiova – Sala I. D. Sîrbu\, Str. A. I. Cuza\, nr. 11\, Craiova\, Dolj\, 200585\, România
CATEGORIES:Teatru
ATTACH;FMTTYPE=image/webp:https://craiovalive.ro/wp-content/uploads/2025/03/Maybe-by-2301-we-wont-need-another-feminist-show-tncms.webp
ORGANIZER;CN="Teatrul Na%C8%9Bional Marin Sorescu Craiova":MAILTO:secretariat@tncms.ro
GEO:44.3186661;23.8003743
X-APPLE-STRUCTURED-LOCATION;VALUE=URI;X-ADDRESS=Teatrul Național Craiova – Sala I. D. Sîrbu Str. A. I. Cuza nr. 11 Craiova Dolj 200585 România;X-APPLE-RADIUS=500;X-TITLE=Str. A. I. Cuza\, nr. 11:geo:23.8003743,44.3186661
END:VEVENT
BEGIN:VEVENT
DTSTART;TZID=Europe/Bucharest:20250918T180000
DTEND;TZID=Europe/Bucharest:20250918T190000
DTSTAMP:20260424T183222
CREATED:20250901T072115Z
LAST-MODIFIED:20250914T084047Z
UID:10007966-1758218400-1758222000@craiovalive.ro
SUMMARY:Punk. Kill Me Please
DESCRIPTION:Concept și creație: Francesca Foscarini & Cosimo Lopalco \nInterpretare: Francesca Foscarini & Beatrice D’Amelio \nCo-creație: Valentina Dal Mas & Melina Sofocleus \nLight design: Maria Virzì \nTehnic: Filippo di Dio \nAntrenament vocal: Debora Petrina \nProducție: ZEBRA \nCo-producție: Associazione Culturale VAN\, Festival Danza in Rete – Teatro Comunale Città di Vicenza \nCu sprijinul: Festival Danza in Rete 2020 / Vicenza-Schio\, Centrale Fies_art work space\, Teatro delle Rane Leverano \nCu contribuția: ResiDance XL – proiecte de rezidență pentru creații coregrafice\, o acțiune a Rete Anticorpi XL – Network Giovane Danza D’Autore\, coordonat de L’arboreto – Teatro Dimora di Mondaino: Arteven / Festival Prospettiva Danza e Teatro\, Centro di Residenza della Toscana (Armunia – CapoTrave/Kilowatt)\, CSC Centro per la Scena Contemporanea Bassano del Grappa\, Santarcangelo dei Teatri. \nDurată: 1 h \nInspirat de Revoluția Punk\, PUNK. Kill me please aduce pe scenă două corpuri feminine supuse unei transformări neîncetate și iconice. \nCorpurile sunt autogeneratoare și atotputernice\, senzuale și pasionale\, amuzante\, electrizate și monstruoase. Împărtășind același protest\, aceeași furie și aceeași pasiune pentru viață\, ele reprezintă rebeliunea și nebunia\, iubirea și egalitatea\, și performează un manifest viu al feminismului\, curajului\, forței\, ironiei și libertății. \nSpectacolul ”PUNK. Kill me please” este prezentat în cadrul Festivalului de Dans Contemporan CONNECT\, ediția a 4-a\, organizat de Asociația Delazero\, cu sprijinul Institutului Italian de Cultură din București și al Teatrului Național ”Marin Sorescu” Craiova. Proiectul este cofinanțat de Administrația Fondului Cultural Național și nu reprezintă în mod necesar poziţia Administrației Fondului Cultural Național. AFCN nu este responsabilă de conținutul proiectului sau de modul în care rezultatele proiectului pot fi folosite. Acestea sunt în întregime responsabilitatea beneficiarului finanțării.
URL:https://craiovalive.ro/eveniment/punk-kill-me-please/
LOCATION:Teatrul Național Craiova – Sala I. D. Sîrbu\, Str. A. I. Cuza\, nr. 11\, Craiova\, Dolj\, 200585\, România
CATEGORIES:Teatru
ATTACH;FMTTYPE=image/webp:https://craiovalive.ro/wp-content/uploads/2025/09/Punk.-Kill-Me-Please.webp
ORGANIZER;CN="Teatrul Na%C8%9Bional Marin Sorescu Craiova":MAILTO:secretariat@tncms.ro
GEO:44.3186661;23.8003743
X-APPLE-STRUCTURED-LOCATION;VALUE=URI;X-ADDRESS=Teatrul Național Craiova – Sala I. D. Sîrbu Str. A. I. Cuza nr. 11 Craiova Dolj 200585 România;X-APPLE-RADIUS=500;X-TITLE=Str. A. I. Cuza\, nr. 11:geo:23.8003743,44.3186661
END:VEVENT
BEGIN:VEVENT
DTSTART;TZID=Europe/Bucharest:20250919T180000
DTEND;TZID=Europe/Bucharest:20250919T184000
DTSTAMP:20260424T183222
CREATED:20250901T072721Z
LAST-MODIFIED:20250914T084038Z
UID:10007967-1758304800-1758307200@craiovalive.ro
SUMMARY:Skirts in Fur\, Unwinding
DESCRIPTION:Concept\, Regie: Anima Henn \nCoregrafie: Anima Henn\, în colaborare cu dansatorii \nPerformeri: Oleksandr Smirnov\, Petra Szlivka\, Lea Markgraf\, Anima Henn \nDirector repetiții: Michelle Munoz \nDramaturgie: Bas van der Kruk \nCostume: Alexandra Paal\, Anima Henn \nMuzică: Daniel Door \nLumini: Rainer Ludwig \nProducție: Beli Hennig \nDurată: 40 min \nCe-ar fi dacă?\nDacă nu am fi singuri.\nDacă plictiseala ar da naștere unor lumi fantastice?\nDacă singurătatea ar putea fi dată jos foarte simplu precum o rochie? \nSkirts in Fur\, Unwinding explorează singurătatea și imaginația. Inspirată de peisaje onirice\, artă și mitologie\, piesa îmbină mișcarea cu imaginea vizuală. Dansatorii se transformă în obiecte și ființe neobișnuite. Dintr-o fustă supradimensionată – la început o sculptură umană – încep să iasă la iveală oase. În suprarealismul viselor\, realitatea și fantezia se împletesc dând naștere unei lumi hibride. Granițele se dizolvă\, iar imaginația preia controlul. \nÎntr-un mod jucăuș\, Skirts in Fur\, Unwinding dezvăluie o simbioză între poezie și suprarealism\, grație și stranietate. \nSpectacolul ”Skirts in Fur\, Unwinding” este prezentat în cadrul Festivalului de Dans Contemporan CONNECT\, ediția a 4-a și organizat de Asociația Delazero\, cu sprijinul Goethe-Institut București și al Teatrului Național ”Marin Sorescu” Craiova. Proiectul este cofinanțat de Administrația Fondului Cultural Național și nu reprezintă în mod necesar poziţia Administrației Fondului Cultural Național. AFCN nu este responsabilă de conținutul proiectului sau de modul în care rezultatele proiectului pot fi folosite. Acestea sunt în întregime responsabilitatea beneficiarului finanțării.
URL:https://craiovalive.ro/eveniment/skirts-in-fur-unwinding/
LOCATION:Teatrul Național Craiova – Sala I. D. Sîrbu\, Str. A. I. Cuza\, nr. 11\, Craiova\, Dolj\, 200585\, România
CATEGORIES:Teatru
ATTACH;FMTTYPE=image/webp:https://craiovalive.ro/wp-content/uploads/2025/09/Skirts-in-Fur-Unwinding.webp
ORGANIZER;CN="Teatrul Na%C8%9Bional Marin Sorescu Craiova":MAILTO:secretariat@tncms.ro
GEO:44.3186661;23.8003743
X-APPLE-STRUCTURED-LOCATION;VALUE=URI;X-ADDRESS=Teatrul Național Craiova – Sala I. D. Sîrbu Str. A. I. Cuza nr. 11 Craiova Dolj 200585 România;X-APPLE-RADIUS=500;X-TITLE=Str. A. I. Cuza\, nr. 11:geo:23.8003743,44.3186661
END:VEVENT
BEGIN:VEVENT
DTSTART;TZID=Europe/Bucharest:20250920T140000
DTEND;TZID=Europe/Bucharest:20250920T160000
DTSTAMP:20260424T183222
CREATED:20250916T132620Z
LAST-MODIFIED:20250916T132715Z
UID:10009753-1758376800-1758384000@craiovalive.ro
SUMMARY:Nature in Motion | Tur ghidat cu Cristina Tudor în Grădina Botanică
DESCRIPTION:𝐍𝐚𝐭𝐮𝐫𝐞 𝐢𝐧 𝐌𝐨𝐭𝐢𝐨𝐧 | 𝐓𝐮𝐫 𝐠𝐡𝐢𝐝𝐚𝐭 𝐢̂𝐧 𝐆𝐫𝐚̆𝐝𝐢𝐧𝐚 𝐁𝐨𝐭𝐚𝐧𝐢𝐜𝐚̆\n\n\nCând a fost ultima dată când ai privit un loc cunoscut ca și cum l-ai descoperi pentru prima oară? \n\n\nCe povești ascund aleile\, arborii\, lumina care se strecoară printre frunze?\n\n\nTe invităm la o experiență diferită – un tur interactiv în Grădina Botanică\, unde natura\, mișcarea și reflecția personală se întâlnesc. Vom explora împreună spațiul\, dar fiecare participant va descoperi propria versiune a acestui traseu – prin simțuri\, prin cuvânt\, prin amintiri.\n\n\nHai să ne plimbăm\, să fim mai prezenți și să vedem cum natura ne poate pune în mișcare din interior spre exterior.\n\n\n Nature in Motion | Tur ghidat cu Cristina Tudor\n Grădina Botanică\, Craiova\n 20 & 21 septembrie\n 14.00 – 16.00\n Participarea e gratuită\n\n\nÎnscrie-te la formularul din comentarii.\n_____\n\n\n Cristina Tudor este actriță și dramaturgă. Lucrează în lumea artelor spectacolului şi filmului independent\, atât ca inițiatoare/creatoare de proiecte culturale locale şi internaționale\, cât şi în calitate de artistă colaboratoare. Este fondatoarea Asociației Cătun\, ce își invită publicul într-un spațiu de empatie\, introspecție și conexiune. Cele mai recente lucrări ale Cristinei sunt difuzate atât în România\, cât şi în festivaluri şi turnee pe teritoriul Canadei.\n\n\n Turul ghidat face parte din Festivalul CONNECT\, ediția a 4-a\, organizat de Delazero\, co-finanțat de AFCN.
URL:https://craiovalive.ro/eveniment/nature-in-motion-tur-ghidat-cu-cristina-tudor-in-gradina-botanica/2025-09-20/
LOCATION:Grădina Botanică Alexandru Buia\, Str. C-tin Lecca\, nr. 26\, Craiova\, Dolj\, România
CATEGORIES:Ateliere,Teatru,Turism
ATTACH;FMTTYPE=image/jpeg:https://craiovalive.ro/wp-content/uploads/2025/09/Nature-in-Motion-Tur-ghidat-cu-Cristina-Tudor-in-Gradina-Botanica.jpg
GEO:44.3048785;23.7598067
X-APPLE-STRUCTURED-LOCATION;VALUE=URI;X-ADDRESS=Grădina Botanică Alexandru Buia Str. C-tin Lecca nr. 26 Craiova Dolj România;X-APPLE-RADIUS=500;X-TITLE=Str. C-tin Lecca\, nr. 26:geo:23.7598067,44.3048785
END:VEVENT
BEGIN:VEVENT
DTSTART;TZID=Europe/Bucharest:20250920T183000
DTEND;TZID=Europe/Bucharest:20250920T193000
DTSTAMP:20260424T183223
CREATED:20250914T174053Z
LAST-MODIFIED:20250914T174053Z
UID:10009729-1758393000-1758396600@craiovalive.ro
SUMMARY:A kiss is an act of trust - Performance @ Gloriae Art Gallery
DESCRIPTION: A kiss is an act of trust (Mariana Gavriciuc) \n SÂMBĂTĂ\, 20 septembrie\, 18.30 – 19:30 Gloriæ Art Gallery ( Str. Alexandru Macedonski 49)\n Intrarea liberă\, pe bază de rezervare aici: https://forms.gle/4opgXAughXVXUzsHA\n „A kiss is an act of trust” este un lecture performance care explorează tema sărutului din perspectivă științifică și personală\, aducând la un loc perspective\, date\, teorii și întrebări legate de originea și utilitatea sărutului.\nArtista a optat pentru formatul de lecture performance\, subgen al performance-ului aflat la granița dintre artă și mediul academic\, din dorința de a surprinde și transmite informația în formă cât mai simplă și directă.\nSpectacolul a fost creat în urma a 50 de interviuri\, combinând chestionare obiective cu indicații de stare și mișcare pentru a obține un flux de răspunsuri intuitive și creative.\nEchipă: Concept\, text\, video edit\, coregrafie\, interpretare: Mariana Gavriciuc Muzica: Alexandru Suciu\, Radiohead Date de cercetare și citate: “The Science of Kissing” de Sheril Kirshenbaum\, fragment de articol de Mădălina Prundea pentru http://xn--gndul-3qa.ro/ Video: fragment din performance-ul ”Prêt à baiser” de Olivier Dubois\, o înregistrare din 2005 obţinută de The Washington Post a discuției dintre Donald Trump și Billy Bush Finanțator: Centrul de Proiecte al Municipiului Timișoara prin Bursa de creație artistică Energie\n Evenimentul face parte din proiectul cultural Festivalul de Dans Contemporan CONNECT\, ediția a 4-a\, organizat de Asociația Delazero\, cu sprijinul Gloriæ Art Galleryși co-finanțat de Administrația Fondului Cultural Național (AFCN). Proiectul nu reprezintă în mod necesar poziţia Administrației Fondului Cultural Național. AFCN nu este responsabilă de conținutul proiectului sau de modul în care rezultatele proiectului pot fi folosite. Acestea sunt în întregime responsabilitatea beneficiarului finanțării.
URL:https://craiovalive.ro/eveniment/a-kiss-is-an-act-of-trust-performance-gloriae-art-gallery/
LOCATION:Gloriæ Art Gallery\, Str. Alexandru Macedonski\, Nr. 49\, Craiova\, Dolj\, România
CATEGORIES:Teatru
ATTACH;FMTTYPE=image/jpeg:https://craiovalive.ro/wp-content/uploads/2025/09/A-kiss-is-an-act-of-trust-Performance-@-Gloriae-Art-Gallery.jpg
GEO:44.312189;23.8001597
X-APPLE-STRUCTURED-LOCATION;VALUE=URI;X-ADDRESS=Gloriæ Art Gallery Str. Alexandru Macedonski Nr. 49 Craiova Dolj România;X-APPLE-RADIUS=500;X-TITLE=Str. Alexandru Macedonski\, Nr. 49:geo:23.8001597,44.312189
END:VEVENT
BEGIN:VEVENT
DTSTART;TZID=Europe/Bucharest:20250921T140000
DTEND;TZID=Europe/Bucharest:20250921T160000
DTSTAMP:20260424T183223
CREATED:20250916T132620Z
LAST-MODIFIED:20250916T132715Z
UID:10009754-1758463200-1758470400@craiovalive.ro
SUMMARY:Nature in Motion | Tur ghidat cu Cristina Tudor în Grădina Botanică
DESCRIPTION:𝐍𝐚𝐭𝐮𝐫𝐞 𝐢𝐧 𝐌𝐨𝐭𝐢𝐨𝐧 | 𝐓𝐮𝐫 𝐠𝐡𝐢𝐝𝐚𝐭 𝐢̂𝐧 𝐆𝐫𝐚̆𝐝𝐢𝐧𝐚 𝐁𝐨𝐭𝐚𝐧𝐢𝐜𝐚̆\n\n\nCând a fost ultima dată când ai privit un loc cunoscut ca și cum l-ai descoperi pentru prima oară? \n\n\nCe povești ascund aleile\, arborii\, lumina care se strecoară printre frunze?\n\n\nTe invităm la o experiență diferită – un tur interactiv în Grădina Botanică\, unde natura\, mișcarea și reflecția personală se întâlnesc. Vom explora împreună spațiul\, dar fiecare participant va descoperi propria versiune a acestui traseu – prin simțuri\, prin cuvânt\, prin amintiri.\n\n\nHai să ne plimbăm\, să fim mai prezenți și să vedem cum natura ne poate pune în mișcare din interior spre exterior.\n\n\n Nature in Motion | Tur ghidat cu Cristina Tudor\n Grădina Botanică\, Craiova\n 20 & 21 septembrie\n 14.00 – 16.00\n Participarea e gratuită\n\n\nÎnscrie-te la formularul din comentarii.\n_____\n\n\n Cristina Tudor este actriță și dramaturgă. Lucrează în lumea artelor spectacolului şi filmului independent\, atât ca inițiatoare/creatoare de proiecte culturale locale şi internaționale\, cât şi în calitate de artistă colaboratoare. Este fondatoarea Asociației Cătun\, ce își invită publicul într-un spațiu de empatie\, introspecție și conexiune. Cele mai recente lucrări ale Cristinei sunt difuzate atât în România\, cât şi în festivaluri şi turnee pe teritoriul Canadei.\n\n\n Turul ghidat face parte din Festivalul CONNECT\, ediția a 4-a\, organizat de Delazero\, co-finanțat de AFCN.
URL:https://craiovalive.ro/eveniment/nature-in-motion-tur-ghidat-cu-cristina-tudor-in-gradina-botanica/2025-09-21/
LOCATION:Grădina Botanică Alexandru Buia\, Str. C-tin Lecca\, nr. 26\, Craiova\, Dolj\, România
CATEGORIES:Ateliere,Teatru,Turism
ATTACH;FMTTYPE=image/jpeg:https://craiovalive.ro/wp-content/uploads/2025/09/Nature-in-Motion-Tur-ghidat-cu-Cristina-Tudor-in-Gradina-Botanica.jpg
GEO:44.3048785;23.7598067
X-APPLE-STRUCTURED-LOCATION;VALUE=URI;X-ADDRESS=Grădina Botanică Alexandru Buia Str. C-tin Lecca nr. 26 Craiova Dolj România;X-APPLE-RADIUS=500;X-TITLE=Str. C-tin Lecca\, nr. 26:geo:23.7598067,44.3048785
END:VEVENT
BEGIN:VEVENT
DTSTART;TZID=Europe/Bucharest:20250921T190000
DTEND;TZID=Europe/Bucharest:20250921T200000
DTSTAMP:20260424T183223
CREATED:20250914T180248Z
LAST-MODIFIED:20250914T180853Z
UID:10009737-1758481200-1758484800@craiovalive.ro
SUMMARY:REFACE – Performance @ Gloriae Art Gallery
DESCRIPTION: REFACE (Les Idoles Collective) \n Duminică\, 21 septembrie\, 19:00 – 20:00 Gloriæ Art Gallery (str. Alexandru Macedonski\, nr. 49\, Craiova)\n Intrare liberă\, pe bază de rezervare aici: https://forms.gle/kwV6n1DZTzCsLKcs7\n REFACE este o cercetare fizică și muzicală bazată pe ideea de transformare\, deformare și schimbare a materialelor. Totul este în tranziție: corpurile noastre\, memoria\, mediul social\, natura\, relațiile\, sistemul politic… Mișcarea pătrunde totul\, împiedicând crearea unor forme definitive și directe. Lucrăm asupra acestei instabilități la scară intimă\, deoarece fețele și emoțiile sunt tulburate și plurale.\nREFACE își propune să facă vizibil acest stadiu de tranziție\, aceste metamorfoze imperceptibile și neîncetate care dezvăluie complexitatea a ceea ce suntem.\nREFACE exprimă acest lucru: imposibilitatea distincției între sine și ceilalți. Departe de a fi un obstacol\, este un mister\, o incertitudine stimulatoare care devine o sursă inepuizabilă de inspirație pentru corpurile și imaginația noastră.REFACE este un loc de joacă\, unde putem pretinde că suntem altcineva\, adoptând posturile\, privirile și expresiile faciale ale idolilor și fantomelor noastre.\nNe mișcăm de la animal la culoare\, de la ceea ce este învechit la contemporan\, de la stea la banal. Cine este ea/el? Ce este asta? O fantomă sau un vampir? Un copil sau un bătrân? Râs sau teroare? Răspunsul e dificil. Nimic nu este fix sau denumit. Totul este confuzie și iluzie. Jocuri și trucuri. Cinema și minciuni.\n Biografie:Abordarea Les Idoles este una de cercetare\, de „furt” de referințe\, de a păși în pantofii altcuiva… Ei formează un colectiv de tribut\, străbătut de o multitudine de referințe cinematografice\, fotografice și muzicale. Acest spațiu de lucru unic și neconvențional le permite să pună sub semnul întrebării imaginile care îi înconjoară\, de la cele mai populare la cele mai elitiste. Pe care le uităm și care persistă în timp? Prin cercetare corporală și muzicală\, ei creează proiecte și reprezentații hibride\, ciudate și anacronice. Își plac jocurile cu codurile și schimbarea perspectivelor. Astfel\, întrebarea privirii și relația cu publicul străbate întregul lor demers.\nChandra Grangean și Lise Messina sunt Les Idoles. S-au întâlnit în 2012 la Conservatorul Național Superior de Muzică și Dans din Lyon. Impulsionate de afinități artistice\, au început să colaboreze încă din timpul studiilor. Ulterior\, au lucrat împreună cu Maguy Marin\, iar în 2022 au fondat Les Idoles\, care face parte din La Feat: o platformă artistică unde schimbă idei și colaborează cu două alte colective\, Hoods Flakes și Dikie Istorii.\nEchipă: Creație: Les Idoles Collective Coregrafe: Chandra Grangean și Lise Messina Muzică live: Jacopo Greco D’Alceo Tehnician lumini: Melissandre Halbert Interpreți: Alais Marzouvanlian și Chandra Grangean Administrație\, producție: Mélanie Garrabos și Elise Remy / La Feat. Creație muzicală: Martin Malatray-Ravit Design machiaj: Chloé Herouart și Les Idoles Design costume: Lucie Grand Mourcel Perspective externe: Natacha Kierbel și Tom Grand Mourcel Asistență compoziție: Jacopo Greco d’Alceo Design lumini și decor: Johanna Thomas Credite foto și video: Tom Grand Mourcel Producție: La Feat. Coproducție: CCN d’Orléans; Ciné-Théâtre de Saint Chély d’Apcher; La Place de la Danse – CDCN de Toulouse.Rezidențe: HONOLULU; LA BRIQUETERIE – CDCN du Val-de-Marne; Maison de la danse\, Lyon – Pôle européen de création și NTH8; Le Velvet Moon; CCN de Nantes; Le Quartz de Saint-Chély d’Apcher; Danse Dense; Aerowaves Twenty24. Sprijin: Ministerul Culturii – DRAC Auvergne-Rhône-Alpes pentru ajutorul la proiect; Les Ateliers Medicis (creație în curs); Point Éphémère; Maison de la danse\, Lyon – Pôle européen de création și NTH8. Les Idoles face parte dintre artiștii Aerowaves Twenty24.\nAcest spectacol este prezentat cu sprijinul Institutului Francez din România\, al Institutului Francez din Serbia și al Teatroskop\, un program inițiat de Ministerul Francez pentru Europa și Afaceri Externe\, Ministerul Culturii din Franța și Institut Francez Paris.\n\n Evenimentul face parte din proiectul cultural Festivalul de Dans Contemporan CONNECT\, ediția a 4-a\, organizat de Asociația Delazero\, co-finanțat de Administrația Fondului Cultural Național (AFCN). Proiectul nu reprezintă în mod necesar poziţia Administrației Fondului Cultural Național. AFCN nu este responsabilă de conținutul proiectului sau de modul în care rezultatele proiectului pot fi folosite. Acestea sunt în întregime responsabilitatea beneficiarului finanțării.
URL:https://craiovalive.ro/eveniment/reface-performance-gloriae-art-gallery/
LOCATION:Gloriæ Art Gallery\, Str. Alexandru Macedonski\, Nr. 49\, Craiova\, Dolj\, România
CATEGORIES:Dans,Teatru
ATTACH;FMTTYPE=image/jpeg:https://craiovalive.ro/wp-content/uploads/2025/09/REFACE-–-Performance-@-Gloriae-Art-Gallery.jpg
ORGANIZER;CN="Glori%C3%A6 Art Gallery":MAILTO:office@gloriae.ro
GEO:44.312189;23.8001597
X-APPLE-STRUCTURED-LOCATION;VALUE=URI;X-ADDRESS=Gloriæ Art Gallery Str. Alexandru Macedonski Nr. 49 Craiova Dolj România;X-APPLE-RADIUS=500;X-TITLE=Str. Alexandru Macedonski\, Nr. 49:geo:23.8001597,44.312189
END:VEVENT
END:VCALENDAR