BEGIN:VCALENDAR
VERSION:2.0
PRODID:-//Craiova Live - ECPv6.15.18//NONSGML v1.0//EN
CALSCALE:GREGORIAN
METHOD:PUBLISH
X-ORIGINAL-URL:https://craiovalive.ro
X-WR-CALDESC:Evenimente pentru Craiova Live
REFRESH-INTERVAL;VALUE=DURATION:PT1H
X-Robots-Tag:noindex
X-PUBLISHED-TTL:PT1H
BEGIN:VTIMEZONE
TZID:Europe/Bucharest
BEGIN:DAYLIGHT
TZOFFSETFROM:+0200
TZOFFSETTO:+0300
TZNAME:EEST
DTSTART:20240331T010000
END:DAYLIGHT
BEGIN:STANDARD
TZOFFSETFROM:+0300
TZOFFSETTO:+0200
TZNAME:EET
DTSTART:20241027T010000
END:STANDARD
BEGIN:DAYLIGHT
TZOFFSETFROM:+0200
TZOFFSETTO:+0300
TZNAME:EEST
DTSTART:20250330T010000
END:DAYLIGHT
BEGIN:STANDARD
TZOFFSETFROM:+0300
TZOFFSETTO:+0200
TZNAME:EET
DTSTART:20251026T010000
END:STANDARD
BEGIN:DAYLIGHT
TZOFFSETFROM:+0200
TZOFFSETTO:+0300
TZNAME:EEST
DTSTART:20260329T010000
END:DAYLIGHT
BEGIN:STANDARD
TZOFFSETFROM:+0300
TZOFFSETTO:+0200
TZNAME:EET
DTSTART:20261025T010000
END:STANDARD
END:VTIMEZONE
BEGIN:VEVENT
DTSTART;TZID=Europe/Bucharest:20250908T180000
DTEND;TZID=Europe/Bucharest:20250908T210000
DTSTAMP:20260424T183225
CREATED:20250904T123139Z
LAST-MODIFIED:20250904T123139Z
UID:10009701-1757354400-1757365200@craiovalive.ro
SUMMARY:Caravana Shakespeare - Peste Tot la Craiova
DESCRIPTION:Caravana Shakespeare – Peste Tot se întoarce acasă\, la Craiova!\n\n\nDupă șase luni de drum prin 61 de localități\, în care am umplut piețe\, școli și parcuri cu teatru și voie bună\, revenim acolo unde totul a început: la Craiova\, orașul care ne-a dat aripi și ne-a trimis în lume.\n\n\n 6\, 7 și 8 septembrie\n Începând cu ora 18:00\n Parcarea Promenada Mall Craiova\n\n\nAducem cu noi trei seri pline de energie și emoție:\n Ateliere de teatru\n Recital „Galeria Shakespeare: Sonete Itinerante”\n Spectacolul de comedie „Shakespeare redus”\n\n\n Pe ecranele amplasate în arealul Caravanei veți putea urmări retrospectiva video a celor 61 de localități.\n\n\n Intrarea este liberă – pentru că teatrul e al tuturor și vrem să îl trăim împreună. Rezervă-ți locul gratuit pe: https://caravana.shakespearefestival.online/.\n\n\n După 9.000 de kilometri și peste 10.000 de spectatori\, Craiova devine locul unde închidem această aventură\, dar și locul unde sărbătorim împreună teatrul\, comunitatea și bucuria de a fi.
URL:https://craiovalive.ro/eveniment/caravana-shakespeare-peste-tot-la-craiova/2025-09-08/
LOCATION:Promenada Mall\, Calea Severinului 61\, Craiova\, Dolj\, România
CATEGORIES:Teatru
ATTACH;FMTTYPE=image/jpeg:https://craiovalive.ro/wp-content/uploads/2025/09/Caravana-Shakespeare-Peste-Tot-la-Craiova.jpg
ORGANIZER;CN="Teatrul Na%C8%9Bional Marin Sorescu Craiova":MAILTO:secretariat@tncms.ro
GEO:44.3487242;23.7559265
X-APPLE-STRUCTURED-LOCATION;VALUE=URI;X-ADDRESS=Promenada Mall Calea Severinului 61 Craiova Dolj România;X-APPLE-RADIUS=500;X-TITLE=Calea Severinului 61:geo:23.7559265,44.3487242
END:VEVENT
END:VCALENDAR