BEGIN:VCALENDAR
VERSION:2.0
PRODID:-//Craiova Live - ECPv6.15.18//NONSGML v1.0//EN
CALSCALE:GREGORIAN
METHOD:PUBLISH
X-WR-CALNAME:Craiova Live
X-ORIGINAL-URL:https://craiovalive.ro
X-WR-CALDESC:Evenimente pentru Craiova Live
REFRESH-INTERVAL;VALUE=DURATION:PT1H
X-Robots-Tag:noindex
X-PUBLISHED-TTL:PT1H
BEGIN:VTIMEZONE
TZID:Europe/Bucharest
BEGIN:DAYLIGHT
TZOFFSETFROM:+0200
TZOFFSETTO:+0300
TZNAME:EEST
DTSTART:20240331T010000
END:DAYLIGHT
BEGIN:STANDARD
TZOFFSETFROM:+0300
TZOFFSETTO:+0200
TZNAME:EET
DTSTART:20241027T010000
END:STANDARD
BEGIN:DAYLIGHT
TZOFFSETFROM:+0200
TZOFFSETTO:+0300
TZNAME:EEST
DTSTART:20250330T010000
END:DAYLIGHT
BEGIN:STANDARD
TZOFFSETFROM:+0300
TZOFFSETTO:+0200
TZNAME:EET
DTSTART:20251026T010000
END:STANDARD
BEGIN:DAYLIGHT
TZOFFSETFROM:+0200
TZOFFSETTO:+0300
TZNAME:EEST
DTSTART:20260329T010000
END:DAYLIGHT
BEGIN:STANDARD
TZOFFSETFROM:+0300
TZOFFSETTO:+0200
TZNAME:EET
DTSTART:20261025T010000
END:STANDARD
END:VTIMEZONE
BEGIN:VEVENT
DTSTART;TZID=Europe/Bucharest:20250512T193000
DTEND;TZID=Europe/Bucharest:20250512T210000
DTSTAMP:20260425T051220
CREATED:20250401T194719Z
LAST-MODIFIED:20250401T194719Z
UID:10006058-1747078200-1747083600@craiovalive.ro
SUMMARY:Băieți sensibili
DESCRIPTION:PREMIERA\nMax White\, un bărbat de cincizeci și ceva de ani\, crede că a descoperit elixirul fericirii: își părăsește soția de treizeci de ani pentru o soție-trofeu la jumătatea vârstei sale\, conduce o afacere de succes și are o fiică căsătorită fericit.\nDar viața are alte planuri. Noua soție îl părăsește pentru antrenorul ei de fitness\, partenerul de afaceri îl înșală\, iar fiica sa se confruntă cu probleme în căsnicie.\nÎntr-o întorsătură ironică\, fosta soție\, acum radiantă și plină de viață\, se întâlnește cu un tânăr atrăgător. Max\, în încercarea de a recâștiga ceea ce a pierdut\, se trezește prins într-un carusel de situații comice și neașteptate.\n„Baieti Sensibili” este o comedie spumoasă despre crizele vârstei mijlocii\, alegerile impulsive și încercările (adesea zadarnice) ale bărbaților de a înțelege femeile.\nO poveste care demonstrează că\, uneori\, viața poate fi mai imprevizibilă decât o farsă bine pusă la punct.\nDistributia: Gheorghe Ifrim\, Ionut Ciocia\, Sergiu Costache\, Maria Obretin\, Doina Teodoru\nRegia si Scenariul: Dragos Campan\nScenografia: Maria Dore\nFoto: Serban Mestecaneanu
URL:https://craiovalive.ro/eveniment/baieti-sensibili-2/
LOCATION:Teatrul Național Craiova – Sala Amza Pellea\, Str. A. I. Cuza\, nr. 11\, Craiova\, Dolj\, 200585\, România
CATEGORIES:Teatru
ATTACH;FMTTYPE=image/jpeg:https://craiovalive.ro/wp-content/uploads/2025/04/Baieti-Sensibili.jpg
GEO:44.3186661;23.8003743
X-APPLE-STRUCTURED-LOCATION;VALUE=URI;X-ADDRESS=Teatrul Național Craiova – Sala Amza Pellea Str. A. I. Cuza nr. 11 Craiova Dolj 200585 România;X-APPLE-RADIUS=500;X-TITLE=Str. A. I. Cuza\, nr. 11:geo:23.8003743,44.3186661
END:VEVENT
BEGIN:VEVENT
DTSTART;TZID=Europe/Bucharest:20250513T200000
DTEND;TZID=Europe/Bucharest:20250513T213000
DTSTAMP:20260425T051220
CREATED:20240619T221308Z
LAST-MODIFIED:20250326T113016Z
UID:10006006-1747166400-1747171800@craiovalive.ro
SUMMARY:O noapte furtunoasă
DESCRIPTION:TEATRUL NATIONAL CRAIOVA\n\n\n\nDistribuție:\nMAIA MORGENSTERN – Zița\nMARIUS MANOLE – Rică Venturiano\nCARMEN TĂNASE – Veta\nVLAD ZAMFIRESCU – Chiriac\nMIRCEA RUSU – Nae Ipingescu\nNICULAE URS – Jupân Dumitrache Titircă\nGABRIEL VATAVU – Spiridon\nRegia: VLAD ZAMFIRESCU\nScenografia: IMELDA MANU-JIPA\nAsistent regie: MĂDĂLINA CIUPITU\n\nCapodoperă a geniului caragialian\, „O noapte furtunoasă” este suprema radiografie spumoasă\, dulce-amăruie\, plină de culoare și de savoare a spiritului românesc\, în toate ale sale\, cu bune și… mai (ne)bune. \nÎn noua cheie regizorală propusă de VLAD ZAMFIRESCU\, redescoperim personajele lui Caragiale pentru lumea de azi\, cu parfumul și emoția unei mahalele de demult\, în care răsună muzica lui Jean Moscopol\, și care ne invită să pătrundem\, în arome de mirodenii și mâncare aburindă\, printre schele\, reparații și pisici care-și miorlăie „furtunos” aleanul. \n\n\nÎn acest spațiu pitoresc\, în care tumultul de-afară dă într-un clocot interior de nestăpânit\, bucătăria devine inima mult încercată a universului intim. Jupân Dumitrache\, jucat de NICULAE URS\, este ca un (master)șef al casei și al mesei\, cel care pregătește cu grijă și ambiț mâncarea\, lăsându-l totuși și pe înflăcăratul Ipingescu\, în interpretarea puternică a lui MIRCEA RUSU\, să-și încerce talentele culinaro-politice\, până la a „mânca sfânta Constituțiune”. \nÎn propunerea scenică a formidabilei CARMEN TĂNASE\, Veta este păstrătoarea curățeniei și ordinii\, în această poveste cu iz de fason\, dichis și trădare de mahala\, pe care șiretul și fermecătorul Chiriac\, jucat de VLAD ZAMFIRESCU o conduce cu mult farmec. Asta în timp ce Spiridon (GABRIEL VATAVU/ȘTEFAN RADU) primește cu zâmbetul (prea larg) pe buze toate întâlnirile cu Sf. Niculae\, dat una-două jos din cui. \nÎntr-o partitură absulut surprinzătoare\, MAIA MORGENSTERN este o Zița explozivă și nebunesc de delicioasă\, în vreme ce MARIUS MANOLE construiește un Rică Venturiano bogat în angoase\, care amenință să pulverizeze onoarea de familist\, în timp ce-și negociază\, ridicol și sensibil deopotrivă\, rolul în patria mică\, dar mai ales pe cel în patria mare. \n„Poporul șade la masă” în această montare în care se zugrăvește\, se tencuiește\, se construiește\, se mănâncă și se combate\, și în care toate se amestecă\, de la idei\, la sentimente\, la ingrediente și relații\, dând savoare unei „Nopți furtunoase” cum nu s-a mai văzut până acum. \nUn spectacol alert și surprinzător\, de un comic exploziv\, care te pune pe gânduri\, cu o distribuție excepțională – este „O noapte furtunoasă” despre valori naționale și personale\, despre haz de necaz\, despre patrioți și familiști\, ciocoi și ziariști care combat\, dar mai ales despre iubire\, în formele ei mai mult sau mai puțin… tradiționale. \nScenografia spectaculoasă este semnată de Imelda Manu-Jipa\, costumele-personaj aparțin Mariei Ștefănescu\, iar Mădălina Ciupitu este asistent de regie.
URL:https://craiovalive.ro/eveniment/o-noapte-furtunoasa/2025-05-13/
LOCATION:Teatrul Național Craiova – Sala Amza Pellea\, Str. A. I. Cuza\, nr. 11\, Craiova\, Dolj\, 200585\, România
CATEGORIES:Teatru
ATTACH;FMTTYPE=image/jpeg:https://craiovalive.ro/wp-content/uploads/2024/06/O-noapte-furtunoasa.jpg
GEO:44.3186661;23.8003743
X-APPLE-STRUCTURED-LOCATION;VALUE=URI;X-ADDRESS=Teatrul Național Craiova – Sala Amza Pellea Str. A. I. Cuza nr. 11 Craiova Dolj 200585 România;X-APPLE-RADIUS=500;X-TITLE=Str. A. I. Cuza\, nr. 11:geo:23.8003743,44.3186661
END:VEVENT
BEGIN:VEVENT
DTSTART;TZID=Europe/Bucharest:20250518T190000
DTEND;TZID=Europe/Bucharest:20250518T201000
DTSTAMP:20260425T051220
CREATED:20240618T130833Z
LAST-MODIFIED:20250507T091621Z
UID:10001703-1747594800-1747599000@craiovalive.ro
SUMMARY:ATENA 5 (adaptare Visul unei nopți de vară)
DESCRIPTION:ATENA 5\n\nun spectacol pe texte de William Shakespeare \nRegie\, Scenografie și univers sonor: Laurentiu Tudor \nLight Design: Nikita Teodorescu \nDurata spectacolului: – 1h. 10 min \nData premierei: 21 mai 2024 \nDistribuția: Anca Maria Ilinca \, Raluca Paun \, Bogdan Opranescu\, Valentin Stefan Motroc \, Cătălin-Mihai Miculeasa \n\n\n\n\n„Atena 5” este o comedie inedită ce aduce în prim-plan umorul și spiritul ludic al clasicului shakespearian „Visul unei nopți de vară” Inspirat din scenele meșteșugarilor din piesa originală\, spectacolul își îndreaptă atenția către un grup neașteptat de protagoniști: cinci bătrâni dintr-un azil de bătrâni\, hotărâți să pună în scenă propriul lor spectacol de teatru.\nÎn mijlocul haosului și al amestecului de confuzii comice\, acești bătrâni aduc în viață pasiunea pentru arta dramatică și pentru exprimarea creativă. Cu umor și căldură\, spectacolul ne poartă prin etapele pregătirii lor pentru spectacol\, de la repetiții neconvenționale până la momentele amuzante din culise.\n\n\n\nCronici\nCând spunem Shakespeare\, probabil că avem o imagine în minte\, cel puțin orientativ\, cu care asociem acest nume. Poate o pădure plină de zâne și licurici\, poate regi excentrici și regine impunătoare. Însă\, arta ne învață că nu e bine să avem idei preconcepute\, căci astfel nu ne mai lăsăm surprinși. \nLaurențiu Tudor\, în spectacolul al cărei regie o semnează\, „Atena 5”\, propune un Shakespeare într-un spațiu unde probabil nu ne-am gândi că l-am putea găsi pe autor. La azilul de bătrâni. Pornind de la scena cu meșteșugarii din „Visul unei nopți de vară”\, rezidenții azilului se hotărăsc să-și facă și ei un spectacol al lor\, pe care să-l propună apoi în Festivalul Internațional Shakespeare de la Craiova. Gagul recurent „Hai mai repede că festivalul nu stă după voi”\, alături de trimiterile comice la domnul Boroghină („Să repetăm. Ca și când am fi în fața domnului Boroghină.”)\, insuflă avânt artistic în protagoniștii noștri care abia așteaptă să-și etaleze talentul adormit\, nevalorificat până la venerabila lor vârstă. Niciodată nu e prea târziu să te împrietenești cu scena\, aparent. \nPornind de la castingul pe care-l desfășoară Madam Gutuie (Raluca Păun) la începutul spectacolului (analizând tacticos poze cu actori celebri precum Anthony Hopkins)\, regizorul creează un contrast comic între lentoarea în mișcare a bătrânilor și comportamentul lor infantil. De la glume de puști de liceu\, la fraze ajunse virale cum ar fi „Nu apă.”\, la jocuri de actorie și așa mai departe\, textul shakespearian capătă încet o formă inedită. \nFiecare personaj pare să trimită la o tipologie. Avem cuplul comic\, un fel de Stan și Bran ai azilului\, format din domnul Subțirelu’ (Bogdan Oprănescu) și domnul Flaut (Cătălin Miculeasa). O avem pe domnișoara Fundulea (Valentin Motroc)\, care e orice dar nu domnișoară. De gen sau otherwise\, dacă e să ne luăm după spusele domnului Subțirelu’ și ale domnului Flaut. (Que pentru un alt gag: „Domnișoară pe dracu.”) Madam Gutuie\, regizoarea spectacolului\, întreprinde fiecare acțiune cu voia Domnului și a tuturor sfinților din calendar iar doamna Blându’ (Anca Maria Ghiță) este acea bătrânică firavă\, pentru care așteptarea morții a devenit un laitmotiv. Poate rolul Leului\, care îi este distribuit\, îi va mai insufla o fărâmă de viață. \nDe aici\, textul lui Shakespeare se împletește cu realitatea personajelor de la azil. Cei cinci artiști emergenți ajung la concluzia că doamnele din sală n-ar putea suporta să vadă pe scenă acțiuni grotești precum înjunghierea sau lei dezlănțuiți. Așadar\, trebuie făcut câte un prolog\, zis și disclaimer\, ca să nu ne pască vreun leșin. Madam Gutuie preia inițiativa: „Scoateți o foaie de hârtie”\, fraza care bântuie orice spirit care a călcat vreodată prin școala generală\, iar cei patru actori se pun pe compus. Muzică. Ca să ne arate că sunt mândri posesori atât ai talentului actoricesc\, cât și al unor urechi muzicale desăvârșite (excluzându-l pe domnul Flaut care ne informează că e cam surd)\, cei patru compun prologul din varii sunete care întocmesc o melodie ritmată. Această inserție este o alternativă comică\, făcând trimitere la jocurile de actorie din facultate\, dar funcționează și ca mijloc de alternare a ritmului spectacolului. \nAvem deci valoroasele disclaimere\, câteva panouri (cam de spital)\, pe post de scenografie și la piece de resistance\, un set de tobe. Deci avem spectacol. Pe sfânta scândură pășește Madam Gutuie spre a porni reprezentația. Aceasta binecuvântează începutul cu un cântec bisericesc\, având ca acompaniament pe fundal evlavioasa melodie Du Hast\, de la Rammstein. Emoționant până la lacrimi. Evident\, de la râs. În această notă comică purcede reprezentația. După tot efortul admirabil\, întreprins de acești pensionari curajoși\, reprezentația se termină la înălțime\, cu un dans energic. \nSpectacolul „Atena 5”\, regizat de Laurențiu Tudor\, este o reinterpretare surprinzătoare a textului shakespearian. Echipa jonglează bine cu linia dintre realitatea pensionarilor și realitatea textului lui Shakespeare pe care îl abordează\, împletind veridic cele două planuri. Este un spectacol care își propune să stârnească râsul și reușește cu brio\, atât datorită mijloacelor comice utilizate\, cât și a interpretării actorilor. ( ANDREEA TELEHOI ) https://unatc.ro/devunatc/category/fringe-unatc/page/8/
URL:https://craiovalive.ro/eveniment/atena-5-adaptare-visul-unei-nopti-de-vara/
LOCATION:Teatrul Național Craiova – Sala Atelier\, Str. A. I. Cuza\, nr. 11\, Craiova\, Dolj\, 200585\, România
CATEGORIES:Teatru
ATTACH;FMTTYPE=image/jpeg:https://craiovalive.ro/wp-content/uploads/2024/03/Atena-5.jpg
ORGANIZER;CN="Tipografia":MAILTO:tipografiahub@gmail.com
GEO:44.3186661;23.8003743
X-APPLE-STRUCTURED-LOCATION;VALUE=URI;X-ADDRESS=Teatrul Național Craiova – Sala Atelier Str. A. I. Cuza nr. 11 Craiova Dolj 200585 România;X-APPLE-RADIUS=500;X-TITLE=Str. A. I. Cuza\, nr. 11:geo:23.8003743,44.3186661
END:VEVENT
END:VCALENDAR