BEGIN:VCALENDAR
VERSION:2.0
PRODID:-//Craiova Live - ECPv6.15.18//NONSGML v1.0//EN
CALSCALE:GREGORIAN
METHOD:PUBLISH
X-WR-CALNAME:Craiova Live
X-ORIGINAL-URL:https://craiovalive.ro
X-WR-CALDESC:Evenimente pentru Craiova Live
REFRESH-INTERVAL;VALUE=DURATION:PT1H
X-Robots-Tag:noindex
X-PUBLISHED-TTL:PT1H
BEGIN:VTIMEZONE
TZID:Europe/Bucharest
BEGIN:DAYLIGHT
TZOFFSETFROM:+0200
TZOFFSETTO:+0300
TZNAME:EEST
DTSTART:20240331T010000
END:DAYLIGHT
BEGIN:STANDARD
TZOFFSETFROM:+0300
TZOFFSETTO:+0200
TZNAME:EET
DTSTART:20241027T010000
END:STANDARD
BEGIN:DAYLIGHT
TZOFFSETFROM:+0200
TZOFFSETTO:+0300
TZNAME:EEST
DTSTART:20250330T010000
END:DAYLIGHT
BEGIN:STANDARD
TZOFFSETFROM:+0300
TZOFFSETTO:+0200
TZNAME:EET
DTSTART:20251026T010000
END:STANDARD
BEGIN:DAYLIGHT
TZOFFSETFROM:+0200
TZOFFSETTO:+0300
TZNAME:EEST
DTSTART:20260329T010000
END:DAYLIGHT
BEGIN:STANDARD
TZOFFSETFROM:+0300
TZOFFSETTO:+0200
TZNAME:EET
DTSTART:20261025T010000
END:STANDARD
END:VTIMEZONE
BEGIN:VEVENT
DTSTART;TZID=Europe/Bucharest:20250506T190000
DTEND;TZID=Europe/Bucharest:20250506T203500
DTSTAMP:20260425T051105
CREATED:20231008T144733Z
LAST-MODIFIED:20250213T222712Z
UID:10002993-1746558000-1746563700@craiovalive.ro
SUMMARY:Casa de modă
DESCRIPTION:Casa de modǎ revine în craiova cu o nouǎ reprezentație:\n\nRegie:Mihai Bendeac\nDistribuţie:Mihai BendeacAnca DinicuLiviu PintileasaMihaela TeleoacăVlad DrăgulinGloria GăitanMihaela TrofimovŞerban GeorgeviciLetiţia VlădescuRuxandra Grecu\n\n\n\n\nAUTOR: după Georges Feydeau\n\n\nSCENOGRAFIE: Gabriella Spiridon\n\n\nMUZICĂ: Mihnea Irimia\n\n\nLUMINI: Traian Marin\n\n\nTRADUCERE: Doina Pap[\n\n\nPRODUCĂTOR: SpectacolTM\n\n\nDURATĂ: 1h 35 min fără pauză\n\n\nVÂRSTĂ RECOMANDATĂ: 14+\n\n\n● COSTUME: Hilke Muslim\n● ASISTENȚĂ REGIE: Anca Dragomir
URL:https://craiovalive.ro/eveniment/casa-de-moda/
LOCATION:Teatrul Național Craiova – Sala Amza Pellea\, Str. A. I. Cuza\, nr. 11\, Craiova\, Dolj\, 200585\, România
CATEGORIES:Teatru
ATTACH;FMTTYPE=image/png:https://craiovalive.ro/wp-content/uploads/2023/10/Casa-de-moda-Craiova-2024.png
GEO:44.3186661;23.8003743
X-APPLE-STRUCTURED-LOCATION;VALUE=URI;X-ADDRESS=Teatrul Național Craiova – Sala Amza Pellea Str. A. I. Cuza nr. 11 Craiova Dolj 200585 România;X-APPLE-RADIUS=500;X-TITLE=Str. A. I. Cuza\, nr. 11:geo:23.8003743,44.3186661
END:VEVENT
END:VCALENDAR