BEGIN:VCALENDAR
VERSION:2.0
PRODID:-//Craiova Live - ECPv6.15.18//NONSGML v1.0//EN
CALSCALE:GREGORIAN
METHOD:PUBLISH
X-ORIGINAL-URL:https://craiovalive.ro
X-WR-CALDESC:Evenimente pentru Craiova Live
REFRESH-INTERVAL;VALUE=DURATION:PT1H
X-Robots-Tag:noindex
X-PUBLISHED-TTL:PT1H
BEGIN:VTIMEZONE
TZID:Europe/Bucharest
BEGIN:DAYLIGHT
TZOFFSETFROM:+0200
TZOFFSETTO:+0300
TZNAME:EEST
DTSTART:20250330T010000
END:DAYLIGHT
BEGIN:STANDARD
TZOFFSETFROM:+0300
TZOFFSETTO:+0200
TZNAME:EET
DTSTART:20251026T010000
END:STANDARD
BEGIN:DAYLIGHT
TZOFFSETFROM:+0200
TZOFFSETTO:+0300
TZNAME:EEST
DTSTART:20260329T010000
END:DAYLIGHT
BEGIN:STANDARD
TZOFFSETFROM:+0300
TZOFFSETTO:+0200
TZNAME:EET
DTSTART:20261025T010000
END:STANDARD
BEGIN:DAYLIGHT
TZOFFSETFROM:+0200
TZOFFSETTO:+0300
TZNAME:EEST
DTSTART:20270328T010000
END:DAYLIGHT
BEGIN:STANDARD
TZOFFSETFROM:+0300
TZOFFSETTO:+0200
TZNAME:EET
DTSTART:20271031T010000
END:STANDARD
END:VTIMEZONE
BEGIN:VEVENT
DTSTART;TZID=Europe/Bucharest:20260422T210000
DTEND;TZID=Europe/Bucharest:20260422T223000
DTSTAMP:20260424T171737
CREATED:20240128T112016Z
LAST-MODIFIED:20260220T220507Z
UID:10013020-1776891600-1776897000@craiovalive.ro
SUMMARY:Hamlet
DESCRIPTION:Distribuția\nVlad Udrescu\nRamona Drăgulescu\nClaudiu Mihail\nTheodora Bălan\nRaluca Păun\nEugen Titu\nCătălin Vieru\nMarian Politic\nAngel Rababoc\nCostinela Ungureanu\nMircea Mogoșeanu\nFlavia Hojda\nAlex Stoicescu\nDarko Huruială\nMihnea Presură \nDe: William SHAKESPEARE \nTraducere text: George VOLCEANOV \nRegia artistică și adaptarea scenică: Declan DONNELLAN \nScenografia: Nick ORMEROD \nAsistent regie: Laurențiu TUDOR \nAsistent scenografie: Adelina GALICEANU \nMuzica: Tibor CÁRI \nAsistență mișcare scenică: Gloria BUCĂTARU \nLupte scenice – scrimă: Antonie MIHAIL \nSunet: George UDREA\, Dan FENEȘAN \nLumini: Dodu ISPAS\, Marian TUDORACHE\, Alina MITRACHE \nRegia tehnică: Cristian Norel PETEC / Sorin GRUIA \nSufleur: Adrian ȚÎRCĂ \nProducător: Claudia GORUN \nGrafică afiș: Denisa NEAȚU \nDistribuția: Hamlet (Vlad Udrescu)\, Claudius (Claudiu Mihail)\, Gertrude (Ramona Drăgulescu)\, Ofelia (Flavia Hojda\, Theodora Bălan)\, Polonius (Raluca Păun)\, Laertes (Alex Stoicescu)\, Fantoma (Eugen Titu)\, Rosencrantz (Cătălin Vieru)\, Guildenstern (Darko Huruială)\, Gropar 1/Al treilea actor din piesă (Marian Politic)\, Regele din piesă/Preotul (Angel Rababoc)\, Regina din piesă/Gropar 2 (Costinela Ungureanu)\, Străjer 1 (Mircea Mogoșeanu)\, Străjer 2 (Mihnea Presură) \nData premierei: 22\, 23\, 24 februarie 2024 \nEste adesea trecut cu vederea faptul că Shakespeare a transformat patru dintre cele mai plictisitoare cuvinte din limba engleză în cea mai faimoasă replică din teatrul universal\, „A fi sau a nu fi”. Cum poate ceva atât de abstract să rezoneze în atâtea culturi și epoci? Unii spun că răspunsul este simplu: „a fi!” Mai degrabă decât să ne întrebăm despre existență\, întrebări care sunt fără răspuns\, ar trebui să îmbrățișăm pur și simplu viața și să mergem mai departe. \nÎntrebarea continuă să bântuie mulți oameni\, inclusiv pe mine. Importanța sa rezidă în necunoscutul ‘de ce’. Această întrebare a bântuit filosofii mult înainte de Socrate. Unii își pun întrebarea\, în timp ce alții argumentează că\, deoarece nu există un răspuns\, nu are sens să o adreseze. \nUneori facem lucruri fără sens\, lucruri cu adevărat cumplite\, fără aparent niciun motiv sau beneficiu. Și alergăm în jurul nostru în disperare\, întrebând „De ce?! De ce?!” Oamenii sunt singurele animale care pot fi irațional de crude\, care pot săvârși acte spectaculoase de violență atât asupra lor\, cât și asupra altor persoane. \nPoate că acest lucru este legat de faptul că oamenii sunt singurele ființe care își pot pune la îndoială propria existență. Uneori\, oamenii fac lucruri minunate sau îngrozitoare doar pentru a dovedi că existăm. \nDilema lui Hamlet încarnează această luptă. Dar nu direct\, ci enigmatic\, ca o fantomă în jurul coridoarelor întunecate de la Elsinore. \nDeclan Donnellan
URL:https://craiovalive.ro/eveniment/hamlet/2026-04-22/2/
LOCATION:Teatrul Național Craiova – Sala Amza Pellea\, Str. A. I. Cuza\, nr. 11\, Craiova\, Dolj\, 200585\, România
CATEGORIES:Teatru
ATTACH;FMTTYPE=image/jpeg:https://craiovalive.ro/wp-content/uploads/2024/01/Hamlet-TNCMS.jpg
ORGANIZER;CN="Teatrul Na%C8%9Bional Marin Sorescu Craiova":MAILTO:secretariat@tncms.ro
GEO:44.3186661;23.8003743
X-APPLE-STRUCTURED-LOCATION;VALUE=URI;X-ADDRESS=Teatrul Național Craiova – Sala Amza Pellea Str. A. I. Cuza nr. 11 Craiova Dolj 200585 România;X-APPLE-RADIUS=500;X-TITLE=Str. A. I. Cuza\, nr. 11:geo:23.8003743,44.3186661
END:VEVENT
BEGIN:VEVENT
DTSTART;TZID=Europe/Bucharest:20260423T170000
DTEND;TZID=Europe/Bucharest:20260423T190000
DTSTAMP:20260424T171737
CREATED:20250227T163531Z
LAST-MODIFIED:20260204T100628Z
UID:10005536-1776963600-1776970800@craiovalive.ro
SUMMARY:Recitindu-l pe Shakespeare - Recital Emil Boroghină
DESCRIPTION:„Recitindu-l pe Eminescu. La steaua care-a răsărit” – Recital Emil Boroghină \n„Recitindu-l pe Eminescu. La steaua care-a răsărit” – spectacol mult apreciat pe care actorul Emil Boroghină l-a susținut în România\, dar și în Belgia\, China\, Germania\, Italia\, Cehia\, Canada\, Ungaria\, Grecia\, SUA. \nDin repertoriu fac parte poemele: Copii eram noi amândoi…\, O\, rămâi\, Fiind băiet păduri cutreieram\, Floare albastră\, Epistolă către Chibici\, Venere şi Madonă\, Epigonii\, Cugetările Sărmanului Dionis\, Din valurile vremii…\, Dorinţa\, Dormi\, Atât de fragedă…\, De ce nu-mi vii…\, Departe sunt de tine\, Peste vârfuri\, Dintre sute de catarge\, Glossa\, Cărţile\, Viaţa\, Scrisoarea I\, Scrisoarea II\, Scrisoarea III\, Scrisoarea IV\, Scrisoarea V\, Luceafărul\, Odă (în metru antic)\, Trecut-au anii\, Mai am un singur dor\, Memento mori. \n\nEmil Boroghină: \n„… poezia lui Eminescu este o obsesie de viaţă şi chiar ultimul meu recital pe care l-am realizat la Tel Aviv din poezia de dragoste a lumii\, de fapt „Dragostea la senectute. Mai tare decât moartea e iubirea …”\, se încheia tot cu trei sonete din Eminescu. Era celebrul poem biblic Cântarea Cântărilor cu care începeam poate cea mai frumoasă pagină de poezie de dragoste a lumii\, după aceea treceam la epoca Renaşterii\, la Dante şi la Ronsard şi Shakespeare\, de fapt erau Dante\, Petrarca\, Michelangelo\, Ronsard\, Shakespeare şi Eminescu şi mă bucur că încheiam cu sonetele lui Mihai Eminescu.” \nMarius Dobrin: \n„Bijutierul Emil Boroghină\, probând acum\, pe lângă dragostea pentru această artă\, îndelunga răbdare în a-și rostui cuvânt lângă cuvânt\, este surprinzător noua generație. Îmi pare semnificativă uimirea unui realizator al unei emisiuni\, la Radio Guerilla\, care după șiruri de tineri actori inivitați într-un format dedicat poeziei\, a descoperit mobilitatea sprintenă a lui Emil Boroghină prin universul liric: totul din memorie! Această uimire a omului de radio spune multe despre o anume caracteristică a prezentului.  Altfel\, contemporani cu o legendă\, putem lua aminte la silueta omului care iese pe poarta casei sale cu grădină\, pornește cu pas chibzuit\, cu capul ușor plecat\, înspre teatru. Totdeauna spre Teatru.” \nIolanda Mănescu: \nÎn 25 septembrie\, în condițiile vitrege ale straniului an 2020\, Emil Boroghină a marcat începutul stagiunii teatrale cu recitalul său „Cântarea Cântărilor” inaugurând în acest fel Teatrul Poesis\, un alt vis împlinit al acestui temerar deschizător de drumuri. Planetele s-au aliniat atunci\, astfel încât\, pentru foarte puțin timp\, s-a permis redeschiderea teatrelor. Momentul a fost plin de magie. Fanta în timp s-a deschis atâta cât să se poată îndeplini\, în anul 80 al existenței împătimitului actor\, dorința sa înfiripată încă de la primii săi pași în teatru. Spectacolul a fost un adevărat omagiu adus Poeziei\, el cuprinzând\, în prima parte\, poemul biblic „A Cântărilor lui Solomon Cântare”\, iar în cea de a doua parte sonete de Dante\, Petrarca\, Michelangelo\, Ronsard\, Shakespeare și Eminescu\, sub titlul „Oricărui suflet cărui domn e dorul”. \nDesigur că Emil Boroghină a gândit inaugurarea Teatrului de Poezie cu acest recital cu mult timp înainte\, când pregătea și programul pe o perioadă mai lungă. Așa cum el fusese cel care\, în toamna lui 2020\, deschisese stagiunea teatrală\, nu a fost\, credem\, deloc întâmplător ca neobositul Emil Boroghină să fie cel care a inaugurat și noul an 2021 prezentând\, pe 15 ianuarie\, în cadrul Teatrului Poesis\, recitalul său „Recitindu-l pe Eminescu… La steaua care-a răsărit”\, marcând astfel ziua de naștere a poetului și sărbătorind totodată Ziua Culturii Naționale\, îndeplinind o datorie de onoare a oricărui teatru național. Atmosfera a fost cu adevărat miraculoasă – pe scena mare a teatrului\, complet lipsită de decoruri\, drapată în negru\, Emil Boroghină\, aureolat de o lumină ce sporea taina oficierii\, a ținut\, preț de două ore\, întreaga sală cu respirația tăiată\, cufundată în frumusețea versului eminescian.
URL:https://craiovalive.ro/eveniment/recitindu-l-pe-shakespeare-recital-emil-boroghina/
LOCATION:Teatrul Național Craiova – Sala Atelier\, Str. A. I. Cuza\, nr. 11\, Craiova\, Dolj\, 200585\, România
CATEGORIES:Teatru
ATTACH;FMTTYPE=image/webp:https://craiovalive.ro/wp-content/uploads/2025/02/Recitindu-l-pe-Shakespeare-Recital-Emil-Boroghina.webp
ORGANIZER;CN="Teatrul Na%C8%9Bional Marin Sorescu Craiova":MAILTO:secretariat@tncms.ro
GEO:44.3186661;23.8003743
X-APPLE-STRUCTURED-LOCATION;VALUE=URI;X-ADDRESS=Teatrul Național Craiova – Sala Atelier Str. A. I. Cuza nr. 11 Craiova Dolj 200585 România;X-APPLE-RADIUS=500;X-TITLE=Str. A. I. Cuza\, nr. 11:geo:23.8003743,44.3186661
END:VEVENT
END:VCALENDAR