BEGIN:VCALENDAR
VERSION:2.0
PRODID:-//Craiova Live - ECPv6.15.18//NONSGML v1.0//EN
CALSCALE:GREGORIAN
METHOD:PUBLISH
X-WR-CALNAME:Craiova Live
X-ORIGINAL-URL:https://craiovalive.ro
X-WR-CALDESC:Evenimente pentru Craiova Live
REFRESH-INTERVAL;VALUE=DURATION:PT1H
X-Robots-Tag:noindex
X-PUBLISHED-TTL:PT1H
BEGIN:VTIMEZONE
TZID:Europe/Bucharest
BEGIN:DAYLIGHT
TZOFFSETFROM:+0200
TZOFFSETTO:+0300
TZNAME:EEST
DTSTART:20240331T010000
END:DAYLIGHT
BEGIN:STANDARD
TZOFFSETFROM:+0300
TZOFFSETTO:+0200
TZNAME:EET
DTSTART:20241027T010000
END:STANDARD
BEGIN:DAYLIGHT
TZOFFSETFROM:+0200
TZOFFSETTO:+0300
TZNAME:EEST
DTSTART:20250330T010000
END:DAYLIGHT
BEGIN:STANDARD
TZOFFSETFROM:+0300
TZOFFSETTO:+0200
TZNAME:EET
DTSTART:20251026T010000
END:STANDARD
BEGIN:DAYLIGHT
TZOFFSETFROM:+0200
TZOFFSETTO:+0300
TZNAME:EEST
DTSTART:20260329T010000
END:DAYLIGHT
BEGIN:STANDARD
TZOFFSETFROM:+0300
TZOFFSETTO:+0200
TZNAME:EET
DTSTART:20261025T010000
END:STANDARD
END:VTIMEZONE
BEGIN:VEVENT
DTSTART;TZID=Europe/Bucharest:20250602T200000
DTEND;TZID=Europe/Bucharest:20250602T213000
DTSTAMP:20260424T213929
CREATED:20231003T205648Z
LAST-MODIFIED:20250305T183720Z
UID:10001090-1748894400-1748899800@craiovalive.ro
SUMMARY:Tache\, Ianke și Cadâr
DESCRIPTION:Tache\, Ianke şi Cadâr\nAUTOR: Victor Ion Popa\nREGIE: Horațiu Mălăele\nSCENOGRAFIE: Maria Miu\nMUZICĂ: George Marcu\nLUMINI: Grigore Andrei Mihai\nPRODUCĂTOR: Bulandra-CortinaAG-SpectacolTM\nDURATĂ: 1h 30 min fără pauză \nScrisă în 1932\, piesa Tache\, Ianke şi Cadâr a trecut proba timpului şi a devenit unul dintre cele mai populare şi mai montate texte interbelice din literatura dramatică românească. Povestea celor trei mici negustori – un român\, un evreu şi un turc – a căror tihnă monotonă e tulburată de o dilemă de ordin personal\, redefineşte relațiile interetnice şi\, în profunzime\, cele interumane. Tache\, Ianke şi Cadâr formulează întrebări şi propune răspunsuri actuale într-o manieră plină de umor\, în care slăbiciunile umane sunt tratate cu o ironică indulgență\, iar posibilitățile de negociere prin înțelegere reciprocă sunt evidențiate cu o inteligență fină.
URL:https://craiovalive.ro/eveniment/tache-ianke-si-cadar/
LOCATION:Teatrul Național Craiova – Sala Amza Pellea\, Str. A. I. Cuza\, nr. 11\, Craiova\, Dolj\, 200585\, România
CATEGORIES:Teatru
ATTACH;FMTTYPE=image/jpeg:https://craiovalive.ro/wp-content/uploads/2023/10/Tache-Ianke-si-Cadar-Craiova-2025.jpg
GEO:44.3186661;23.8003743
X-APPLE-STRUCTURED-LOCATION;VALUE=URI;X-ADDRESS=Teatrul Național Craiova – Sala Amza Pellea Str. A. I. Cuza nr. 11 Craiova Dolj 200585 România;X-APPLE-RADIUS=500;X-TITLE=Str. A. I. Cuza\, nr. 11:geo:23.8003743,44.3186661
END:VEVENT
BEGIN:VEVENT
DTSTART;TZID=Europe/Bucharest:20250603T170000
DTEND;TZID=Europe/Bucharest:20250603T183000
DTSTAMP:20260424T213929
CREATED:20241127T121027Z
LAST-MODIFIED:20250402T215506Z
UID:10002928-1748970000-1748975400@craiovalive.ro
SUMMARY:Privește înapoi cu mânie
DESCRIPTION:PREMIERĂ la Teatrul Național „Marin Sorescu” din Craiova!\n\n\n „Privește înapoi cu mânie” de John Osborne – regia Alexandru Boureanu\n Sala Atelier\n\n\n O poveste despre iubire\, clasă socială și conflicte personale!\n\nPrivește înapoi cu mânie prezintă povestea unui tânăr cuplu\, Alison și Jimmy Porter\, care se străduiesc să facă față conflictelor de clasă și să navigheze printr-o căsnicie în declin în Anglia anilor ’50. Alison provine dintr-o familie de clasă superioară\, în timp ce Jimmy\, deși bine educat\, are rădăcini în clasa muncitoare. Conflictul dintre cele două universuri sociale are un impact profund asupra relației lor\, generând tensiuni și neînțelegeri. Spectacolul explorează teme precum diviziunile sociale\, frustrările personale și dificultățile de comunicare într-o căsnicie în care iubirea și resentimentele coexistă. Drama subliniază provocările aduse de statutul social și așteptările culturale\, reflectând complexitatea relațiilor interumane în contextul istoric al epocii.\n\n\n\n Distribuția:\nElena Ianichi\, Adrian Tudor\, Nadina Urs\, Lucian Vlăsceanu\n\n\nAsistență regie: Roxana Mutu\nDecor: Alina Chervase\nCostume: Adelina Galiceanu\nProducător delegat: Claudia Gorun\n\n\n Spectacol realizat în parteneriat cu Departamentul de Arte și Media al Facultății de Litere\, Universitatea din Craiova.\n\nDurată spectacol: 100 minute
URL:https://craiovalive.ro/eveniment/priveste-inapoi-cu-manie/
LOCATION:Teatrul Național Craiova – Sala Atelier\, Str. A. I. Cuza\, nr. 11\, Craiova\, Dolj\, 200585\, România
CATEGORIES:Teatru
ATTACH;FMTTYPE=image/jpeg:https://craiovalive.ro/wp-content/uploads/2024/11/Priveste-inapoi-cu-manie-TNCMS-1.jpg
ORGANIZER;CN="Teatrul Na%C8%9Bional Marin Sorescu Craiova":MAILTO:secretariat@tncms.ro
GEO:44.3186661;23.8003743
X-APPLE-STRUCTURED-LOCATION;VALUE=URI;X-ADDRESS=Teatrul Național Craiova – Sala Atelier Str. A. I. Cuza nr. 11 Craiova Dolj 200585 România;X-APPLE-RADIUS=500;X-TITLE=Str. A. I. Cuza\, nr. 11:geo:23.8003743,44.3186661
END:VEVENT
BEGIN:VEVENT
DTSTART;TZID=Europe/Bucharest:20250603T190000
DTEND;TZID=Europe/Bucharest:20250603T203000
DTSTAMP:20260424T213929
CREATED:20241006T171039Z
LAST-MODIFIED:20250511T201302Z
UID:10003652-1748977200-1748982600@craiovalive.ro
SUMMARY:Micul prinț
DESCRIPTION:„Ceea ce contează cu adevărat nu putem înțelege decât cu inima”.\nOana Pellea și Lari Griorgescu într-un turneu național cu MICUL PRINȚ de Antoine de Saint-Exupery.\nUn spectacol care vorbește despre Iubire și Viața\, despărțire și regăsire\, responsabilitate și generozitate. Un spectacol plin de candoare și umor.\n„Toți oamenii mari au fost cândva copii…dar doar câțiva dintre ei își mai amintesc”\nO poveste ca un drum de reîntoarcere către sine\, către ce este cu adevărat important în viață!\nUn spectacol pentru oameni mari!\nUn spectacol pentru copilul din TINE!\neveniment omagial dedicat împlinirii a 80 de ani de la dispariția autorului\nSpectacolul se împlinește prin scenografia lui Vladimir Turturică și muzica lui Adrian Nour.\nVideoproiecție – Constantin Șimon\nAfiș – Răcoreanu Ionuț\nFoto – Adi Bulboacă \nSponsor Principal: BRD\nTurneu Organizat de SpectacolTM\nProducție Asociația Goong
URL:https://craiovalive.ro/eveniment/micul-print/
LOCATION:Teatrul Național Craiova – Sala Amza Pellea\, Str. A. I. Cuza\, nr. 11\, Craiova\, Dolj\, 200585\, România
CATEGORIES:Teatru
ATTACH;FMTTYPE=image/jpeg:https://craiovalive.ro/wp-content/uploads/2024/10/Micul-Print-Oana-Pellea-si-Lari-Giorgescu.jpg
GEO:44.3186661;23.8003743
X-APPLE-STRUCTURED-LOCATION;VALUE=URI;X-ADDRESS=Teatrul Național Craiova – Sala Amza Pellea Str. A. I. Cuza nr. 11 Craiova Dolj 200585 România;X-APPLE-RADIUS=500;X-TITLE=Str. A. I. Cuza\, nr. 11:geo:23.8003743,44.3186661
END:VEVENT
BEGIN:VEVENT
DTSTART;TZID=Europe/Bucharest:20250607T180000
DTEND;TZID=Europe/Bucharest:20250607T190000
DTSTAMP:20260424T213929
CREATED:20231101T122101Z
LAST-MODIFIED:20250527T180632Z
UID:10003285-1749319200-1749322800@craiovalive.ro
SUMMARY:Fata babei și fata moșneagului
DESCRIPTION:Spectacolul „Fata babei și fata moșneagului“\, dramatizare de Valentin Dobrescu după Ion Creangă\, regia Todor Valov\, scenografia Stefka Kyuvlieva\, muzica Alin Macovei – Moraru. În distribuție: Oana Stancu\, Alis Ianoş\, Geo Dinescu\, Ionica Dobrescu\, Marin Fagu\, Adriana Ioncu\, Daniel Mirea.\n\nÎn timpul spectacolului se folosesc lumini stroboscop. \nSpectacolul „Fata babei şi fata moşneagului“ le reaminteşte copiilor minunata poveste a lui Ion Creangă despre cum să creşti frumos fiind bun\, harnic şi ascultător. Cei mici sunt fascinaţi de păpuşile în mărime naturală și de decorurile inspirate din viaţa comunităţii rurale. Se bucură de întâlnirea cu fata blândă\, cu suflet milostiv\, care primește răsplată pentru faptele ei bune. Nu același lucru se întâmplă când în scenă apare fata babei\, personajul căruia îi vine de hac propria-i răutate. \n\n Preț: 13 lei / pers.\n Biletele se pot procura de la Agenția Teatrului Colibri\, de luni până sâmbătă\, între orele 10:00 – 13:00 / 16:00 – 19:00\, iar duminica\, între 10:00 – 13:00. Mai multe informații se pot obține la tel.: 0251.412.473.
URL:https://craiovalive.ro/eveniment/fata-babei-si-fata-mosneagului/
LOCATION:Teatrul pentru copii și tineret Colibri\, Calea București\, nr. 56\, Craiova\, Dolj\, România
CATEGORIES:Evenimente pentru copii,Teatru
ATTACH;FMTTYPE=image/jpeg:https://craiovalive.ro/wp-content/uploads/2023/11/Teatrul-pentru-Copii-si-Tineret-Colibri-Program-spectacole-iunie-2025.jpg
ORGANIZER;CN="Teatrul pentru copii si tineret Colibri":MAILTO:contact@teatrulcolibri.ro
GEO:44.3151148;23.8215842
X-APPLE-STRUCTURED-LOCATION;VALUE=URI;X-ADDRESS=Teatrul pentru copii și tineret Colibri Calea București nr. 56 Craiova Dolj România;X-APPLE-RADIUS=500;X-TITLE=Calea București\, nr. 56:geo:23.8215842,44.3151148
END:VEVENT
BEGIN:VEVENT
DTSTART;TZID=Europe/Bucharest:20250607T190000
DTEND;TZID=Europe/Bucharest:20250607T203000
DTSTAMP:20260424T213929
CREATED:20250402T215803Z
LAST-MODIFIED:20250428T175404Z
UID:10006077-1749322800-1749328200@craiovalive.ro
SUMMARY:Miroase a pradă
DESCRIPTION:Distribuția\nRaluca Păun\nRamona Drăgulescu\nRomaniţa Ionescu\nClaudiu Mihail\nMarian Politic\nAlex Calangiu \nde Michele Lowe \nRegia: Alexandru Boureanu \nTraducerea: Ramona Drăgulescu \nDecor: Vlad Drăgulescu \nCostume: Lia Dogaru \nSufleor: Anca Maria Ilinca \nData premierei: 08 Decembrie 2018 \nDurata: 90 min. \nGenul spectacolului: Comedie neagră \nSinopsis:\nDacă ai putea să-ți omori soțul\, ai face-o? Da\, cu condiția să poți păstra secretul. Doar ești femeie… Miroase a pradă este o comedie neagră cu evidente accente feministe\, unde trei neveste\, Nicky\, Molly și Debra\, sunt tentate de ideea să își ucidă bărbații plictisitori\, înșelători și machiști și chiar au șansa de a face asta. Când iubirea a devenit rutină\, realitatea impune instrumente adevărate de reacție. Replicile sunt tăioase și atent construite\, conducând scenariul dramatic către o reprezentare viguroasă\, energică și cu mare succes la public \nCronici:\n„Titlul original este Smell of the Kill și această comedie neagră chiar cu așa ceva operează. Miroase a pradă este un spectacol declarat „comedie neagră”\, dar care\, în fapt\, este un model de teatru social\, prin recursul la nivelul secund\, cu mesaj remanent\, dincolo de hohotul de râs și de emoția poveștilor.” \nMarius Dobrin\, Noi\, prădătorii\, revista SpectActor\, nr. 1/2019
URL:https://craiovalive.ro/eveniment/miroase-a-prada/2025-06-07/
LOCATION:Teatrul Național Craiova – Sala Atelier\, Str. A. I. Cuza\, nr. 11\, Craiova\, Dolj\, 200585\, România
CATEGORIES:Teatru
ATTACH;FMTTYPE=image/png:https://craiovalive.ro/wp-content/uploads/2025/04/Miroase-a-prada-TNCMS.png
ORGANIZER;CN="Teatrul Na%C8%9Bional Marin Sorescu Craiova":MAILTO:secretariat@tncms.ro
GEO:44.3186661;23.8003743
X-APPLE-STRUCTURED-LOCATION;VALUE=URI;X-ADDRESS=Teatrul Național Craiova – Sala Atelier Str. A. I. Cuza nr. 11 Craiova Dolj 200585 România;X-APPLE-RADIUS=500;X-TITLE=Str. A. I. Cuza\, nr. 11:geo:23.8003743,44.3186661
END:VEVENT
BEGIN:VEVENT
DTSTART;TZID=Europe/Bucharest:20250610T190000
DTEND;TZID=Europe/Bucharest:20250610T210000
DTSTAMP:20260424T213929
CREATED:20250331T164151Z
LAST-MODIFIED:20250331T164151Z
UID:10006043-1749582000-1749589200@craiovalive.ro
SUMMARY:E vremea să ne întâlnim!
DESCRIPTION:Pe 10 Iunie 2025\, iubitorii teatrului de revistă sunt invitați la un eveniment de excepție\, găzduit de Teatrul Național “Marin Sorescu”\, Craiova – „E vremea să ne întâlnim!” promite o seară spectaculoasă\, plină de umor\, muzică de calitate și momente artistice impresionante.\n\n\nSpectacolul îi aduce în prim-plan pe Vasile Muraru și Valentina Fătu\, doi dintre cei mai îndrăgiți actori de comedie ai scenei românești. Cu umor inconfundabil și momente savuroase\, aceștia vor transforma seara într-o adevărată sărbătoare a râsului și bunei dispoziții. \nPublicul va avea ocazia să se bucure și de prezența inegalabilului Gabriel Dorobanțu\, ale cărui șlagăre nemuritoare vor aduce emoție și nostalgie în inimile spectatorilor. Cei prezenți vor fi purtați într-o călătorie muzicală de neuitat\, unde celebrul refren „Hai\, vino iar în gara noastră mică…” va răsuna într-o atmosferă plină de sensibilitate și farmec. \nSpectacolul va fi completat de Baletul Teatrului de Revistă\, care va aduce pe scenă momente coregrafice elegante\, costume spectaculoase și o energie aparte\, contribuind la strălucirea acestui eveniment. \n„E vremea să ne întâlnim!” este mai mult decât un spectacol – este o experiență artistică unică\, o ocazie rară de a vedea pe aceeași scenă artiști consacrați\, momente comice de excepție și muzică de suflet. \nO seară specială\, de neratat\, dedicată celor care iubesc teatrul de revistă\, comedia autentică și muzica de calitate!
URL:https://craiovalive.ro/eveniment/e-vremea-sa-ne-intalnim/
LOCATION:Teatrul Național Craiova – Sala Amza Pellea\, Str. A. I. Cuza\, nr. 11\, Craiova\, Dolj\, 200585\, România
CATEGORIES:Teatru
ATTACH;FMTTYPE=image/png:https://craiovalive.ro/wp-content/uploads/2025/03/E-vremea-sa-ne-intalnim.png
GEO:44.3186661;23.8003743
X-APPLE-STRUCTURED-LOCATION;VALUE=URI;X-ADDRESS=Teatrul Național Craiova – Sala Amza Pellea Str. A. I. Cuza nr. 11 Craiova Dolj 200585 România;X-APPLE-RADIUS=500;X-TITLE=Str. A. I. Cuza\, nr. 11:geo:23.8003743,44.3186661
END:VEVENT
BEGIN:VEVENT
DTSTART;TZID=Europe/Bucharest:20250612T190000
DTEND;TZID=Europe/Bucharest:20250612T203000
DTSTAMP:20260424T213929
CREATED:20230917T080400Z
LAST-MODIFIED:20250602T063934Z
UID:10002927-1749754800-1749760200@craiovalive.ro
SUMMARY:Face to Face
DESCRIPTION:DISTRIBUȚIA:\nMONICA ARDELEANU\nADRIAN ANDONE\nde Peter Quilter \nRegia: Adrian Andone \nScenografia: Lia Dogaru \nScenariul\, traducerea și adaptarea: Monica Ardeleanu \nMaestru de lumini: Dodu Ispas \nRegizor tehnic: Sorin Gruia / Cristian Petec \nData premierei: 5-6 iunie 2021 / sala Amza Pellea \nDurata spectacolului: 1h 16 min\n*Producția face parte din proiectul 6 spectacole scurte \nPrezentare spectacol:\n\,\,Face to face”\, de Peter Quilter este o comedie spumoasă\, plină de culoare\, fermecătoare\, cu schimbări rapide de stări și situații. Actorii Monica Ardeleanu și Adrian Andone vă propun trei cupluri\, trei povești de dragoste\, trei situații de viață total diferite. \nÎn prima scenă\, Jonathan și Wendy își dau întâlnire pe nevăzute și speră ca măcar de data asta lucrurile să decurgă bine. În a doua scenă\, Angela urmează să se căsătorească\, iar Toby prietenul ei de o viață\, o tachinează vrând ce e mai bun pentru ea. În ultima scenă\, Giuliana și Bobby\, deși încă se iubesc\, decid să divorțeze\, cu toate încurcăturile și răsturnările de situație care derivă din această decizie. \nAutorul acestei comedii excepționale este Peter Quilter\, unul dintre dramaturgii britanici foarte apreciați\, piesele sale fiind jucate în teatre importante din întreaga lume\, de la show-uri pe Broadway\, până la spectacole pe scenele din Londra. \n\,\,Face to face” este un spectacol aparent simplu\, dar foarte solicitant și ofertant pentru cei doi actori care interpretează cu vitalitate\, farmec și umor cele șase personaje ale piesei. O joacă plină de haz\, o redare amuzantă a dragostei\, a relațiilor moderne într-o reprezentație plină de umor. \n  \n„Ieși revigorat și binedispus de la Face to Face\, ușor amuzat de cele trei scene pe care tocmai le-ai lăsat pe „scândură”. Monica Ardeleanu și Adrian Andone joacă trei situații tragi-comice care ne sunt familiare – și tocmai prin asta devin dragi de la primele replici. Piesa lui Quilter este scrisă într-o notă ce nu permite situațiilor neplăcute să devină apăsătoare pentru spectator. Dimpotrivă\, li se conferă acea ușurătate specifică în comedie\, care ne permite să râdem în fața unor situații dificile – și demonstrează încă o dată că râsul este terapeutic.” \nLia Boangiu – Face to face\, SpectActor nr. 2/2021 \nBio autor Peter Quilter:\nPiesele lui Peter Quilter au fost produse în peste 40 de țări din întreaga lume și traduse în 30 de limbi. A avut trei spectacole de succes în West End Londra\, mare succes pe Broadway\, și a fost nominalizat de două ori la Premiul Olivier pentru cea mai bună piesă nouă și cea mai bună comedie nouă. \nPrimul său succes internațional a fost comedia Glorios! – adevărata poveste a lui Florence Foster Jenkins\, cea mai proastă cântăreață din lume. Piesa a avut premiera la Teatrul Duchess din West End Londra și de atunci a fost văzută de peste două milioane de oameni în teatre de pe cinci continente. \nDrama sa muzicală despre Judy Garland\, End of the Rainbow a avut premiera mondială la Opera din Sydney din Australia. Spectacolul a fost jucat sold out în West End Londra înainte de a se transfera la Broadway în 2012\, unde producția a primit nominalizări la trei premii Tony. În 2019\, piesa a fost adaptată pentru filmul Judy\, premiat cu Oscar\, cu Renée Zellweger în rol principal. \nComedia Duets\, cu doi actori\, a fost jucată în 20 de țări de la prima sa producție în Sydney. Populara producție franceză (intitulată Face a Face) a fost difuzată recent live la televiziune la Paris și spectacolul va avea premiera în curând și în Rusia\, Ungaria\, Suedia\, Finlanda și Brazilia. \nCelelalte piese ale sale includ drama 4000 Days\, care a fost produsă la Praga\, Hamburg\, Aachen\, Sao Paulo\, Varșovia și SUA de la debutul de la Londra în 2016. Peter are\, de asemenea\, succes cu mai multe comedii noi\, Actrița (Teatrul Național din Sofia) Bestseller\, cu 3 actori (care a avut premiera la International City Theatre din Los Angeles) și The Hill (care a avut primele sale producții la Praga și Polonia în 2020). \nAlte lucrări includ muzicalul pop Boyband\, care a fost jucat un sezon în West End Londra\, la Varșovia și Amsterdam și a fost jucat la Bratislava timp de peste 10 ani. \nCea mai recentă piesă este comedia cu doi actori Snowbound\, pe care a scris-o anul trecut la casa sa din Spania\, în timpul pandemiei. Spectacolul va avea producții în premieră în mai multe țări în sezonul viitor. \nSite-ul oficial Peter Quilter – www.peterquilter.net
URL:https://craiovalive.ro/eveniment/face-to-face/
LOCATION:Teatrul Național Craiova – Sala Amza Pellea\, Str. A. I. Cuza\, nr. 11\, Craiova\, Dolj\, 200585\, România
CATEGORIES:Teatru
ATTACH;FMTTYPE=image/jpeg:https://craiovalive.ro/wp-content/uploads/2023/09/Face-to-Face.jpg
ORGANIZER;CN="Teatrul Na%C8%9Bional Marin Sorescu Craiova":MAILTO:secretariat@tncms.ro
GEO:44.3186661;23.8003743
X-APPLE-STRUCTURED-LOCATION;VALUE=URI;X-ADDRESS=Teatrul Național Craiova – Sala Amza Pellea Str. A. I. Cuza nr. 11 Craiova Dolj 200585 România;X-APPLE-RADIUS=500;X-TITLE=Str. A. I. Cuza\, nr. 11:geo:23.8003743,44.3186661
END:VEVENT
BEGIN:VEVENT
DTSTART;TZID=Europe/Bucharest:20250616T200000
DTEND;TZID=Europe/Bucharest:20250616T220000
DTSTAMP:20260424T213929
CREATED:20240218T213534Z
LAST-MODIFIED:20250323T203302Z
UID:10001690-1750104000-1750111200@craiovalive.ro
SUMMARY:Fierarii
DESCRIPTION:Fierarii \n Teatrul National „Marin Sorescu” Craiova \nSub diverse titluri piesa “Fierarii” de Milos Nikolic a funcționat în repertoriul mai multor teatre din țară\, dar și de peste hotare. Regizorul spectacolului\, Horațiu Mălăele se pare că e “îndrăgostit” de această piesă în care firește și interpretează rolul principal. \nTextul original al dramaturgului Milos Nikolic\, născut în Kosovo în 1939\, redă povestea unui fierar neamț care după multă vreme descoperă că fiul e copilul unui român. Horațiu Mălăele adaptează subiectul și fierarul Grigorie este un român care descoperă că fiul este copilul ungurului Peter\, acesta află că și fiul său are drept tată pe rusul Ivan\, iar Ivan constată că și fiul său aparține lui \,\,\, Grigorie! Această brambureală genetică este consecința războiului pentru că toți bărbații\, fierari de meserie\, au fost și soldați pe front. Substratul piesei este generos tematic prin sugestii referitoare la consecințele războiului și falsa trâmbițare a naționalismului devenit “doctrină” pentru unele partide europene actuale. Comedia este destoinc scrisă de Mios Nikolic și produce publicului haz de necazul celor trei bărbați de naționalități diferite care constată că fii lor au genetic de fapt\, altă naționalitate. \nAdaptarea prin schimbarea naționalității unor personaje este însă\, șubretă. Soțiile sunt reprezentate în text doar de Matilda\, nevasta românului Grigorie care pledează că femeile nu și-au înșelat soții\, au vrut numai ca breasla fierarilor să aibă urmași. Argumentul Matildei\, dramaturgul îl concepe pe substratul istoric că după agricultori și păstori\, fierarii servesc una din cele mai vechi meserii atestate chiar și în Biblie. Acestea rămân profesiile de bază ale oamenilor simpli. În lumea de astăzi însă\, dorința Matildei de perpetuarea breslei eșuează\, pentru că fii\, spun tații lor\, nu mai sunt fierari\, au ales alte profesii. Adaptarea lui Horațiu Mălăele folosește traducerea semnată de Veronica Lăzăreanu\, abundentă în accente triviale. \nScenografa Maria Miu care a mai ilustrat această piesă și la alt teatru\, cu harul său recunoscut\, construiește pe scenă o fierărie în amănunt prin obiecte specifice meseriei\, completate de cele din gospodăria unor oameni simpli. Decorul este încântător și gândit funcțional pentru diversificarea mișcării scenice. Regizorul Horațiu Mălăele dezvoltă cu umor povestea celor trei bărbați\, as fiind în domeniul comediei. Spectacolul durează o oră și zece minute din care cinci minute se consumă în debutul reprezentației prin căutările lui Grigorie prin fierărie cu lanterna\, pe întuneric firește\, a “ceva”\, aceste căutări absurde nu își găsesc însă\, un rost consolidat în acțiunea ce urmează. \n Remarcabil se achită cei patru actori de personajele care le revin. Maia Morgenstern în Matilda\, soția lui Grigorie\, realizează un rol excelent. Actrița dezvoltă cu credință interioară lupta Matildei de lămurire a soțului\, că nu l-a înșelat în cei patru ani în care el a fost pe front în Rusia\, completată și cu emoția reîntâlnirii cu Peter. Din nou\, Maia Morgenstern demonstrează că este o actriță de rară complexitate și poate aborda credibil\, atât genul comic\, cât și pe cel dramatic. \nHorațiu Mălăele construiește nuanțat personajul Grigorie\, un om simplu care încearcă să deslușească ițele iscate de venirea lui Peter în familia sa. Actorul tratează dramatic situația și evident\, rezultatul e comic. Cu un timid accent maghiar în vorbire\, George Mihăiță îl prezintă pe Peter cum trăiește intens emoția reîntâlnirii cu Matilda\, dar și situația complicată a dezvăluirilor. Intervenția din final a lui Ivan\, e realizată admirabil de Valentin Teodosiu\, prin ținută și susținerea relațiilor cu cei întâlniți. Cei patru actori redau merituos povestea fierarilor destoinici\, oameni simpli cărora războiul le-a lăsat … urme\, ca și multor alți oameni simpli\, trăitori astăzi într-o altă lume\, confuză în manifestări. \n“Fierarii” oferă prilej de comedie publicului care ar trebui să și gândească apoi\, când se mândrește că își are geneza în …  daci și romani. Spectacolul rămâne doar\, un exercițiu reușit de amuzament …
URL:https://craiovalive.ro/eveniment/fierarii/
LOCATION:Teatrul Național Craiova – Sala Amza Pellea\, Str. A. I. Cuza\, nr. 11\, Craiova\, Dolj\, 200585\, România
CATEGORIES:Teatru
ATTACH;FMTTYPE=image/jpeg:https://craiovalive.ro/wp-content/uploads/2024/02/Fierarii.jpg
GEO:44.3186661;23.8003743
X-APPLE-STRUCTURED-LOCATION;VALUE=URI;X-ADDRESS=Teatrul Național Craiova – Sala Amza Pellea Str. A. I. Cuza nr. 11 Craiova Dolj 200585 România;X-APPLE-RADIUS=500;X-TITLE=Str. A. I. Cuza\, nr. 11:geo:23.8003743,44.3186661
END:VEVENT
END:VCALENDAR